BEGIN:VCALENDAR
VERSION:2.0
PRODID:-//Agenda Cofrade 365 Días - ECPv6.3.7//NONSGML v1.0//EN
CALSCALE:GREGORIAN
METHOD:PUBLISH
X-WR-CALNAME:Agenda Cofrade 365 Días
X-ORIGINAL-URL:https://cordobacapitalcofrade.com
X-WR-CALDESC:Eventos para Agenda Cofrade 365 Días
REFRESH-INTERVAL;VALUE=DURATION:PT1H
X-Robots-Tag:noindex
X-PUBLISHED-TTL:PT1H
BEGIN:VTIMEZONE
TZID:UTC
BEGIN:STANDARD
TZOFFSETFROM:+0000
TZOFFSETTO:+0000
TZNAME:UTC
DTSTART:20250101T000000
END:STANDARD
END:VTIMEZONE
BEGIN:VEVENT
DTSTART;TZID=UTC:20251204T190000
DTEND;TZID=UTC:20251206T201500
DTSTAMP:20260421T025747
CREATED:20251127T154333Z
LAST-MODIFIED:20251127T154333Z
UID:7716-1764874800-1765052100@cordobacapitalcofrade.com
SUMMARY:Solemne Triduo de Nuestra Señora de la Palma
DESCRIPTION:Solemne Triduo de Nuestra Señora de la Palma a las 19:30 horas en la Real Parroquia de San Lorenzo Mártir. Previamente a las 19:00 horas rezo del Santo Rosario.
URL:https://cordobacapitalcofrade.com/agenda/solemne-triduo-de-nuestra-senora-de-la-palma-2/
LOCATION:Real Parroquia de San Lorenzo Mártir\, Pl. de San Lorenzo\, 5\, Córdoba\, España
CATEGORIES:Cultos
ATTACH;FMTTYPE=image/jpeg:https://cordobacapitalcofrade.com/wp-content/uploads/2025/11/480351915_640480785162354_6514718694413040650_n.jpg
END:VEVENT
BEGIN:VEVENT
DTSTART;TZID=UTC:20251204T203000
DTEND;TZID=UTC:20251205T213000
DTSTAMP:20260421T025747
CREATED:20251125T175718Z
LAST-MODIFIED:20251125T175718Z
UID:7670-1764880200-1764970200@cordobacapitalcofrade.com
SUMMARY:Solemne Triduo en honor de María Santísima de la Trinidad
DESCRIPTION:Solemne Triduo en honor de María Santísima de la Trinidad\, a las 20:30 horas en la Parroquia de San Juan y Todos los Santos (Trinidad).
URL:https://cordobacapitalcofrade.com/agenda/solemne-triduo-en-honor-de-maria-santisima-de-la-trinidad-2/
LOCATION:Parroquia de la Trinidad\, Plaza de la Trinidad\, Córdoba\, España
CATEGORIES:Cultos
ATTACH;FMTTYPE=image/jpeg:https://cordobacapitalcofrade.com/wp-content/uploads/2025/11/487558041_1069360925225478_7911687991607992581_n.jpg
END:VEVENT
BEGIN:VEVENT
DTSTART;TZID=UTC:20251205T191500
DTEND;TZID=UTC:20251207T201500
DTSTAMP:20260421T025747
CREATED:20251112T130642Z
LAST-MODIFIED:20251112T130642Z
UID:7491-1764962100-1765138500@cordobacapitalcofrade.com
SUMMARY:Solemne Triduo en honor de Nuestra Señora Reina de los Ángeles
DESCRIPTION:Solemne Triduo en honor de Nuestra Señora Reina de los Ángeles\, a las 19:15 horas en la Iglesia Conventual del Santo Ángel (Capuchinos).
URL:https://cordobacapitalcofrade.com/agenda/solemne-triduo-en-honor-de-nuestra-senora-reina-de-los-angeles-2/
LOCATION:Iglesia Conventual del Santo Ángel (Capuchinos)\, Pl. de Capuchinos\, 5\, Córdoba\, España
CATEGORIES:Cultos
ATTACH;FMTTYPE=image/jpeg:https://cordobacapitalcofrade.com/wp-content/uploads/2025/11/487810675_1082295037267798_6931230221045025534_n.jpg
END:VEVENT
BEGIN:VEVENT
DTSTART;TZID=UTC:20251205T193000
DTEND;TZID=UTC:20251207T201500
DTSTAMP:20260421T025747
CREATED:20251120T130137Z
LAST-MODIFIED:20251120T130137Z
UID:7616-1764963000-1765138500@cordobacapitalcofrade.com
SUMMARY:Solemne Triduo en honor de María Santísima de la Concepción
DESCRIPTION:Solemne Triduo en honor de María Santísima de la Concepción\, a las 19:30 horas en la Parroquia de Santiago Apóstol.
URL:https://cordobacapitalcofrade.com/agenda/solemne-triduo-en-honor-de-maria-santisima-de-la-concepcion/
LOCATION:Parroquia de Santiago Apóstol\, C. de Agustín Moreno\, 26\, 14002 Córdoba\, Córdoba\, España
CATEGORIES:Cultos
ATTACH;FMTTYPE=image/jpeg:https://cordobacapitalcofrade.com/wp-content/uploads/2025/11/488795020_1147729047399318_8642297249121172938_n.jpg
END:VEVENT
BEGIN:VEVENT
DTSTART;TZID=UTC:20251205T193000
DTEND;TZID=UTC:20251207T203000
DTSTAMP:20260421T025747
CREATED:20251126T130413Z
LAST-MODIFIED:20251126T130413Z
UID:7679-1764963000-1765139400@cordobacapitalcofrade.com
SUMMARY:Triduo en honor de María Santísima Reina de Nuestra Alegría
DESCRIPTION:Triduo en honor de María Santísima Reina de Nuestra Alegría a las 19:30 horas en la Parroquia de Santa Marina de Aguas Santas.
URL:https://cordobacapitalcofrade.com/agenda/triduo-en-honor-de-maria-santisima-reina-de-nuestra-alegria/
LOCATION:Parroquia de Santa Marina de Aguas Santas\, Pl. de Sta. Marina\, 6\, 14001 Córdoba\, Córdoba\, España
CATEGORIES:Cultos
ATTACH;FMTTYPE=image/jpeg:https://cordobacapitalcofrade.com/wp-content/uploads/2025/11/488494925_1080132210817752_8322025666571822109_n.jpg
END:VEVENT
BEGIN:VEVENT
DTSTART;TZID=UTC:20251205T200000
DTEND;TZID=UTC:20251207T210000
DTSTAMP:20260421T025747
CREATED:20251128T161128Z
LAST-MODIFIED:20251128T161128Z
UID:7746-1764964800-1765141200@cordobacapitalcofrade.com
SUMMARY:Solemne Triduo en honor de la Inmaculada Concepción
DESCRIPTION:Solemne Triduo en honor de la Inmaculada Concepción\, a las 20:00 horas en la Parroquia del Salvador y Santo Domingo de Silos (Compañía).
URL:https://cordobacapitalcofrade.com/agenda/solemne-triduo-en-honor-de-la-inmaculada-concepcion/
LOCATION:Parroquia Salvador y Santo Domingo de Silos (Compañía)\, Pl. de la Compañía\, 7\, Córdoba\, España
CATEGORIES:Cultos
ATTACH;FMTTYPE=image/jpeg:https://cordobacapitalcofrade.com/wp-content/uploads/2025/11/Triduo-Inmaculada-Concepcion-0035-scaled.jpg
END:VEVENT
END:VCALENDAR