BEGIN:VCALENDAR
VERSION:2.0
PRODID:-//Agenda Cofrade 365 Días - ECPv6.3.7//NONSGML v1.0//EN
CALSCALE:GREGORIAN
METHOD:PUBLISH
X-ORIGINAL-URL:https://cordobacapitalcofrade.com
X-WR-CALDESC:Eventos para Agenda Cofrade 365 Días
REFRESH-INTERVAL;VALUE=DURATION:PT1H
X-Robots-Tag:noindex
X-PUBLISHED-TTL:PT1H
BEGIN:VTIMEZONE
TZID:UTC
BEGIN:STANDARD
TZOFFSETFROM:+0000
TZOFFSETTO:+0000
TZNAME:UTC
DTSTART:20260101T000000
END:STANDARD
END:VTIMEZONE
BEGIN:VEVENT
DTSTART;TZID=UTC:20260122T193000
DTEND;TZID=UTC:20260124T201500
DTSTAMP:20260421T024750
CREATED:20260120T141214Z
LAST-MODIFIED:20260120T141214Z
UID:8484-1769110200-1769285700@cordobacapitalcofrade.com
SUMMARY:Solemne Triduo del Milagroso Niño Jesús de Praga
DESCRIPTION:Solemne Triduo del Milagroso Niño Jesús de Praga\, a las 19:30 horas en el Santuario de Nuestra Señora del Carmen.
URL:https://cordobacapitalcofrade.com/agenda/solemne-triduo-del-milagroso-nino-jesus-de-praga/
LOCATION:Parroquia de Nuestra Señora del Carmen\, C. Rd. de Andújar\,23\, Córdoba\, España
CATEGORIES:Cultos
ATTACH;FMTTYPE=image/jpeg:https://cordobacapitalcofrade.com/wp-content/uploads/2026/01/487928162_1072222411606615_3143719876681643307_n.jpg
END:VEVENT
BEGIN:VEVENT
DTSTART;TZID=UTC:20260122T200000
DTEND;TZID=UTC:20260123T211500
DTSTAMP:20260421T024750
CREATED:20260116T144635Z
LAST-MODIFIED:20260116T144635Z
UID:8450-1769112000-1769202900@cordobacapitalcofrade.com
SUMMARY:Solemne Triduo en honor de María Santísima de la Paz y Esperanza Coronada
DESCRIPTION:Solemne Triduo en honor de María Santísima de la Paz y Esperanza Coronada\, a las 20:30 horas en la Iglesia Conventual del Santo Ángel (Capuchinos). Previamente\, a las 20:00 horas\, rezo del Santo Rosario y ejercicio del Triduo.
URL:https://cordobacapitalcofrade.com/agenda/solemne-triduo-en-honor-de-maria-santisima-de-la-paz-y-esperanza-coronada-3/
LOCATION:Iglesia Conventual del Santo Ángel (Capuchinos)\, Pl. de Capuchinos\, 5\, Córdoba\, España
CATEGORIES:Cultos
ATTACH;FMTTYPE=image/jpeg:https://cordobacapitalcofrade.com/wp-content/uploads/2026/01/481665649_980001334265086_6522878249999563686_n.jpg
END:VEVENT
END:VCALENDAR