BEGIN:VCALENDAR
VERSION:2.0
PRODID:-//Agenda Cofrade 365 Días - ECPv6.3.7//NONSGML v1.0//EN
CALSCALE:GREGORIAN
METHOD:PUBLISH
X-WR-CALNAME:Agenda Cofrade 365 Días
X-ORIGINAL-URL:https://cordobacapitalcofrade.com
X-WR-CALDESC:Eventos para Agenda Cofrade 365 Días
REFRESH-INTERVAL;VALUE=DURATION:PT1H
X-Robots-Tag:noindex
X-PUBLISHED-TTL:PT1H
BEGIN:VTIMEZONE
TZID:UTC
BEGIN:STANDARD
TZOFFSETFROM:+0000
TZOFFSETTO:+0000
TZNAME:UTC
DTSTART:20260101T000000
END:STANDARD
END:VTIMEZONE
BEGIN:VEVENT
DTSTART;TZID=UTC:20260125T123000
DTEND;TZID=UTC:20260125T133000
DTSTAMP:20260421T072741
CREATED:20260116T145122Z
LAST-MODIFIED:20260116T145122Z
UID:8455-1769344200-1769347800@cordobacapitalcofrade.com
SUMMARY:Función Principal de María Santísima de la Paz y Esperanza Coronada
DESCRIPTION:Función Principal de María Santísima de la Paz y Esperanza Coronada\, a las 12:30 horas en la Iglesia Conventual del Santo Ángel (Capuchinos). La Misa estará presidida por D. Salvador Aguilera López\, presbítero de la Archidiócesis Primada de Toledo\, oficial de la Santa Sede y consultor del Dicasterio para las Iglesias Orientales.
URL:https://cordobacapitalcofrade.com/agenda/funcion-principal-de-maria-santisima-de-la-paz-y-esperanza-coronada/
LOCATION:Iglesia Conventual del Santo Ángel (Capuchinos)\, Pl. de Capuchinos\, 5\, Córdoba\, España
CATEGORIES:Cultos
ATTACH;FMTTYPE=image/jpeg:https://cordobacapitalcofrade.com/wp-content/uploads/2026/01/481665649_980001334265086_6522878249999563686_n.jpg
END:VEVENT
BEGIN:VEVENT
DTSTART;TZID=UTC:20260125T193000
DTEND;TZID=UTC:20260125T203000
DTSTAMP:20260421T072741
CREATED:20260120T141408Z
LAST-MODIFIED:20260120T141408Z
UID:8487-1769369400-1769373000@cordobacapitalcofrade.com
SUMMARY:Solemne Misa en honor del Milagroso Niño Jesús de Praga
DESCRIPTION:Solemne Misa en honor del Milagroso Niño Jesús de Praga\, a las 19:30 horas en el Santuario de Nuestra Señora del Carmen.
URL:https://cordobacapitalcofrade.com/agenda/solemne-misa-en-honor-del-milagroso-nino-jesus-de-praga/
LOCATION:Santuario de Nuestra Señora del Carmen\, C. Cta. de San Cayetano\, Centro\, 14001 Córdoba\, Córdoba\, España
CATEGORIES:Cultos
ATTACH;FMTTYPE=image/jpeg:https://cordobacapitalcofrade.com/wp-content/uploads/2026/01/487928162_1072222411606615_3143719876681643307_n.jpg
END:VEVENT
END:VCALENDAR