BEGIN:VCALENDAR
VERSION:2.0
PRODID:-//Agenda Cofrade 365 Días - ECPv6.3.7//NONSGML v1.0//EN
CALSCALE:GREGORIAN
METHOD:PUBLISH
X-ORIGINAL-URL:https://cordobacapitalcofrade.com
X-WR-CALDESC:Eventos para Agenda Cofrade 365 Días
REFRESH-INTERVAL;VALUE=DURATION:PT1H
X-Robots-Tag:noindex
X-PUBLISHED-TTL:PT1H
BEGIN:VTIMEZONE
TZID:UTC
BEGIN:STANDARD
TZOFFSETFROM:+0000
TZOFFSETTO:+0000
TZNAME:UTC
DTSTART:20260101T000000
END:STANDARD
END:VTIMEZONE
BEGIN:VEVENT
DTSTART;TZID=UTC:20260214T193000
DTEND;TZID=UTC:20260214T203000
DTSTAMP:20260420T205911
CREATED:20260128T182654Z
LAST-MODIFIED:20260128T182654Z
UID:8605-1771097400-1771101000@cordobacapitalcofrade.com
SUMMARY:Fiesta de Regla de la Hermandad del Cister
DESCRIPTION:Fiesta de Regla de la Hermandad del Cister\, a las 19:30 horas en la Iglesia Conventual del Santo Ángel (Capuchinos). La Eucaristía estará presidida por el Obispo de Córdoba\, D. Jesús Fernández González.
URL:https://cordobacapitalcofrade.com/agenda/fiesta-de-regla-de-la-hermandad-del-cister/
LOCATION:Iglesia Conventual del Santo Ángel (Capuchinos)\, Pl. de Capuchinos\, 5\, Córdoba\, España
CATEGORIES:Cultos
ATTACH;FMTTYPE=image/jpeg:https://cordobacapitalcofrade.com/wp-content/uploads/2026/01/488471936_1084151950415440_3796451451611869969_n.jpg
END:VEVENT
END:VCALENDAR