BEGIN:VCALENDAR
VERSION:2.0
PRODID:-//Agenda Cofrade 365 Días - ECPv6.3.7//NONSGML v1.0//EN
CALSCALE:GREGORIAN
METHOD:PUBLISH
X-ORIGINAL-URL:https://cordobacapitalcofrade.com
X-WR-CALDESC:Eventos para Agenda Cofrade 365 Días
REFRESH-INTERVAL;VALUE=DURATION:PT1H
X-Robots-Tag:noindex
X-PUBLISHED-TTL:PT1H
BEGIN:VTIMEZONE
TZID:UTC
BEGIN:STANDARD
TZOFFSETFROM:+0000
TZOFFSETTO:+0000
TZNAME:UTC
DTSTART:20260101T000000
END:STANDARD
END:VTIMEZONE
BEGIN:VEVENT
DTSTART;TZID=UTC:20260216T193000
DTEND;TZID=UTC:20260221T203000
DTSTAMP:20260420T235248
CREATED:20260216T160242Z
LAST-MODIFIED:20260216T160242Z
UID:8756-1771270200-1771705800@cordobacapitalcofrade.com
SUMMARY:Solemne Septenario de María Santísima en su Soledad
DESCRIPTION:Solemne Septenario de María Santísima en su Soledad\, a las 19:30 horas en la Parroquia de Santa María de Guadalupe (Franciscanos).
URL:https://cordobacapitalcofrade.com/agenda/solemne-septenario-de-maria-santisima-en-su-soledad-3/
LOCATION:Parroquia de Santa María de Guadalupe (Franciscanos)\, Av. del 28 de Febrero\, 3\, Levante\, 14007 Córdoba\, Córdoba\, España
CATEGORIES:Cultos
ATTACH;FMTTYPE=image/jpeg:https://cordobacapitalcofrade.com/wp-content/uploads/2026/02/Septenario-Soledad-0116-1-scaled.jpg
END:VEVENT
BEGIN:VEVENT
DTSTART;TZID=UTC:20260216T200000
DTEND;TZID=UTC:20260220T210000
DTSTAMP:20260420T235248
CREATED:20260209T180249Z
LAST-MODIFIED:20260209T180249Z
UID:8726-1771272000-1771621200@cordobacapitalcofrade.com
SUMMARY:Quinario en honor de Nuestro Padre Jesús del Calvario
DESCRIPTION:Quinario en honor de Nuestro Padre Jesús del Calvario\, a las 20:00 horas en la Real Parroquia de San Lorenzo Mártir.
URL:https://cordobacapitalcofrade.com/agenda/quinario-en-honor-de-nuestro-padre-jesus-del-calvario/
LOCATION:Real Parroquia de San Lorenzo Mártir\, Pl. de San Lorenzo\, 5\, Córdoba\, España
CATEGORIES:Cultos
ATTACH;FMTTYPE=image/jpeg:https://cordobacapitalcofrade.com/wp-content/uploads/2026/02/Quinario-Calvario-0093-1-scaled.jpg
END:VEVENT
END:VCALENDAR