BEGIN:VCALENDAR
VERSION:2.0
PRODID:-//Agenda Cofrade 365 Días - ECPv6.3.7//NONSGML v1.0//EN
CALSCALE:GREGORIAN
METHOD:PUBLISH
X-WR-CALNAME:Agenda Cofrade 365 Días
X-ORIGINAL-URL:https://cordobacapitalcofrade.com
X-WR-CALDESC:Eventos para Agenda Cofrade 365 Días
REFRESH-INTERVAL;VALUE=DURATION:PT1H
X-Robots-Tag:noindex
X-PUBLISHED-TTL:PT1H
BEGIN:VTIMEZONE
TZID:UTC
BEGIN:STANDARD
TZOFFSETFROM:+0000
TZOFFSETTO:+0000
TZNAME:UTC
DTSTART:20260101T000000
END:STANDARD
END:VTIMEZONE
BEGIN:VEVENT
DTSTART;TZID=UTC:20260216T193000
DTEND;TZID=UTC:20260221T203000
DTSTAMP:20260420T205113
CREATED:20260216T160242Z
LAST-MODIFIED:20260216T160242Z
UID:8756-1771270200-1771705800@cordobacapitalcofrade.com
SUMMARY:Solemne Septenario de María Santísima en su Soledad
DESCRIPTION:Solemne Septenario de María Santísima en su Soledad\, a las 19:30 horas en la Parroquia de Santa María de Guadalupe (Franciscanos).
URL:https://cordobacapitalcofrade.com/agenda/solemne-septenario-de-maria-santisima-en-su-soledad-3/
LOCATION:Parroquia de Santa María de Guadalupe (Franciscanos)\, Av. del 28 de Febrero\, 3\, Levante\, 14007 Córdoba\, Córdoba\, España
CATEGORIES:Cultos
ATTACH;FMTTYPE=image/jpeg:https://cordobacapitalcofrade.com/wp-content/uploads/2026/02/Septenario-Soledad-0116-1-scaled.jpg
END:VEVENT
BEGIN:VEVENT
DTSTART;TZID=UTC:20260217T200000
DTEND;TZID=UTC:20260221T210000
DTSTAMP:20260420T205113
CREATED:20260211T131415Z
LAST-MODIFIED:20260211T131415Z
UID:8737-1771358400-1771707600@cordobacapitalcofrade.com
SUMMARY:Quinario de Nuestro Señor Jesucristo del Santo Sepulcro
DESCRIPTION:Quinario de Nuestro Señor Jesucristo del Santo Sepulcro\, a las 20:00 horas en la Parroquia del Salvador y Santo Domingo de Silos (Compañía). Las Eucaristías estarán presididas por D. Demetrio Fernández González\, Obispo Emérito de Córdoba.
URL:https://cordobacapitalcofrade.com/agenda/quinario-de-nuestro-senor-jesucristo-del-santo-sepulcro/
LOCATION:Parroquia Salvador y Santo Domingo de Silos (Compañía)\, Pl. de la Compañía\, 7\, Córdoba\, España
CATEGORIES:Cultos
ATTACH;FMTTYPE=image/jpeg:https://cordobacapitalcofrade.com/wp-content/uploads/2026/02/Quinario-Sepulcro-0081-scaled.jpg
END:VEVENT
BEGIN:VEVENT
DTSTART;TZID=UTC:20260218T190000
DTEND;TZID=UTC:20260221T200000
DTSTAMP:20260420T205113
CREATED:20260205T143030Z
LAST-MODIFIED:20260205T143447Z
UID:8684-1771441200-1771704000@cordobacapitalcofrade.com
SUMMARY:Quinario en honor de Nuestro Padre Jesús de la Bondad
DESCRIPTION:Quinario en honor de Nuestro Padre Jesús de la Bondad\, a las 19:30 horas en el Santuario de Nuestra Señora de la Fuensanta. Previamente a las 19:00 horas rezo del Santo Rosario.
URL:https://cordobacapitalcofrade.com/agenda/quinario-en-honor-de-nuestro-padre-jesus-de-la-bondad/
LOCATION:Santuario de Nuestra Señora de la Fuensanta\, Pl. Santuario de la Fuensanta\, s/n\, Sureste\, 14010 Córdoba\, Córdoba\, España
CATEGORIES:Cultos
ATTACH;FMTTYPE=image/jpeg:https://cordobacapitalcofrade.com/wp-content/uploads/2026/02/487788807_996484055957704_7690792889619831420_n.jpg
END:VEVENT
BEGIN:VEVENT
DTSTART;TZID=UTC:20260218T200000
DTEND;TZID=UTC:20260221T210000
DTSTAMP:20260420T205113
CREATED:20260205T141512Z
LAST-MODIFIED:20260205T141512Z
UID:8675-1771444800-1771707600@cordobacapitalcofrade.com
SUMMARY:Solemne Quinario de Nuestro Padre Jesús de la Oración en el Huerto
DESCRIPTION:Solemne Quinario de Nuestro Padre Jesús de la Oración en el Huerto\, a las 20:00 horas en la Parroquia de San Francisco y San Eulogio.
URL:https://cordobacapitalcofrade.com/agenda/solemne-quinario-de-nuestro-padre-jesus-de-la-oracion-en-el-huerto/
LOCATION:Parroquia de San Francisco y San Eulogio\, C. Compás de San Francisco\, 0\, Córdoba\, España
CATEGORIES:Cultos
ATTACH;FMTTYPE=image/jpeg:https://cordobacapitalcofrade.com/wp-content/uploads/2026/02/492102184_1110248527808880_5363431239702641597_n-1.jpg
END:VEVENT
BEGIN:VEVENT
DTSTART;TZID=UTC:20260219T190000
DTEND;TZID=UTC:20260221T200000
DTSTAMP:20260420T205113
CREATED:20260216T162720Z
LAST-MODIFIED:20260216T162720Z
UID:8787-1771527600-1771704000@cordobacapitalcofrade.com
SUMMARY:Solemne Quinario del Santísimo Cristo de la Misericordia
DESCRIPTION:Solemne Quinario del Santísimo Cristo de la Misericordia\, a las 19:00 horas en la Basílica de San Pedro.
URL:https://cordobacapitalcofrade.com/agenda/solemne-quinario-del-santisimo-cristo-de-la-misericordia-4/
LOCATION:Basílica de San Pedro\, Pl. de San Pedro\, 1\, 14002 Córdoba\, Córdoba\, España
CATEGORIES:Cultos
ATTACH;FMTTYPE=image/jpeg:https://cordobacapitalcofrade.com/wp-content/uploads/2026/02/488306968_997043569188145_7188347615012967693_n.jpg
END:VEVENT
BEGIN:VEVENT
DTSTART;TZID=UTC:20260219T200000
DTEND;TZID=UTC:20260221T210000
DTSTAMP:20260420T205113
CREATED:20260216T163540Z
LAST-MODIFIED:20260216T163540Z
UID:8795-1771531200-1771707600@cordobacapitalcofrade.com
SUMMARY:Solemne Triduo al Beato Álvaro de Córdoba
DESCRIPTION:Solemne Triduo al Beato Álvaro de Córdoba\, a las 20:00 horas en la Parroquia del Beato Álvaro de Córdoba.
URL:https://cordobacapitalcofrade.com/agenda/solemne-triduo-al-beato-alvaro-de-cordoba/
LOCATION:Parroquia del Beato Álvaro de Córdoba\, Av. Guerrita\, 23\, 14005 Córdoba\, Córdoba\, España
CATEGORIES:Cultos
ATTACH;FMTTYPE=image/jpeg:https://cordobacapitalcofrade.com/wp-content/uploads/2026/02/485783153_1033378748823234_5433282205437992829_n.jpg
END:VEVENT
BEGIN:VEVENT
DTSTART;TZID=UTC:20260221T100000
DTEND;TZID=UTC:20260222T190000
DTSTAMP:20260420T205113
CREATED:20260216T165541Z
LAST-MODIFIED:20260216T165541Z
UID:8812-1771668000-1771786800@cordobacapitalcofrade.com
SUMMARY:Besapiés de Nuestro Padre Jesús de los Afligidos
DESCRIPTION:Besapiés de Nuestro Padre Jesús de los Afligidos en horario de 10:00 a 19:00 horas en la Parroquia de San Vicente Ferrer.
URL:https://cordobacapitalcofrade.com/agenda/besapies-de-nuestro-padre-jesus-de-los-afligidos-4/
LOCATION:Parroquia de San Vicente Ferrer (Cañero)\, C. Funcionario Lázaro Navajas\, 70\, 14014 Córdoba\, España\, Córdoba\, España
CATEGORIES:Cultos
ATTACH;FMTTYPE=image/jpeg:https://cordobacapitalcofrade.com/wp-content/uploads/2026/02/489023204_700077985862307_1230598851996541447_n.jpg
END:VEVENT
BEGIN:VEVENT
DTSTART;TZID=UTC:20260221T183000
DTEND;TZID=UTC:20260221T203000
DTSTAMP:20260420T205113
CREATED:20260207T200755Z
LAST-MODIFIED:20260207T200755Z
UID:8697-1771698600-1771705800@cordobacapitalcofrade.com
SUMMARY:Besapiés de Nuestro Padre Jesús Caído
DESCRIPTION:Besapiés de Nuestro Padre Jesús Caído en horario de 18:30 a 20:30 horas en el Santuario de Nuestra Señora del Carmen (San Cayetano).
URL:https://cordobacapitalcofrade.com/agenda/besapies-de-nuestro-padre-jesus-caido/
LOCATION:Santuario de Nuestra Señora del Carmen\, C. Cta. de San Cayetano\, Centro\, 14001 Córdoba\, Córdoba\, España
CATEGORIES:Cultos
ATTACH;FMTTYPE=image/jpeg:https://cordobacapitalcofrade.com/wp-content/uploads/2026/02/545526938_1268945325031971_3942825783685287941_n.jpg
END:VEVENT
BEGIN:VEVENT
DTSTART;TZID=UTC:20260221T193000
DTEND;TZID=UTC:20260221T203000
DTSTAMP:20260420T205113
CREATED:20260216T160900Z
LAST-MODIFIED:20260216T160900Z
UID:8766-1771702200-1771705800@cordobacapitalcofrade.com
SUMMARY:Fiesta de Regla de la Hermandad de la Santa Faz
DESCRIPTION:Fiesta de Regla de la Hermandad de la Santa Faz\, a las 19:30 horas en la Parroquia de San Juan y Todos los Santos (Trinidad).
URL:https://cordobacapitalcofrade.com/agenda/fiesta-de-regla-de-la-hermandad-de-la-santa-faz-3/
LOCATION:Parroquia de la Trinidad\, Plaza de la Trinidad\, Córdoba\, España
CATEGORIES:Cultos
ATTACH;FMTTYPE=image/jpeg:https://cordobacapitalcofrade.com/wp-content/uploads/2026/02/Quinario-Via-Crucis-Santa-Faz-y-Perdon-0152-scaled.jpg
END:VEVENT
BEGIN:VEVENT
DTSTART;TZID=UTC:20260221T203000
DTEND;TZID=UTC:20260221T213000
DTSTAMP:20260420T205113
CREATED:20260209T180427Z
LAST-MODIFIED:20260209T180427Z
UID:8729-1771705800-1771709400@cordobacapitalcofrade.com
SUMMARY:Fiesta de Regla de la Hermandad del Calvario
DESCRIPTION:Fiesta de Regla de la Hermandad del Calvario\, a las 20:30 horas en la Real Parroquia de San Lorenzo Mártir.
URL:https://cordobacapitalcofrade.com/agenda/fiesta-de-regla-de-la-hermandad-del-calvario-3/
LOCATION:Real Parroquia de San Lorenzo Mártir\, Pl. de San Lorenzo\, 5\, Córdoba\, España
CATEGORIES:Cultos
ATTACH;FMTTYPE=image/jpeg:https://cordobacapitalcofrade.com/wp-content/uploads/2026/02/Quinario-Calvario-0093-1-scaled.jpg
END:VEVENT
END:VCALENDAR