BEGIN:VCALENDAR
VERSION:2.0
PRODID:-//Agenda Cofrade 365 Días - ECPv6.3.7//NONSGML v1.0//EN
CALSCALE:GREGORIAN
METHOD:PUBLISH
X-ORIGINAL-URL:https://cordobacapitalcofrade.com
X-WR-CALDESC:Eventos para Agenda Cofrade 365 Días
REFRESH-INTERVAL;VALUE=DURATION:PT1H
X-Robots-Tag:noindex
X-PUBLISHED-TTL:PT1H
BEGIN:VTIMEZONE
TZID:UTC
BEGIN:STANDARD
TZOFFSETFROM:+0000
TZOFFSETTO:+0000
TZNAME:UTC
DTSTART:20260101T000000
END:STANDARD
END:VTIMEZONE
BEGIN:VEVENT
DTSTART;TZID=UTC:20260223T193000
DTEND;TZID=UTC:20260227T203000
DTSTAMP:20260420T235247
CREATED:20260211T132340Z
LAST-MODIFIED:20260211T132340Z
UID:8742-1771875000-1772224200@cordobacapitalcofrade.com
SUMMARY:Solemne Quinario en honor del Santísimo Cristo del Descendimiento
DESCRIPTION:Solemne Quinario en honor del Santísimo Cristo del Descendimiento\, a las 19:30 horas en la Parroquia de San José y Espíritu Santo.
URL:https://cordobacapitalcofrade.com/agenda/solemne-quinario-en-honor-del-santisimo-cristo-del-descendimiento-2/
LOCATION:Parroquia de San José y Espíritu Santo\, Pl. de Santa Teresa\, 1\, Córdoba\, España
CATEGORIES:Cultos
ATTACH;FMTTYPE=image/jpeg:https://cordobacapitalcofrade.com/wp-content/uploads/2026/02/474261032_18265993093273736_1780824341814330874_n.jpg
END:VEVENT
BEGIN:VEVENT
DTSTART;TZID=UTC:20260223T200000
DTEND;TZID=UTC:20260227T210000
DTSTAMP:20260420T235247
CREATED:20260223T171304Z
LAST-MODIFIED:20260223T171304Z
UID:8969-1771876800-1772226000@cordobacapitalcofrade.com
SUMMARY:Solemne Quinario del Santísimo Cristo de la Agonía
DESCRIPTION:Solemne Quinario del Santísimo Cristo de la Agonía\, a las 20:00 horas en la Parroquia de Santa Victoria.
URL:https://cordobacapitalcofrade.com/agenda/solemne-quinario-del-santisimo-cristo-de-la-agonia/
LOCATION:Parroquia de Santa Victoria\, C. Párroco Agustín Molina\, 20\, Nte. Sierra\, 14960 Córdoba\, Córdoba\, España
CATEGORIES:Cultos
ATTACH;FMTTYPE=image/jpeg:https://cordobacapitalcofrade.com/wp-content/uploads/2026/02/482241985_944047391228457_8720606211970516152_n.jpg
END:VEVENT
BEGIN:VEVENT
DTSTART;TZID=UTC:20260223T203000
DTEND;TZID=UTC:20260227T213000
DTSTAMP:20260420T235247
CREATED:20260218T163821Z
LAST-MODIFIED:20260223T153118Z
UID:8923-1771878600-1772227800@cordobacapitalcofrade.com
SUMMARY:Quinario de Nuestro Padre Jesús Nazareno
DESCRIPTION:Quinario de Nuestro Padre Jesús del Buen Suceso\, a las 20:30 horas en la Iglesia Hospital de Jesús Nazareno.
URL:https://cordobacapitalcofrade.com/agenda/quinario-de-nuestro-padre-jesus-del-buen-suceso/
LOCATION:Iglesia Hospital de Jesús Nazareno\, C. Jesús Nazareno\, 11\, Córdoba\, España
CATEGORIES:Cultos
ATTACH;FMTTYPE=image/jpeg:https://cordobacapitalcofrade.com/wp-content/uploads/2026/02/489970759_1102540075244704_3567476569419619543_n.jpg
END:VEVENT
END:VCALENDAR