BEGIN:VCALENDAR
VERSION:2.0
PRODID:-//Agenda Cofrade 365 Días - ECPv6.3.7//NONSGML v1.0//EN
CALSCALE:GREGORIAN
METHOD:PUBLISH
X-ORIGINAL-URL:https://cordobacapitalcofrade.com
X-WR-CALDESC:Eventos para Agenda Cofrade 365 Días
REFRESH-INTERVAL;VALUE=DURATION:PT1H
X-Robots-Tag:noindex
X-PUBLISHED-TTL:PT1H
BEGIN:VTIMEZONE
TZID:UTC
BEGIN:STANDARD
TZOFFSETFROM:+0000
TZOFFSETTO:+0000
TZNAME:UTC
DTSTART:20260101T000000
END:STANDARD
END:VTIMEZONE
BEGIN:VEVENT
DTSTART;TZID=UTC:20260224T184500
DTEND;TZID=UTC:20260228T201500
DTSTAMP:20260420T174855
CREATED:20260207T200235Z
LAST-MODIFIED:20260207T200235Z
UID:8692-1771958700-1772309700@cordobacapitalcofrade.com
SUMMARY:Solemne Quinario en honor de Nuestro Padre Jesús Caído
DESCRIPTION:Solemne Quinario en honor de Nuestro Padre Jesús Caído\, a las 19:30 horas en el Santuario de Nuestra Señora del Carmen (San Cayetano). Previamente a las 18:45 horas\, Exposición del Santísimo\, rezo del Santo Rosario y ejercicio del Quinario.
URL:https://cordobacapitalcofrade.com/agenda/solemne-quinario-en-honor-de-nuestro-padre-jesus-caido/
LOCATION:Santuario de Nuestra Señora del Carmen\, C. Cta. de San Cayetano\, Centro\, 14001 Córdoba\, Córdoba\, España
CATEGORIES:Cultos
ATTACH;FMTTYPE=image/jpeg:https://cordobacapitalcofrade.com/wp-content/uploads/2026/02/492520182_1164060552187116_8196250495333929580_n.jpg
END:VEVENT
BEGIN:VEVENT
DTSTART;TZID=UTC:20260224T193000
DTEND;TZID=UTC:20260228T203000
DTSTAMP:20260420T174855
CREATED:20260217T170353Z
LAST-MODIFIED:20260217T170353Z
UID:8878-1771961400-1772310600@cordobacapitalcofrade.com
SUMMARY:Solemne Quinario del Santísimo Cristo del Amor
DESCRIPTION:Solemne Quinario del Santísimo Cristo del Amor\, a las 19:30 horas en la Parroquia de Jesús Divino Obrero.
URL:https://cordobacapitalcofrade.com/agenda/solemne-quinario-del-santisimo-cristo-del-amor-2/
LOCATION:Parroquia de Jesús Divino Obrero\, C. Beato Henares\, 1\, Córdoba\, España
CATEGORIES:Cultos
ATTACH;FMTTYPE=image/jpeg:https://cordobacapitalcofrade.com/wp-content/uploads/2026/02/Quinario-Amor-0001-1-scaled.jpg
END:VEVENT
BEGIN:VEVENT
DTSTART;TZID=UTC:20260224T193000
DTEND;TZID=UTC:20260228T203000
DTSTAMP:20260420T174855
CREATED:20260217T171909Z
LAST-MODIFIED:20260217T171909Z
UID:8886-1771961400-1772310600@cordobacapitalcofrade.com
SUMMARY:Solemne Quinario en honor de Nuestro Padre Jesús de la Redención
DESCRIPTION:Solemne Quinario en honor de Nuestro Padre Jesús de la Redención\, a las 20:00 horas en la Parroquia de San Fernando. Previamente a las 19:30 horas\, Exposición del Santísimo Sacramento\, Santo Rosario\, Bendición y Reserva.
URL:https://cordobacapitalcofrade.com/agenda/solemne-quinario-en-honor-de-nuestro-padre-jesus-de-la-redencion/
LOCATION:Parroquia de San Fernando\, C. Goya\, 24\, 14006 Córdoba\, Córdoba\, España
CATEGORIES:Cultos
ATTACH;FMTTYPE=image/jpeg:https://cordobacapitalcofrade.com/wp-content/uploads/2026/02/489909485_1072095791627935_8393603177295125037_n.jpg
END:VEVENT
BEGIN:VEVENT
DTSTART;TZID=UTC:20260224T193000
DTEND;TZID=UTC:20260228T203000
DTSTAMP:20260420T174855
CREATED:20260218T163032Z
LAST-MODIFIED:20260218T163032Z
UID:8918-1771961400-1772310600@cordobacapitalcofrade.com
SUMMARY:Solemne Quinario en honor de Nuestro Padre Jesús del Buen Suceso
DESCRIPTION:Solemne Quinario en honor de Nuestro Padre Jesús del Buen Suceso\, a las 20:00 horas en la Parroquia de San Andrés Apóstol. Previamente a las 19:30 horas rezo del Santo Rosario.
URL:https://cordobacapitalcofrade.com/agenda/solemne-quinario-en-honor-de-nuestro-padre-jesus-del-buen-suceso/
LOCATION:Parroquia de San Andrés Apóstol\, Pl. San Andrés\, 0\, Córdoba\, España
CATEGORIES:Cultos
ATTACH;FMTTYPE=image/jpeg:https://cordobacapitalcofrade.com/wp-content/uploads/2026/02/483109107_18057398522101169_7295635225995329634_n.jpg
END:VEVENT
BEGIN:VEVENT
DTSTART;TZID=UTC:20260224T193000
DTEND;TZID=UTC:20260228T203000
DTSTAMP:20260420T174855
CREATED:20260218T164639Z
LAST-MODIFIED:20260218T164639Z
UID:8928-1771961400-1772310600@cordobacapitalcofrade.com
SUMMARY:Quinario en honor del Santísimo Cristo de las Penas
DESCRIPTION:Quinario en honor del Santísimo Cristo de las Penas\, a las 19:30 horas en la Parroquia de Santiago Apóstol.
URL:https://cordobacapitalcofrade.com/agenda/quinario-en-honor-del-santisimo-cristo-de-las-penas/
LOCATION:Parroquia de Santiago Apóstol\, C. de Agustín Moreno\, 26\, 14002 Córdoba\, Córdoba\, España
CATEGORIES:Cultos
ATTACH;FMTTYPE=image/jpeg:https://cordobacapitalcofrade.com/wp-content/uploads/2026/02/489859463_1152975130208043_1385132763861723031_n.jpg
END:VEVENT
BEGIN:VEVENT
DTSTART;TZID=UTC:20260224T200000
DTEND;TZID=UTC:20260228T210000
DTSTAMP:20260420T174855
CREATED:20260202T144100Z
LAST-MODIFIED:20260202T144100Z
UID:8667-1771963200-1772312400@cordobacapitalcofrade.com
SUMMARY:Solemne Quinario en honor de Nuestro Padre Jesús Humilde en su Coronación de Espinas
DESCRIPTION:Solemne Quinario en honor de Nuestro Padre Jesús Humilde en su Coronación de Espinas\, a las 20:00 horas en la Parroquia de San Antonio de Pádua.
URL:https://cordobacapitalcofrade.com/agenda/solemne-quinario-en-honor-de-nuestro-padre-jesus-humilde-en-su-coronacion-de-espinas-2/
LOCATION:Parroquia de San Antonio de Pádua\, Av. Agrupación Córdoba\, 11\, 14007 Córdoba\, Córdoba\, España
CATEGORIES:Cultos
ATTACH;FMTTYPE=image/jpeg:https://cordobacapitalcofrade.com/wp-content/uploads/2026/02/484007303_952668940367138_7705385669816995320_n.jpg
END:VEVENT
BEGIN:VEVENT
DTSTART;TZID=UTC:20260224T200000
DTEND;TZID=UTC:20260228T210000
DTSTAMP:20260420T174855
CREATED:20260217T172539Z
LAST-MODIFIED:20260217T172539Z
UID:8891-1771963200-1772312400@cordobacapitalcofrade.com
SUMMARY:Quinario de Nuestro Padre Jesús de la Sentencia
DESCRIPTION:Quinario de Nuestro Padre Jesús de la Sentencia\, a las 20:00 horas en la Parroquia de San Nicolás de la Villa.
URL:https://cordobacapitalcofrade.com/agenda/quinario-de-nuestro-padre-jesus-de-la-sentencia/
LOCATION:Parroquia de San Nicolás de la Villa\, Pl. de San Nicolás\, 14003 Córdoba\, Córdoba\, España
CATEGORIES:Cultos
ATTACH;FMTTYPE=image/png:https://cordobacapitalcofrade.com/wp-content/uploads/2026/02/Captura-de-pantalla-2026-02-17-182444.png
END:VEVENT
BEGIN:VEVENT
DTSTART;TZID=UTC:20260224T200000
DTEND;TZID=UTC:20260228T210000
DTSTAMP:20260420T174855
CREATED:20260223T172256Z
LAST-MODIFIED:20260223T172256Z
UID:8979-1771963200-1772312400@cordobacapitalcofrade.com
SUMMARY:Solemne Quinario del Santísimo Cristo de la Oración y Caridad
DESCRIPTION:Solemne Quinario del Santísimo Cristo de la Oración y Caridad\, a las 20:00 horas en la Parroquia de Nuestra Señora del Rosario.
URL:https://cordobacapitalcofrade.com/agenda/solemne-quinario-del-santisimo-cristo-de-la-oracion-y-caridad/
LOCATION:Iglesia de Ntra. Sra. Del Rosario\, Plaza de Electromecánicas\, Córdoba\, Córdoba\, 14005\, España
CATEGORIES:Cultos
ATTACH;FMTTYPE=image/png:https://cordobacapitalcofrade.com/wp-content/uploads/2026/02/Captura-de-pantalla-2026-02-23-182159.png
END:VEVENT
BEGIN:VEVENT
DTSTART;TZID=UTC:20260224T203000
DTEND;TZID=UTC:20260228T213000
DTSTAMP:20260420T174855
CREATED:20260217T173132Z
LAST-MODIFIED:20260217T173132Z
UID:8896-1771965000-1772314200@cordobacapitalcofrade.com
SUMMARY:Solemne Quinario en honor de Nuestro Padre Jesús\, Divino Salvador en su Prendimiento
DESCRIPTION:Solemne Quinario en honor de Nuestro Padre Jesús\, Divino Salvador en su Prendimiento\, a las 20:30 horas en el Santuario de María Auxiliadora.
URL:https://cordobacapitalcofrade.com/agenda/solemne-quinario-en-honor-de-nuestro-padre-jesus-divino-salvador-en-su-prendimiento/
LOCATION:Santuario de María Auxiliadora\, C. María Auxiliadora\, 8\, Centro\, 14002 Córdoba\, Córdoba\, España
CATEGORIES:Cultos
ATTACH;FMTTYPE=image/jpeg:https://cordobacapitalcofrade.com/wp-content/uploads/2026/02/HBSLKyebwAAN054.jpg
END:VEVENT
BEGIN:VEVENT
DTSTART;TZID=UTC:20260226T201500
DTEND;TZID=UTC:20260228T211500
DTSTAMP:20260420T174855
CREATED:20260218T165909Z
LAST-MODIFIED:20260218T165909Z
UID:8936-1772136900-1772313300@cordobacapitalcofrade.com
SUMMARY:Solemne Triduo de Nuestra Señora Madre de Dios en sus Tristezas
DESCRIPTION:Solemne Triduo de Nuestra Señora Madre de Dios en sus Tristezas a las 20:30 horas en la Real Parroquia de San Lorenzo Mártir. Previamente a las 20:15 horas\, Exposición de su Divina Majestad\, Ejercicio del Triduo y Reserva.
URL:https://cordobacapitalcofrade.com/agenda/solemne-triduo-de-nuestra-senora-madre-de-dios-en-sus-tristezas-2/
LOCATION:Real Parroquia de San Lorenzo Mártir\, Pl. de San Lorenzo\, 5\, Córdoba\, España
CATEGORIES:Cultos
ATTACH;FMTTYPE=image/jpeg:https://cordobacapitalcofrade.com/wp-content/uploads/2026/02/487544899_1070940521744160_8493029693947657048_n.jpg
END:VEVENT
BEGIN:VEVENT
DTSTART;TZID=UTC:20260228T120000
DTEND;TZID=UTC:20260301T130000
DTSTAMP:20260420T174855
CREATED:20260223T172756Z
LAST-MODIFIED:20260223T172756Z
UID:8987-1772280000-1772370000@cordobacapitalcofrade.com
SUMMARY:Solemne Quinario de Nuestro Padre Jesús Nazareno de la Compasión
DESCRIPTION:Solemne Quinario de Nuestro Padre Jesús Nazareno de la Compasión\, a las 12:00 horas en la Parroquia de San Isidro Labrador.
URL:https://cordobacapitalcofrade.com/agenda/solemne-quinario-de-nuestro-padre-jesus-nazareno-de-la-compasion-3/
LOCATION:Parroquia de San Isidro Labrador\, Avenida Principal\, 14193 Córdoba\, Córdoba\, España
CATEGORIES:Cultos
ATTACH;FMTTYPE=image/jpeg:https://cordobacapitalcofrade.com/wp-content/uploads/2026/02/529630308_18028358471707328_4478265065434432030_n.jpg
END:VEVENT
BEGIN:VEVENT
DTSTART;TZID=UTC:20260228T190000
DTEND;TZID=UTC:20260228T200000
DTSTAMP:20260420T174855
CREATED:20260217T174045Z
LAST-MODIFIED:20260217T174045Z
UID:8904-1772305200-1772308800@cordobacapitalcofrade.com
SUMMARY:Quinario del Santísimo Cristo de la Clemencia
DESCRIPTION:Quinario del Santísimo Cristo de la Clemencia\, a las 19:00 horas en el Santuario de Nuestra Señora de los Dolores.
URL:https://cordobacapitalcofrade.com/agenda/quinario-del-santisimo-cristo-de-la-clemencia-2/
LOCATION:Santuario de Nuestra Señora de los Dolores\, Pl. de Capuchinos\, 6\, 14001 Córdoba\, Córdoba\, España
CATEGORIES:Cultos
ATTACH;FMTTYPE=image/jpeg:https://cordobacapitalcofrade.com/wp-content/uploads/2026/02/489899578_1080732647417659_5331357979573384663_n.jpg
END:VEVENT
BEGIN:VEVENT
DTSTART;TZID=UTC:20260228T193000
DTEND;TZID=UTC:20260228T203000
DTSTAMP:20260420T174855
CREATED:20260211T132544Z
LAST-MODIFIED:20260211T132544Z
UID:8745-1772307000-1772310600@cordobacapitalcofrade.com
SUMMARY:Fiesta de Regla de la Hermandad del Descendimiento
DESCRIPTION:Fiesta de Regla de la Hermandad del Descendimiento\, a las 19:30 horas en la Parroquia de San José y Espíritu Santo.
URL:https://cordobacapitalcofrade.com/agenda/fiesta-de-regla-de-la-hermandad-del-descendimiento-3/
LOCATION:Parroquia de San José y Espíritu Santo\, Pl. de Santa Teresa\, 1\, Córdoba\, España
CATEGORIES:Cultos
ATTACH;FMTTYPE=image/jpeg:https://cordobacapitalcofrade.com/wp-content/uploads/2026/02/474261032_18265993093273736_1780824341814330874_n.jpg
END:VEVENT
BEGIN:VEVENT
DTSTART;TZID=UTC:20260228T200000
DTEND;TZID=UTC:20260228T210000
DTSTAMP:20260420T174855
CREATED:20260218T163947Z
LAST-MODIFIED:20260218T163947Z
UID:8926-1772308800-1772312400@cordobacapitalcofrade.com
SUMMARY:Fiesta de Regla de la Hermandad del Nazareno
DESCRIPTION:Fiesta de Regla de la Hermandad del Nazareno\, a las 20:00 horas en la Iglesia Hospital de Jesús Nazareno.
URL:https://cordobacapitalcofrade.com/agenda/fiesta-de-regla-de-la-hermandad-del-nazareno-3/
LOCATION:Iglesia Hospital de Jesús Nazareno\, C. Jesús Nazareno\, 11\, Córdoba\, España
CATEGORIES:Cultos
ATTACH;FMTTYPE=image/jpeg:https://cordobacapitalcofrade.com/wp-content/uploads/2026/02/489970759_1102540075244704_3567476569419619543_n.jpg
END:VEVENT
BEGIN:VEVENT
DTSTART;TZID=UTC:20260228T200000
DTEND;TZID=UTC:20260228T220000
DTSTAMP:20260420T174855
CREATED:20260223T171445Z
LAST-MODIFIED:20260223T171445Z
UID:8972-1772308800-1772316000@cordobacapitalcofrade.com
SUMMARY:Fiesta de Regla de la Hermandad de la Agonía\, Pregón y presentación del Cartel 2026
DESCRIPTION:Fiesta de Regla de la Hermandad\, a las 20:00 horas en la Parroquia de Santa Victoria. \n– Tras la Eucaristía\, Pregón de la Agonía 2026 a cargo de D. Rafael Reyes Sanz y presentación del Cartel del Martes Santo 2026 obra de D. Pedro Jesús Pilas Martínez.
URL:https://cordobacapitalcofrade.com/agenda/fiesta-de-regla-de-la-hermandad-de-la-agonia-pregon-y-presentacion-del-cartel-2026/
LOCATION:Parroquia de Santa Victoria\, C. Párroco Agustín Molina\, 20\, Nte. Sierra\, 14960 Córdoba\, Córdoba\, España
CATEGORIES:Cultos
ATTACH;FMTTYPE=image/jpeg:https://cordobacapitalcofrade.com/wp-content/uploads/2026/02/482241985_944047391228457_8720606211970516152_n.jpg
END:VEVENT
END:VCALENDAR