BEGIN:VCALENDAR
VERSION:2.0
PRODID:-//Agenda Cofrade 365 Días - ECPv6.3.7//NONSGML v1.0//EN
CALSCALE:GREGORIAN
METHOD:PUBLISH
X-ORIGINAL-URL:https://cordobacapitalcofrade.com
X-WR-CALDESC:Eventos para Agenda Cofrade 365 Días
REFRESH-INTERVAL;VALUE=DURATION:PT1H
X-Robots-Tag:noindex
X-PUBLISHED-TTL:PT1H
BEGIN:VTIMEZONE
TZID:UTC
BEGIN:STANDARD
TZOFFSETFROM:+0000
TZOFFSETTO:+0000
TZNAME:UTC
DTSTART:20260101T000000
END:STANDARD
END:VTIMEZONE
BEGIN:VEVENT
DTSTART;TZID=UTC:20260422T193000
DTEND;TZID=UTC:20260424T204500
DTSTAMP:20260419T171725
CREATED:20260416T122019Z
LAST-MODIFIED:20260416T122019Z
UID:9600-1776886200-1777063500@cordobacapitalcofrade.com
SUMMARY:Triduo en honor de la Divina Pastora de las Almas
DESCRIPTION:Triduo en honor de la Divina Pastora de las Almas\, a las 20:00 horas en la Iglesia Conventual del Santo Ángel (Capuchinos). A las 19:30 horas\, rezo del Santo Rosario.
URL:https://cordobacapitalcofrade.com/agenda/triduo-en-honor-de-la-divina-pastora-de-las-almas/
LOCATION:Iglesia Conventual del Santo Ángel (Capuchinos)\, Pl. de Capuchinos\, 5\, Córdoba\, España
CATEGORIES:Cultos
ATTACH;FMTTYPE=image/jpeg:https://cordobacapitalcofrade.com/wp-content/uploads/2026/04/495819372_18188987407312860_6225441751876034715_n.jpg
END:VEVENT
END:VCALENDAR