BEGIN:VCALENDAR
VERSION:2.0
PRODID:-//Agenda Cofrade 365 Días - ECPv6.3.7//NONSGML v1.0//EN
CALSCALE:GREGORIAN
METHOD:PUBLISH
X-ORIGINAL-URL:https://cordobacapitalcofrade.com
X-WR-CALDESC:Eventos para Agenda Cofrade 365 Días
REFRESH-INTERVAL;VALUE=DURATION:PT1H
X-Robots-Tag:noindex
X-PUBLISHED-TTL:PT1H
BEGIN:VTIMEZONE
TZID:UTC
BEGIN:STANDARD
TZOFFSETFROM:+0000
TZOFFSETTO:+0000
TZNAME:UTC
DTSTART:20240101T000000
END:STANDARD
END:VTIMEZONE
BEGIN:VEVENT
DTSTART;TZID=UTC:20240403T210000
DTEND;TZID=UTC:20240403T223000
DTSTAMP:20260420T100117
CREATED:20240129T164922Z
LAST-MODIFIED:20240129T164922Z
UID:2069-1712178000-1712183400@cordobacapitalcofrade.com
SUMMARY:Desarmá paso Ntro. Padre Jesús de los Afligidos
DESCRIPTION:Desarmá paso Ntro. Padre Jesús de los Afligidos\, tendrá lugar el 3 de abril a las 21 horas en el barrio de Cañero.
URL:https://cordobacapitalcofrade.com/agenda/desarma-paso-ntro-padre-jesus-de-los-afligidos/
LOCATION:Parroquia de San Vicente Ferrer (Cañero)\, C. Funcionario Lázaro Navajas\, 70\, 14014 Córdoba\, España\, Córdoba\, España
CATEGORIES:Ensayos Costaleros
END:VEVENT
BEGIN:VEVENT
DTSTART;TZID=UTC:20240412T193000
DTEND;TZID=UTC:20240412T223000
DTSTAMP:20260420T100117
CREATED:20240401T144809Z
LAST-MODIFIED:20240401T145243Z
UID:2731-1712950200-1712961000@cordobacapitalcofrade.com
SUMMARY:Ensayo Milagroso Niño Jesús de Praga
DESCRIPTION:Ensayo Milagroso Niño Jesús de Praga\, tendrá lugar el 12 de abril a las 19:30 horas en la Iglesia Conventual de San José de San Cayetano.
URL:https://cordobacapitalcofrade.com/agenda/ensayo-milagroso-nino-jesus-de-praga/
LOCATION:Iglesia Conventual de San José (San Cayetano\, C. Cta. de San Cayetano\,\, Córdoba\, España
CATEGORIES:Ensayos Costaleros
ATTACH;FMTTYPE=image/jpeg:https://cordobacapitalcofrade.com/wp-content/uploads/2024/04/IMG_4927.jpg
END:VEVENT
BEGIN:VEVENT
DTSTART;TZID=UTC:20240418T213000
DTEND;TZID=UTC:20240418T233000
DTSTAMP:20260420T100117
CREATED:20240401T144137Z
LAST-MODIFIED:20240401T144137Z
UID:2724-1713475800-1713483000@cordobacapitalcofrade.com
SUMMARY:Ensayo costaleros San Rafael
DESCRIPTION:Ensayo costaleros San Rafael\, tendrá lugar el 18 de abril a las 21:30 horas en la Iglesia Juramento de San Rafael. \nObligatorio calzado de salida negro.
URL:https://cordobacapitalcofrade.com/agenda/ensayo-costaleros-san-rafael/
LOCATION:Iglesia del Juramento de San Rafael\, Pl. de San Rafael\, 8\, Córdoba\, España
CATEGORIES:Ensayos Costaleros
ATTACH;FMTTYPE=image/jpeg:https://cordobacapitalcofrade.com/wp-content/uploads/2024/04/1588841294451.jpg
END:VEVENT
BEGIN:VEVENT
DTSTART;TZID=UTC:20240419T193000
DTEND;TZID=UTC:20240419T223000
DTSTAMP:20260420T100117
CREATED:20240401T144900Z
LAST-MODIFIED:20240401T145306Z
UID:2737-1713555000-1713565800@cordobacapitalcofrade.com
SUMMARY:Ensayo Milagroso Niño Jesús de Praga
DESCRIPTION:Ensayo Milagroso Niño Jesús de Praga\, tendrá lugar el 19 de abril a las 19:30 horas en la Iglesia Conventual de San José de San Cayetano.
URL:https://cordobacapitalcofrade.com/agenda/ensayo-milagroso-nino-jesus-de-praga-2/
LOCATION:Iglesia Conventual de San José (San Cayetano\, C. Cta. de San Cayetano\,\, Córdoba\, España
CATEGORIES:Ensayos Costaleros
ATTACH;FMTTYPE=image/jpeg:https://cordobacapitalcofrade.com/wp-content/uploads/2024/04/IMG_4927.jpg
END:VEVENT
BEGIN:VEVENT
DTSTART;TZID=UTC:20240419T210000
DTEND;TZID=UTC:20240419T235900
DTSTAMP:20260420T100117
CREATED:20240408T112646Z
LAST-MODIFIED:20240408T112646Z
UID:2763-1713560400-1713571140@cordobacapitalcofrade.com
SUMMARY:Igualá y ensayo Cuadrilla de costaleros Virgen de la Cabeza
DESCRIPTION:Igualá y ensayo Cuadrilla de costaleros Virgen de la Cabeza\, tendrá lugar el 19 de abril a las 21 horas\, en la Parroquia de San Francisco. \nImprescindible acudir con calzado de salida: zapatillas blancas.
URL:https://cordobacapitalcofrade.com/agenda/iguala-y-ensayo-cuadrilla-de-costaleros-virgen-de-la-cabeza/
LOCATION:Parroquia de San Francisco y San Eulogio\, C. Compás de San Francisco\, 0\, Córdoba\, España
CATEGORIES:Ensayos Costaleros,Igualás de costaleros
ATTACH;FMTTYPE=image/jpeg:https://cordobacapitalcofrade.com/wp-content/uploads/2024/04/WhatsApp-Image-2024-04-06-at-12.46.07.jpeg
END:VEVENT
END:VCALENDAR