BEGIN:VCALENDAR
VERSION:2.0
PRODID:-//Agenda Cofrade 365 Días - ECPv6.3.7//NONSGML v1.0//EN
CALSCALE:GREGORIAN
METHOD:PUBLISH
X-WR-CALNAME:Agenda Cofrade 365 Días
X-ORIGINAL-URL:https://cordobacapitalcofrade.com
X-WR-CALDESC:Eventos para Agenda Cofrade 365 Días
REFRESH-INTERVAL;VALUE=DURATION:PT1H
X-Robots-Tag:noindex
X-PUBLISHED-TTL:PT1H
BEGIN:VTIMEZONE
TZID:UTC
BEGIN:STANDARD
TZOFFSETFROM:+0000
TZOFFSETTO:+0000
TZNAME:UTC
DTSTART:20240101T000000
END:STANDARD
END:VTIMEZONE
BEGIN:VEVENT
DTSTART;TZID=UTC:20240221T210000
DTEND;TZID=UTC:20240221T235900
DTSTAMP:20260425T123631
CREATED:20240129T164333Z
LAST-MODIFIED:20240129T164333Z
UID:2061-1708549200-1708559940@cordobacapitalcofrade.com
SUMMARY:3° Ensayo Costaleros cuadrilla alta de Ntro. Padre Jesús de los Afligidos
DESCRIPTION:3° Ensayo Costaleros cuadrilla alta de Ntro. Padre Jesús de los Afligidos\, tendrá lugar el 21 de febrero a las 21 horas en el barrio de Cañero.
URL:https://cordobacapitalcofrade.com/agenda/3-ensayo-costaleros-cuadrilla-alta-de-ntro-padre-jesus-de-los-afligidos/
LOCATION:Parroquia de San Vicente Ferrer (Cañero)\, C. Funcionario Lázaro Navajas\, 70\, 14014 Córdoba\, España\, Córdoba\, España
CATEGORIES:Ensayos Costaleros
END:VEVENT
BEGIN:VEVENT
DTSTART;TZID=UTC:20240221T210000
DTEND;TZID=UTC:20240222T000000
DTSTAMP:20260425T123631
CREATED:20231230T164118Z
LAST-MODIFIED:20231230T164118Z
UID:1137-1708549200-1708560000@cordobacapitalcofrade.com
SUMMARY:2º Ensayo de costaleros de Nuestra Señora de la Palma
DESCRIPTION:2º Ensayo de costaleros de Nuestra Señora de la Palma a las 21:00 horas en la Real Parroquia de San Lorenzo Mártir
URL:https://cordobacapitalcofrade.com/agenda/2o-ensayo-de-costaleros-de-nuestra-senora-de-la-palma/
LOCATION:Real Parroquia de San Lorenzo Mártir\, Pl. de San Lorenzo\, 5\, Córdoba\, España
CATEGORIES:Ensayos Costaleros
ATTACH;FMTTYPE=image/jpeg:https://cordobacapitalcofrade.com/wp-content/uploads/2023/12/Borriquita-2023-0192-min-scaled.jpg
END:VEVENT
BEGIN:VEVENT
DTSTART;TZID=UTC:20240221T213000
DTEND;TZID=UTC:20240221T233000
DTSTAMP:20260425T123631
CREATED:20240119T211343Z
LAST-MODIFIED:20240119T211413Z
UID:1858-1708551000-1708558200@cordobacapitalcofrade.com
SUMMARY:2º Ensayo Costaleros Cristo Oración y Caridad
DESCRIPTION:2º Ensayo Costaleros Cristo Oración y Caridad tendrá lugar el 21 de febrero a las 21:30 horas\, en la nave de la Hermandad (junto al Decathlon).
URL:https://cordobacapitalcofrade.com/agenda/1o-ensayo-costaleros-cristo-oracion-y-caridad-2/
LOCATION:Nave Hermandad de la Conversión\, 15 C. J3 Pp Industrial Cr Palma\, Córdoba\, Córdoba\, 14005\, España
CATEGORIES:Ensayos Costaleros
END:VEVENT
END:VCALENDAR