BEGIN:VCALENDAR
VERSION:2.0
PRODID:-//Agenda Cofrade 365 Días - ECPv6.3.7//NONSGML v1.0//EN
CALSCALE:GREGORIAN
METHOD:PUBLISH
X-WR-CALNAME:Agenda Cofrade 365 Días
X-ORIGINAL-URL:https://cordobacapitalcofrade.com
X-WR-CALDESC:Eventos para Agenda Cofrade 365 Días
REFRESH-INTERVAL;VALUE=DURATION:PT1H
X-Robots-Tag:noindex
X-PUBLISHED-TTL:PT1H
BEGIN:VTIMEZONE
TZID:UTC
BEGIN:STANDARD
TZOFFSETFROM:+0000
TZOFFSETTO:+0000
TZNAME:UTC
DTSTART:20240101T000000
END:STANDARD
END:VTIMEZONE
BEGIN:VEVENT
DTSTART;TZID=UTC:20240222T213000
DTEND;TZID=UTC:20240223T003000
DTSTAMP:20260424T154123
CREATED:20231230T162815Z
LAST-MODIFIED:20231230T162815Z
UID:1127-1708637400-1708648200@cordobacapitalcofrade.com
SUMMARY:2º Ensayo de costaleros de Nuestro Padre Jesús de los Reyes
DESCRIPTION:2º Ensayo de costaleros de Nuestro Padre Jesús de los Reyes a las 21:30 horas en la Real Parroquia de San Lorenzo Mártir.
URL:https://cordobacapitalcofrade.com/agenda/2o-ensayo-de-costaleros-de-nuestro-padre-jesus-de-los-reyes/
LOCATION:Real Parroquia de San Lorenzo Mártir\, Pl. de San Lorenzo\, 5\, Córdoba\, España
CATEGORIES:Ensayos Costaleros
ATTACH;FMTTYPE=image/jpeg:https://cordobacapitalcofrade.com/wp-content/uploads/2023/12/Domingo-Ramos-Cordoba-procesion-Borriquita_1780332409_180560312_1024x682.jpg
END:VEVENT
BEGIN:VEVENT
DTSTART;TZID=UTC:20240223T210000
DTEND;TZID=UTC:20240223T230000
DTSTAMP:20260424T154123
CREATED:20240116T130830Z
LAST-MODIFIED:20240116T131620Z
UID:1685-1708722000-1708729200@cordobacapitalcofrade.com
SUMMARY:Ensayo Costaleras Stmo. Cristo de la Piedad
DESCRIPTION:Ensayo Costaleras Stmo. Cristo de la Piedad tendrá lugar el 23 de febrero a las 21 horas\, en los Salones Parroquiales de la Parroquia San Antonio María Claret.
URL:https://cordobacapitalcofrade.com/agenda/ensayo-costaleras-stmo-cristo-de-la-piedad-3/
LOCATION:Parroquia de San Antonio María Claret\, C. Sierra Nevada\, 1\, Poniente Nte.\, 14005 Córdoba\, Córdoba\, España
CATEGORIES:Ensayos Costaleros
END:VEVENT
BEGIN:VEVENT
DTSTART;TZID=UTC:20240223T210000
DTEND;TZID=UTC:20240223T233000
DTSTAMP:20260424T154123
CREATED:20240116T120631Z
LAST-MODIFIED:20240116T123208Z
UID:1625-1708722000-1708731000@cordobacapitalcofrade.com
SUMMARY:3° Ensayo Costaleros Ntra. Sra. De la Paz y Esperanza
DESCRIPTION:3° Ensayo Costaleros Ntra. Sra. De la Paz y Esperanza tendrá lugar el 23 de febrero a las 21 horas\, en la nave de salida.
URL:https://cordobacapitalcofrade.com/agenda/3er-ensayo-cuadrilla-ntra-sra-de-la-paz-y-esperanza/
LOCATION:Cocherón\, Plaza de Capuchinos\, Córdoba\, Córdoba\, 14001\, España
CATEGORIES:Ensayos Costaleros
END:VEVENT
BEGIN:VEVENT
DTSTART;TZID=UTC:20240223T211500
DTEND;TZID=UTC:20240224T001500
DTSTAMP:20260424T154123
CREATED:20240119T163846Z
LAST-MODIFIED:20240119T163846Z
UID:1763-1708722900-1708733700@cordobacapitalcofrade.com
SUMMARY:2º Ensayo de costaleros del Santísimo Cristo de la Caridad
DESCRIPTION:2º Ensayo de costaleros del Santísimo Cristo de la Caridad a las 21:15 horas desde la Parroquia de San Francisco y San Eulogio.
URL:https://cordobacapitalcofrade.com/agenda/2o-ensayo-de-costaleros-del-santisimo-cristo-de-la-caridad/
LOCATION:Parroquia de San Francisco y San Eulogio\, C. Compás de San Francisco\, 0\, Córdoba\, España
CATEGORIES:Ensayos Costaleros
ATTACH;FMTTYPE=image/jpeg:https://cordobacapitalcofrade.com/wp-content/uploads/2024/01/Imagen-Cristo-Caridad-procesion_1121598005_66531381_667x375.jpg
END:VEVENT
BEGIN:VEVENT
DTSTART;TZID=UTC:20240223T213000
DTEND;TZID=UTC:20240224T003000
DTSTAMP:20260424T154123
CREATED:20240103T163042Z
LAST-MODIFIED:20240103T163042Z
UID:1270-1708723800-1708734600@cordobacapitalcofrade.com
SUMMARY:3er Ensayo de costaleros de María Santísima de la Esperanza
DESCRIPTION:3er Ensayo de costaleros de María Santísima de la Esperanza a las 21:30 horas desde la Casa de Hermandad situada en la Calle Prolongación Escañuela\, 12.
URL:https://cordobacapitalcofrade.com/agenda/3er-ensayo-de-costaleros-de-maria-santisima-de-la-esperanza/
LOCATION:Casa de Hermandad de la Esperanza\, C. Escañuela\, 12\, Centro\, 14002 Córdoba\, Córdoba\, España
CATEGORIES:Ensayos Costaleros
ATTACH;FMTTYPE=image/jpeg:https://cordobacapitalcofrade.com/wp-content/uploads/2024/01/277913740_745049570184622_5351848744353609642_nfull.jpg
END:VEVENT
BEGIN:VEVENT
DTSTART;TZID=UTC:20240223T213000
DTEND;TZID=UTC:20240224T003000
DTSTAMP:20260424T154123
CREATED:20240114T153805Z
LAST-MODIFIED:20240114T153805Z
UID:1488-1708723800-1708734600@cordobacapitalcofrade.com
SUMMARY:1er Ensayo de costaleros de María Santísima de la Caridad
DESCRIPTION:1er Ensayo de costaleros de María Santísima de la Caridad a las 21:30 horas desde la Casa de Hdad. sita en la C/ Manchado\, 8.
URL:https://cordobacapitalcofrade.com/agenda/1er-ensayo-de-costaleros-de-maria-santisima-de-la-caridad/
LOCATION:Casa de Hermandad del Buen Suceso\, C. Manchado\, 8\, Centro\, 14002 Córdoba\, Córdoba\, España
CATEGORIES:Ensayos Costaleros
ATTACH;FMTTYPE=image/jpeg:https://cordobacapitalcofrade.com/wp-content/uploads/2024/01/Besamanos-Caridad-0316-min-scaled.jpg
END:VEVENT
BEGIN:VEVENT
DTSTART;TZID=UTC:20240223T213000
DTEND;TZID=UTC:20240224T213000
DTSTAMP:20260424T154123
CREATED:20240109T180931Z
LAST-MODIFIED:20240109T180931Z
UID:1417-1708723800-1708810200@cordobacapitalcofrade.com
SUMMARY:2º Ensayo de costaleros de la cuadrilla baja de Nuestra Señora de la Merced
DESCRIPTION:2º Ensayo de costaleros de la cuadrilla baja de Nuestra Señora de la Merced a las 21:30 horas desde la Casa de Hdad. sita en la Avenida Agrupación Córdoba
URL:https://cordobacapitalcofrade.com/agenda/2o-ensayo-de-costaleros-de-la-cuadrilla-baja-de-nuestra-senora-de-la-merced/
LOCATION:Casa de Hermandad de la Merc\, Av. Agrupación Córdoba\, 11\, Levante\, 14007 Córdoba\, Córdoba\, España
CATEGORIES:Ensayos Costaleros
ATTACH;FMTTYPE=image/jpeg:https://cordobacapitalcofrade.com/wp-content/uploads/2024/01/DSC_0103.jpg
END:VEVENT
END:VCALENDAR