BEGIN:VCALENDAR
VERSION:2.0
PRODID:-//Agenda Cofrade 365 Días - ECPv6.3.7//NONSGML v1.0//EN
CALSCALE:GREGORIAN
METHOD:PUBLISH
X-ORIGINAL-URL:https://cordobacapitalcofrade.com
X-WR-CALDESC:Eventos para Agenda Cofrade 365 Días
REFRESH-INTERVAL;VALUE=DURATION:PT1H
X-Robots-Tag:noindex
X-PUBLISHED-TTL:PT1H
BEGIN:VTIMEZONE
TZID:UTC
BEGIN:STANDARD
TZOFFSETFROM:+0000
TZOFFSETTO:+0000
TZNAME:UTC
DTSTART:20240101T000000
END:STANDARD
END:VTIMEZONE
BEGIN:VEVENT
DTSTART;TZID=UTC:20240301T210000
DTEND;TZID=UTC:20240301T230000
DTSTAMP:20260424T033309
CREATED:20240116T131002Z
LAST-MODIFIED:20240116T131002Z
UID:1687-1709326800-1709334000@cordobacapitalcofrade.com
SUMMARY:Ensayo Costaleros Stmo. Cristo de la Piedad
DESCRIPTION:Ensayo Costaleros Stmo. Cristo de la Piedad tendrá lugar el 1 de marzo a las 21 horas\, en los Salones Parroquiales de la Parroquia San Antonio María Claret.
URL:https://cordobacapitalcofrade.com/agenda/ensayo-costaleros-stmo-cristo-de-la-piedad-3/
LOCATION:Parroquia de San Antonio María Claret\, C. Sierra Nevada\, 1\, Poniente Nte.\, 14005 Córdoba\, Córdoba\, España
CATEGORIES:Ensayos Costaleros
END:VEVENT
BEGIN:VEVENT
DTSTART;TZID=UTC:20240301T210000
DTEND;TZID=UTC:20240302T000000
DTSTAMP:20260424T033309
CREATED:20240119T161949Z
LAST-MODIFIED:20240119T161949Z
UID:1753-1709326800-1709337600@cordobacapitalcofrade.com
SUMMARY:2º Ensayo de costaleros de María Santísima Nazarena
DESCRIPTION:2º Ensayo de costaleros de María Santísima Nazarena a las 21:00 horas desde el local de la Hermandad en la C/ Jesús Nazareno\, 19.
URL:https://cordobacapitalcofrade.com/agenda/2o-ensayo-de-costaleros-de-maria-santisima-nazarena/
LOCATION:Local Nazareno\, C/ Jesús Nazareno\, 19. \, Córdoba\, España
CATEGORIES:Ensayos Costaleros
ATTACH;FMTTYPE=image/jpeg:https://cordobacapitalcofrade.com/wp-content/uploads/2024/01/Hermandad-del-Nazareno-2022-0228-min-scaled.jpg
END:VEVENT
BEGIN:VEVENT
DTSTART;TZID=UTC:20240301T213000
DTEND;TZID=UTC:20240301T233000
DTSTAMP:20260424T033309
CREATED:20240116T122219Z
LAST-MODIFIED:20240116T123144Z
UID:1644-1709328600-1709335800@cordobacapitalcofrade.com
SUMMARY:2° Ensayo Costaleros Stmo. Cristo de Misericordia
DESCRIPTION:2° Ensayo Costaleros Stmo. Cristo de Misericordia tendrá lugar el 1 de marzo a las 21:30 horas\, en la Basílica Menor de San Pedro.
URL:https://cordobacapitalcofrade.com/agenda/2-ensayo-cuadrilla-stmo-cristo-de-misericordia/
LOCATION:Basilica Menor de San Pedro\, Plaza de San Pedro\, 1\, Córdoba\, Córdoba\, 14002\, España
CATEGORIES:Ensayos Costaleros
END:VEVENT
BEGIN:VEVENT
DTSTART;TZID=UTC:20240301T213000
DTEND;TZID=UTC:20240301T233000
DTSTAMP:20260424T033309
CREATED:20240116T124325Z
LAST-MODIFIED:20240116T124336Z
UID:1667-1709328600-1709335800@cordobacapitalcofrade.com
SUMMARY:2° Ensayo Costaleros Ntro. Padre Jesús de la Pasión
DESCRIPTION:2° Ensayo Costaleros Ntro. Padre Jesús de la Pasión tendrá lugar el 1 de marzo a las 21:30 horas\, en la Parroquia de Ntra. Sra. De la Paz (San Basilio).
URL:https://cordobacapitalcofrade.com/agenda/2-ensayo-costaleros-ntro-padre-jesus-de-la-pasion/
LOCATION:Parroquia de Nuestra Señora de la Paz\, Córdoba\, C/San Basilio\, Córdoba\, España
CATEGORIES:Ensayos Costaleros
END:VEVENT
BEGIN:VEVENT
DTSTART;TZID=UTC:20240301T213000
DTEND;TZID=UTC:20240301T233000
DTSTAMP:20260424T033309
CREATED:20240116T125236Z
LAST-MODIFIED:20240116T125236Z
UID:1675-1709328600-1709335800@cordobacapitalcofrade.com
SUMMARY:3° Ensayo Costaleros María Stma. Del Amor
DESCRIPTION:3° Ensayo Costaleros María Stma. Del Amor tendrá lugar el 1 de marzo a las 21:30 horas\, en los Salones Parroquiales de la Parroquia Ntra. Sra. De la Paz (San Basilio).
URL:https://cordobacapitalcofrade.com/agenda/3-ensayo-costaleros-maria-stma-del-amor/
LOCATION:Parroquia de Nuestra Señora de la Paz\, Córdoba\, C/San Basilio\, Córdoba\, España
CATEGORIES:Ensayos Costaleros
END:VEVENT
BEGIN:VEVENT
DTSTART;TZID=UTC:20240301T213000
DTEND;TZID=UTC:20240302T003000
DTSTAMP:20260424T033309
CREATED:20240106T145536Z
LAST-MODIFIED:20240106T145536Z
UID:1291-1709328600-1709339400@cordobacapitalcofrade.com
SUMMARY:2º y último Ensayo de costaleros de Nuestro Padre Jesús Humilde en la Coronación de Espinas
DESCRIPTION:2º y último Ensayo de costaleros de Nuestro Padre Jesús Humilde en la Coronación de Espinas a las 21:30 horas desde la Casa de Hermandad sita en la Av. Agrupación Córdoba\, 11.
URL:https://cordobacapitalcofrade.com/agenda/2o-y-ultimo-ensayo-de-costaleros-de-nuestro-padre-jesus-humilde-en-la-coronacion-de-espinas/
LOCATION:Casa Hermandad de la Merced\, Avenida Agrupación Córdoba\, 11\, Córdoba\, Córdoba\, 14007\, España
CATEGORIES:Ensayos Costaleros
ATTACH;FMTTYPE=image/jpeg:https://cordobacapitalcofrade.com/wp-content/uploads/2024/01/Veneracion-Coronacion-0099-min-scaled.jpg
END:VEVENT
BEGIN:VEVENT
DTSTART;TZID=UTC:20240301T213000
DTEND;TZID=UTC:20240302T003000
DTSTAMP:20260424T033309
CREATED:20240109T181214Z
LAST-MODIFIED:20240109T181214Z
UID:1419-1709328600-1709339400@cordobacapitalcofrade.com
SUMMARY:2º Ensayo de costaleros de la cuadrilla alta de Nuestra Señora de la Merced
DESCRIPTION:2º Ensayo de costaleros de la cuadrilla alta de Nuestra Señora de la Merced a las 21:30 horas desde la Casa de Hdad. sita en la Avenida Agrupación Córdoba
URL:https://cordobacapitalcofrade.com/agenda/2o-ensayo-de-costaleros-de-la-cuadrilla-alta-de-nuestra-senora-de-la-merced/
LOCATION:Casa de Hermandad de la Merc\, Av. Agrupación Córdoba\, 11\, Levante\, 14007 Córdoba\, Córdoba\, España
CATEGORIES:Ensayos Costaleros
ATTACH;FMTTYPE=image/jpeg:https://cordobacapitalcofrade.com/wp-content/uploads/2024/01/DSC_0103.jpg
END:VEVENT
BEGIN:VEVENT
DTSTART;TZID=UTC:20240301T213000
DTEND;TZID=UTC:20240302T003000
DTSTAMP:20260424T033309
CREATED:20240114T153942Z
LAST-MODIFIED:20240114T153942Z
UID:1491-1709328600-1709339400@cordobacapitalcofrade.com
SUMMARY:2º Ensayo de costaleros de María Santísima de la Caridad
DESCRIPTION:2º Ensayo de costaleros de María Santísima de la Caridad a las 21:30 horas desde la Casa de Hdad. sita en la C/ Manchado\, 8.
URL:https://cordobacapitalcofrade.com/agenda/2o-ensayo-de-costaleros-de-maria-santisima-de-la-caridad/
LOCATION:Casa de Hermandad del Buen Suceso\, C. Manchado\, 8\, Centro\, 14002 Córdoba\, Córdoba\, España
CATEGORIES:Ensayos Costaleros
ATTACH;FMTTYPE=image/jpeg:https://cordobacapitalcofrade.com/wp-content/uploads/2024/01/Besamanos-Caridad-0316-min-scaled.jpg
END:VEVENT
END:VCALENDAR