BEGIN:VCALENDAR
VERSION:2.0
PRODID:-//Agenda Cofrade 365 Días - ECPv6.3.7//NONSGML v1.0//EN
CALSCALE:GREGORIAN
METHOD:PUBLISH
X-WR-CALNAME:Agenda Cofrade 365 Días
X-ORIGINAL-URL:https://cordobacapitalcofrade.com
X-WR-CALDESC:Eventos para Agenda Cofrade 365 Días
REFRESH-INTERVAL;VALUE=DURATION:PT1H
X-Robots-Tag:noindex
X-PUBLISHED-TTL:PT1H
BEGIN:VTIMEZONE
TZID:UTC
BEGIN:STANDARD
TZOFFSETFROM:+0000
TZOFFSETTO:+0000
TZNAME:UTC
DTSTART:20240101T000000
END:STANDARD
END:VTIMEZONE
BEGIN:VEVENT
DTSTART;TZID=UTC:20240301T213000
DTEND;TZID=UTC:20240302T003000
DTSTAMP:20260423T143224
CREATED:20240106T145536Z
LAST-MODIFIED:20240106T145536Z
UID:1291-1709328600-1709339400@cordobacapitalcofrade.com
SUMMARY:2º y último Ensayo de costaleros de Nuestro Padre Jesús Humilde en la Coronación de Espinas
DESCRIPTION:2º y último Ensayo de costaleros de Nuestro Padre Jesús Humilde en la Coronación de Espinas a las 21:30 horas desde la Casa de Hermandad sita en la Av. Agrupación Córdoba\, 11.
URL:https://cordobacapitalcofrade.com/agenda/2o-y-ultimo-ensayo-de-costaleros-de-nuestro-padre-jesus-humilde-en-la-coronacion-de-espinas/
LOCATION:Casa Hermandad de la Merced\, Avenida Agrupación Córdoba\, 11\, Córdoba\, Córdoba\, 14007\, España
CATEGORIES:Ensayos Costaleros
ATTACH;FMTTYPE=image/jpeg:https://cordobacapitalcofrade.com/wp-content/uploads/2024/01/Veneracion-Coronacion-0099-min-scaled.jpg
END:VEVENT
BEGIN:VEVENT
DTSTART;TZID=UTC:20240301T213000
DTEND;TZID=UTC:20240302T003000
DTSTAMP:20260423T143224
CREATED:20240109T181214Z
LAST-MODIFIED:20240109T181214Z
UID:1419-1709328600-1709339400@cordobacapitalcofrade.com
SUMMARY:2º Ensayo de costaleros de la cuadrilla alta de Nuestra Señora de la Merced
DESCRIPTION:2º Ensayo de costaleros de la cuadrilla alta de Nuestra Señora de la Merced a las 21:30 horas desde la Casa de Hdad. sita en la Avenida Agrupación Córdoba
URL:https://cordobacapitalcofrade.com/agenda/2o-ensayo-de-costaleros-de-la-cuadrilla-alta-de-nuestra-senora-de-la-merced/
LOCATION:Casa de Hermandad de la Merc\, Av. Agrupación Córdoba\, 11\, Levante\, 14007 Córdoba\, Córdoba\, España
CATEGORIES:Ensayos Costaleros
ATTACH;FMTTYPE=image/jpeg:https://cordobacapitalcofrade.com/wp-content/uploads/2024/01/DSC_0103.jpg
END:VEVENT
BEGIN:VEVENT
DTSTART;TZID=UTC:20240301T213000
DTEND;TZID=UTC:20240302T003000
DTSTAMP:20260423T143224
CREATED:20240114T153942Z
LAST-MODIFIED:20240114T153942Z
UID:1491-1709328600-1709339400@cordobacapitalcofrade.com
SUMMARY:2º Ensayo de costaleros de María Santísima de la Caridad
DESCRIPTION:2º Ensayo de costaleros de María Santísima de la Caridad a las 21:30 horas desde la Casa de Hdad. sita en la C/ Manchado\, 8.
URL:https://cordobacapitalcofrade.com/agenda/2o-ensayo-de-costaleros-de-maria-santisima-de-la-caridad/
LOCATION:Casa de Hermandad del Buen Suceso\, C. Manchado\, 8\, Centro\, 14002 Córdoba\, Córdoba\, España
CATEGORIES:Ensayos Costaleros
ATTACH;FMTTYPE=image/jpeg:https://cordobacapitalcofrade.com/wp-content/uploads/2024/01/Besamanos-Caridad-0316-min-scaled.jpg
END:VEVENT
BEGIN:VEVENT
DTSTART;TZID=UTC:20240302T170000
DTEND;TZID=UTC:20240302T200000
DTSTAMP:20260423T143224
CREATED:20240108T204642Z
LAST-MODIFIED:20240108T204642Z
UID:1394-1709398800-1709409600@cordobacapitalcofrade.com
SUMMARY:3er Ensayo de costaleros del Santísimo Cristo del Amor
DESCRIPTION:3er Ensayo de costaleros del Santísimo Cristo del Amor a las 17:00 horas desde la Casa de Hdad. sita en el Pasaje Cristo del Amor.
URL:https://cordobacapitalcofrade.com/agenda/3er-ensayo-de-costaleros-del-santisimo-cristo-del-amor/
LOCATION:Casa de Hermandad del Amor\, Pje. Cristo del Amor\, 7\, Sur\, 14009 Córdoba\, Córdoba\, España
CATEGORIES:Ensayos Costaleros
ATTACH;FMTTYPE=image/jpeg:https://cordobacapitalcofrade.com/wp-content/uploads/2024/01/2023040220053790636.jpg
END:VEVENT
BEGIN:VEVENT
DTSTART;TZID=UTC:20240302T170000
DTEND;TZID=UTC:20240302T200000
DTSTAMP:20260423T143224
CREATED:20240109T182948Z
LAST-MODIFIED:20240109T182948Z
UID:1432-1709398800-1709409600@cordobacapitalcofrade.com
SUMMARY:3er Ensayo de costaleros de Nuestra Señora de la Estrella
DESCRIPTION:3er Ensayo de costaleros de Nuestra Señora de la Estrella a las 17:00 horas desde la Casa de Hermandad sita en la C/ Joaquín Sama-Naharro 26.
URL:https://cordobacapitalcofrade.com/agenda/3er-ensayo-de-costaleros-de-nuestra-senora-de-la-estrella/
LOCATION:Casa de Hermandad de la Estrella\, C. Joaquín Sama Naharro\, 26\, Noroeste\, 14006 Córdoba\, Córdoba\, España
CATEGORIES:Ensayos Costaleros
ATTACH;FMTTYPE=image/jpeg:https://cordobacapitalcofrade.com/wp-content/uploads/2024/01/Hermandad-de-la-Estrella-2022-0210-min-scaled.jpg
END:VEVENT
BEGIN:VEVENT
DTSTART;TZID=UTC:20240302T170000
DTEND;TZID=UTC:20240302T203000
DTSTAMP:20260423T143224
CREATED:20231124T105140Z
LAST-MODIFIED:20231124T105219Z
UID:679-1709398800-1709411400@cordobacapitalcofrade.com
SUMMARY:Ensayo de Nuestro Padre Jesús de la Sangre
DESCRIPTION:II ensayo de la cuadrilla de costaleros de Nuestro Padre Jesús de la Sangre\, el cual tendrá lugar en las dependencias de la cofradia (Calle Carbonell y Morand 16) a las 17 horas
URL:https://cordobacapitalcofrade.com/agenda/ensayo-de-nuestro-padre-jesus-de-la-sangre/
LOCATION:Casa Hermandad de la Sangre\, Calle Carbonell y Morand 16\, Cordoba\, Cordoba\, 14001\, España
CATEGORIES:Ensayos Costaleros
ATTACH;FMTTYPE=image/jpeg:https://cordobacapitalcofrade.com/wp-content/uploads/2023/11/399470104_728032849360687_5123864578923727193_n.jpg
END:VEVENT
BEGIN:VEVENT
DTSTART;TZID=UTC:20240302T173000
DTEND;TZID=UTC:20240302T203000
DTSTAMP:20260423T143224
CREATED:20231230T150339Z
LAST-MODIFIED:20231230T150339Z
UID:1107-1709400600-1709411400@cordobacapitalcofrade.com
SUMMARY:2º Ensayo de costaleros de Nuestro Padre Jesús de la Victoria
DESCRIPTION:2º Ensayo de costaleros de Nuestro Padre Jesús de la Victoria a las 17:30 horas desde el local de ensayos en el barrio de Fátima
URL:https://cordobacapitalcofrade.com/agenda/2o-ensayo-de-costaleros-de-nuestro-padre-jesus-de-la-victoria/
LOCATION:Local de ensayos O\, Barrio de Fátima
CATEGORIES:Ensayos Costaleros
ATTACH;FMTTYPE=image/jpeg:https://cordobacapitalcofrade.com/wp-content/uploads/2023/12/Senor-Victoria-via-crucis-ano_1834026713_193493485_1200x675.jpg
END:VEVENT
BEGIN:VEVENT
DTSTART;TZID=UTC:20240302T173000
DTEND;TZID=UTC:20240302T203000
DTSTAMP:20260423T143224
CREATED:20231230T151727Z
LAST-MODIFIED:20231230T151727Z
UID:1117-1709400600-1709411400@cordobacapitalcofrade.com
SUMMARY:2ºEnsayo de costaleros de María Santísima de la O
DESCRIPTION:2º Ensayo de costaleros de María Santísima de la O a las 17:30 horas desde el local de ensayos en el barrio de Fátima.
URL:https://cordobacapitalcofrade.com/agenda/2oensayo-de-costaleros-de-maria-santisima-de-la-o/
LOCATION:Local de ensayos O\, Barrio de Fátima
CATEGORIES:Ensayos Costaleros
ATTACH;FMTTYPE=image/jpeg:https://cordobacapitalcofrade.com/wp-content/uploads/2023/12/Besamanos-O-0177-min-scaled.jpg
END:VEVENT
END:VCALENDAR