BEGIN:VCALENDAR
VERSION:2.0
PRODID:-//Agenda Cofrade 365 Días - ECPv6.3.7//NONSGML v1.0//EN
CALSCALE:GREGORIAN
METHOD:PUBLISH
X-ORIGINAL-URL:https://cordobacapitalcofrade.com
X-WR-CALDESC:Eventos para Agenda Cofrade 365 Días
REFRESH-INTERVAL;VALUE=DURATION:PT1H
X-Robots-Tag:noindex
X-PUBLISHED-TTL:PT1H
BEGIN:VTIMEZONE
TZID:UTC
BEGIN:STANDARD
TZOFFSETFROM:+0000
TZOFFSETTO:+0000
TZNAME:UTC
DTSTART:20240101T000000
END:STANDARD
END:VTIMEZONE
BEGIN:VEVENT
DTSTART;TZID=UTC:20240308T211500
DTEND;TZID=UTC:20240309T001500
DTSTAMP:20260423T062514
CREATED:20240119T164050Z
LAST-MODIFIED:20240119T164050Z
UID:1768-1709932500-1709943300@cordobacapitalcofrade.com
SUMMARY:3er y último Ensayo de costaleros del Santísimo Cristo de la Caridad
DESCRIPTION:3er y último Ensayo de costaleros del Santísimo Cristo de la Caridad a las 21:15 horas desde la Parroquia de San Francisco y San Eulogio.
URL:https://cordobacapitalcofrade.com/agenda/3er-y-ultimo-ensayo-de-costaleros-del-santisimo-cristo-de-la-caridad/
LOCATION:Parroquia de San Francisco y San Eulogio\, C. Compás de San Francisco\, 0\, Córdoba\, España
CATEGORIES:Ensayos Costaleros
ATTACH;FMTTYPE=image/jpeg:https://cordobacapitalcofrade.com/wp-content/uploads/2024/01/Imagen-Cristo-Caridad-procesion_1121598005_66531381_667x375.jpg
END:VEVENT
BEGIN:VEVENT
DTSTART;TZID=UTC:20240308T213000
DTEND;TZID=UTC:20240309T003000
DTSTAMP:20260423T062514
CREATED:20240103T163255Z
LAST-MODIFIED:20240103T163255Z
UID:1272-1709933400-1709944200@cordobacapitalcofrade.com
SUMMARY:4º y último Ensayo de costaleros de María Santísima de la Esperanza
DESCRIPTION:4º y último Ensayo de costaleros de María Santísima de la Esperanza a las 21:30 horas desde la Casa de Hermandad situada en la Calle Prolongación Escañuela\, 12.
URL:https://cordobacapitalcofrade.com/agenda/4o-y-ultimo-ensayo-de-costaleros-de-maria-santisima-de-la-esperanza/
LOCATION:Casa de Hermandad de la Esperanza\, C. Escañuela\, 12\, Centro\, 14002 Córdoba\, Córdoba\, España
CATEGORIES:Ensayos Costaleros
ATTACH;FMTTYPE=image/jpeg:https://cordobacapitalcofrade.com/wp-content/uploads/2024/01/277913740_745049570184622_5351848744353609642_nfull.jpg
END:VEVENT
BEGIN:VEVENT
DTSTART;TZID=UTC:20240308T213000
DTEND;TZID=UTC:20240309T003000
DTSTAMP:20260423T062514
CREATED:20240109T181356Z
LAST-MODIFIED:20240109T181356Z
UID:1421-1709933400-1709944200@cordobacapitalcofrade.com
SUMMARY:3er y último Ensayo de costaleros de Nuestra Señora de la Merced
DESCRIPTION:3er y último Ensayo de costaleros de Nuestra Señora de la Merced a las 21:30 horas desde la Casa de Hdad. sita en la Avenida Agrupación Córdoba
URL:https://cordobacapitalcofrade.com/agenda/3er-y-ultimo-ensayo-de-costaleros-de-nuestra-senora-de-la-merced/
LOCATION:Casa de Hermandad de la Merc\, Av. Agrupación Córdoba\, 11\, Levante\, 14007 Córdoba\, Córdoba\, España
CATEGORIES:Ensayos Costaleros
ATTACH;FMTTYPE=image/jpeg:https://cordobacapitalcofrade.com/wp-content/uploads/2024/01/DSC_0103.jpg
END:VEVENT
BEGIN:VEVENT
DTSTART;TZID=UTC:20240308T213000
DTEND;TZID=UTC:20240309T003000
DTSTAMP:20260423T062514
CREATED:20240114T154118Z
LAST-MODIFIED:20240114T154118Z
UID:1493-1709933400-1709944200@cordobacapitalcofrade.com
SUMMARY:3er y último Ensayo de costaleros de María Santísima de la Caridad
DESCRIPTION:3er y último Ensayo de costaleros de María Santísima de la Caridad a las 21:30 horas desde la Casa de Hdad. sita en la C/ Manchado\, 8.
URL:https://cordobacapitalcofrade.com/agenda/3er-y-ultimo-ensayo-de-costaleros-de-maria-santisima-de-la-caridad/
LOCATION:Casa de Hermandad del Buen Suceso\, C. Manchado\, 8\, Centro\, 14002 Córdoba\, Córdoba\, España
CATEGORIES:Ensayos Costaleros
ATTACH;FMTTYPE=image/jpeg:https://cordobacapitalcofrade.com/wp-content/uploads/2024/01/Besamanos-Caridad-0316-min-scaled.jpg
END:VEVENT
BEGIN:VEVENT
DTSTART;TZID=UTC:20240308T213000
DTEND;TZID=UTC:20240309T013000
DTSTAMP:20260423T062514
CREATED:20240114T155534Z
LAST-MODIFIED:20240114T155534Z
UID:1505-1709933400-1709947800@cordobacapitalcofrade.com
SUMMARY:3er Ensayo de costaleros de Nuestro Padre Jesús Divino Salvador en su Prendimiento y Nuestra Señora de la Piedad
DESCRIPTION:3er Ensayo de costaleros de Nuestro Padre Jesús Divino Salvador en su Prendimiento y Nuestra Señora de la Piedad a las 21:30 horas desde el local de la Hdad. en la Calle María Auxiliadora.
URL:https://cordobacapitalcofrade.com/agenda/3er-ensayo-de-costaleros-de-nuestro-padre-jesus-divino-salvador-en-su-prendimiento-y-nuestra-senora-de-la-piedad/
LOCATION:Santuario de María Auxiliadora\, C. María Auxiliadora\, 8\, Centro\, 14002 Córdoba\, Córdoba\, España
CATEGORIES:Ensayos Costaleros
ATTACH;FMTTYPE=image/jpeg:https://cordobacapitalcofrade.com/wp-content/uploads/2024/01/maxresdefault-1-1.jpg
END:VEVENT
BEGIN:VEVENT
DTSTART;TZID=UTC:20240308T220000
DTEND;TZID=UTC:20240309T010000
DTSTAMP:20260423T062514
CREATED:20240108T202355Z
LAST-MODIFIED:20240108T202355Z
UID:1378-1709935200-1709946000@cordobacapitalcofrade.com
SUMMARY:3er y último Ensayo de costaleros de Nuestro Padre Jesús de las Penas
DESCRIPTION:3er y último Ensayo de costaleros de Nuestro Padre Jesús de las Penas a las 22:00 horas desde la Casa de Hdad. sita en la C/ Escañuela\, 10.
URL:https://cordobacapitalcofrade.com/agenda/3er-y-ultimo-ensayo-de-costaleros-de-nuestro-padre-jesus-de-las-penas/
LOCATION:Casa de Hermandad de la Esperanza\, C. Escañuela\, 12\, Centro\, 14002 Córdoba\, Córdoba\, España
CATEGORIES:Ensayos Costaleros
ATTACH;FMTTYPE=image/jpeg:https://cordobacapitalcofrade.com/wp-content/uploads/2024/01/Esperanza-2023-0859-min-scaled.jpg
END:VEVENT
BEGIN:VEVENT
DTSTART;TZID=UTC:20240309T110000
DTEND;TZID=UTC:20240309T140000
DTSTAMP:20260423T062514
CREATED:20231230T141233Z
LAST-MODIFIED:20231230T141233Z
UID:1077-1709982000-1709992800@cordobacapitalcofrade.com
SUMMARY:2º y último Ensayo de costaleros de Nuestro Padre Jesús Nazareno de la Compasión
DESCRIPTION:2º y último Ensayo de costaleros de Nuestro Padre Jesús Nazareno de la Compasión a las 11:00 horas desde la Parroquia de San Isidro Labrador
URL:https://cordobacapitalcofrade.com/agenda/2o-y-ultimo-ensayo-de-costaleros-de-nuestro-padre-jesus-nazareno-de-la-compasion/
LOCATION:Parroquia de San Isidro Labrador\, Avenida Principal\, 14193 Córdoba\, Córdoba\, España
CATEGORIES:Ensayos Costaleros
ATTACH;FMTTYPE=image/jpeg:https://cordobacapitalcofrade.com/wp-content/uploads/2023/12/406785583_2025820967787617_407070299636843675_n.jpg
END:VEVENT
BEGIN:VEVENT
DTSTART;TZID=UTC:20240309T163000
DTEND;TZID=UTC:20240309T190000
DTSTAMP:20260423T062514
CREATED:20231124T105557Z
LAST-MODIFIED:20231124T105557Z
UID:681-1710001800-1710010800@cordobacapitalcofrade.com
SUMMARY:Ensayo de Nuestra Señora Reina de los Ángeles
DESCRIPTION:II y último ensayo de la cuadrilla de costaleros de la Reina de los Ángeles en las dependencias de la cofradía ( Calle Carbonell y Morand 16) a las 16:30
URL:https://cordobacapitalcofrade.com/agenda/ensayo-de-nuestra-senora-reina-de-los-angeles/
LOCATION:Casa Hermandad de la Sangre\, Calle Carbonell y Morand 16\, Cordoba\, Cordoba\, 14001\, España
CATEGORIES:Ensayos Costaleros
ATTACH;FMTTYPE=image/jpeg:https://cordobacapitalcofrade.com/wp-content/uploads/2023/11/398644289_724484409715531_5446629785400326898_n-1.jpg
END:VEVENT
BEGIN:VEVENT
DTSTART;TZID=UTC:20240309T170000
DTEND;TZID=UTC:20240309T200000
DTSTAMP:20260423T062514
CREATED:20240103T161137Z
LAST-MODIFIED:20240103T161137Z
UID:1258-1710003600-1710014400@cordobacapitalcofrade.com
SUMMARY:3er Ensayo de costaleros de María Santísima del Dulce Nombre
DESCRIPTION:3er Ensayo de costaleros de María Santísima del Dulce Nombre a las 17:00 horas desde la Casa de Hermandad sita en la Calle Infante Don Juan Manuel nº2.
URL:https://cordobacapitalcofrade.com/agenda/3er-ensayo-de-costaleros-de-maria-santisima-del-dulce-nombre/
LOCATION:Casa de Hermandad Vera Cruz\, C. Infante Don Juan Manuel\, 7\, Sur\, 14009 Córdoba\, Córdoba\, España
CATEGORIES:Ensayos Costaleros
ATTACH;FMTTYPE=image/jpeg:https://cordobacapitalcofrade.com/wp-content/uploads/2024/01/vera-cruz-ssanta22-7.jpg
END:VEVENT
BEGIN:VEVENT
DTSTART;TZID=UTC:20240309T170000
DTEND;TZID=UTC:20240309T200000
DTSTAMP:20260423T062514
CREATED:20240108T204752Z
LAST-MODIFIED:20240108T204752Z
UID:1396-1710003600-1710014400@cordobacapitalcofrade.com
SUMMARY:4º y último Ensayo de costaleros del Santísimo Cristo del Amor
DESCRIPTION:4º y último Ensayo de costaleros del Santísimo Cristo del Amor a las 17:00 horas desde la Casa de Hdad. sita en el Pasaje Cristo del Amor.
URL:https://cordobacapitalcofrade.com/agenda/4o-y-ultimo-ensayo-de-costaleros-del-santisimo-cristo-del-amor/
LOCATION:Casa de Hermandad del Amor\, Pje. Cristo del Amor\, 7\, Sur\, 14009 Córdoba\, Córdoba\, España
CATEGORIES:Ensayos Costaleros
ATTACH;FMTTYPE=image/jpeg:https://cordobacapitalcofrade.com/wp-content/uploads/2024/01/2023040220053790636.jpg
END:VEVENT
BEGIN:VEVENT
DTSTART;TZID=UTC:20240309T170000
DTEND;TZID=UTC:20240309T200000
DTSTAMP:20260423T062514
CREATED:20240109T183052Z
LAST-MODIFIED:20240109T183402Z
UID:1434-1710003600-1710014400@cordobacapitalcofrade.com
SUMMARY:4º y último Ensayo de costaleros de Nuestra Señora de la Estrella
DESCRIPTION:4º y último Ensayo de costaleros de Nuestra Señora de la Estrella a las 17:00 horas desde la Casa de Hermandad sita en la C/ Joaquín Sama-Naharro 26.
URL:https://cordobacapitalcofrade.com/agenda/4o-y-ultimo-ensayo-de-costaleros-de-nuestra-senora-de-la-estrella-a-las-1700-horas/
LOCATION:Casa de Hermandad de la Estrella\, C. Joaquín Sama Naharro\, 26\, Noroeste\, 14006 Córdoba\, Córdoba\, España
CATEGORIES:Ensayos Costaleros
ATTACH;FMTTYPE=image/jpeg:https://cordobacapitalcofrade.com/wp-content/uploads/2024/01/Hermandad-de-la-Estrella-2022-0210-min-scaled.jpg
END:VEVENT
BEGIN:VEVENT
DTSTART;TZID=UTC:20240309T190000
DTEND;TZID=UTC:20240309T220000
DTSTAMP:20260423T062514
CREATED:20231230T142444Z
LAST-MODIFIED:20231230T142444Z
UID:1088-1710010800-1710021600@cordobacapitalcofrade.com
SUMMARY:2º Ensayo de costaleros del Santísimo Cristo de las Lágrimas
DESCRIPTION:2º Ensayo de costaleros del Santísimo Cristo de las Lágrimas a las 19:00 horas en el local de ensayos situado en la barriada de San Rafael de la Albaida.
URL:https://cordobacapitalcofrade.com/agenda/2o-ensayo-de-costaleros-del-santisimo-cristo-de-las-lagrimas/
LOCATION:Local de ensayo Lágrimas\, San Rafael de la Albaida\, Córdoba\, España
CATEGORIES:Ensayos Costaleros
ATTACH;FMTTYPE=image/jpeg:https://cordobacapitalcofrade.com/wp-content/uploads/2023/12/Lagrimas-2023-0047-min-scaled.jpg
END:VEVENT
END:VCALENDAR