BEGIN:VCALENDAR
VERSION:2.0
PRODID:-//Agenda Cofrade 365 Días - ECPv6.3.7//NONSGML v1.0//EN
CALSCALE:GREGORIAN
METHOD:PUBLISH
X-WR-CALNAME:Agenda Cofrade 365 Días
X-ORIGINAL-URL:https://cordobacapitalcofrade.com
X-WR-CALDESC:Eventos para Agenda Cofrade 365 Días
REFRESH-INTERVAL;VALUE=DURATION:PT1H
X-Robots-Tag:noindex
X-PUBLISHED-TTL:PT1H
BEGIN:VTIMEZONE
TZID:UTC
BEGIN:STANDARD
TZOFFSETFROM:+0000
TZOFFSETTO:+0000
TZNAME:UTC
DTSTART:20240101T000000
END:STANDARD
END:VTIMEZONE
BEGIN:VEVENT
DTSTART;TZID=UTC:20240313T210000
DTEND;TZID=UTC:20240313T235900
DTSTAMP:20260423T045234
CREATED:20240129T164729Z
LAST-MODIFIED:20240129T164729Z
UID:2067-1710363600-1710374340@cordobacapitalcofrade.com
SUMMARY:4° Ensayo Costaleros cuadrilla baja de Ntro. Padre Jesús de los Afligidos
DESCRIPTION:4° Ensayo Costaleros cuadrilla baja de Ntro. Padre Jesús de los Afligidos\, tendrá lugar el 13 de marzo a las 21 horas en el barrio de Cañero.
URL:https://cordobacapitalcofrade.com/agenda/4-ensayo-costaleros-cuadrilla-baja-de-ntro-padre-jesus-de-los-afligidos/
LOCATION:Parroquia de San Vicente Ferrer (Cañero)\, C. Funcionario Lázaro Navajas\, 70\, 14014 Córdoba\, España\, Córdoba\, España
CATEGORIES:Ensayos Costaleros
END:VEVENT
BEGIN:VEVENT
DTSTART;TZID=UTC:20240313T210000
DTEND;TZID=UTC:20240314T000000
DTSTAMP:20260423T045234
CREATED:20240119T183022Z
LAST-MODIFIED:20240119T183022Z
UID:1839-1710363600-1710374400@cordobacapitalcofrade.com
SUMMARY:3er Ensayo de costaleros del Santísimo Cristo de Gracia
DESCRIPTION:3er Ensayo de costaleros del Santísimo Cristo de Gracia a las 21:00 horas desde el Colegio de los Trinitarios.
URL:https://cordobacapitalcofrade.com/agenda/3er-ensayo-de-costaleros-del-santisimo-cristo-de-gracia/
LOCATION:Patio del Colegio de los Trinitarios\, C. Rda. del Marrubial\, 2\, Centro\, 14007 Córdoba\, Córdoba\, España
CATEGORIES:Ensayos Costaleros
ATTACH;FMTTYPE=image/jpeg:https://cordobacapitalcofrade.com/wp-content/uploads/2024/01/Hermandad-del-Cristo-de-Gracia-Esparraguero-0859-min-scaled.jpg
END:VEVENT
BEGIN:VEVENT
DTSTART;TZID=UTC:20240313T213000
DTEND;TZID=UTC:20240313T233000
DTSTAMP:20260423T045234
CREATED:20240119T211543Z
LAST-MODIFIED:20240119T211543Z
UID:1862-1710365400-1710372600@cordobacapitalcofrade.com
SUMMARY:3º Ensayo Costaleros Cristo Oración y Caridad
DESCRIPTION:3º Ensayo Costaleros Cristo Oración y Caridad tendrá lugar el 13 de marzo a las 21:30 horas\, en la nave de la Hermandad (junto al Decathlon).
URL:https://cordobacapitalcofrade.com/agenda/3o-ensayo-costaleros-cristo-oracion-y-caridad/
LOCATION:Nave Hermandad de la Conversión\, 15 C. J3 Pp Industrial Cr Palma\, Córdoba\, Córdoba\, 14005\, España
CATEGORIES:Ensayos Costaleros
END:VEVENT
END:VCALENDAR