BEGIN:VCALENDAR
VERSION:2.0
PRODID:-//Agenda Cofrade 365 Días - ECPv6.3.7//NONSGML v1.0//EN
CALSCALE:GREGORIAN
METHOD:PUBLISH
X-WR-CALNAME:Agenda Cofrade 365 Días
X-ORIGINAL-URL:https://cordobacapitalcofrade.com
X-WR-CALDESC:Eventos para Agenda Cofrade 365 Días
REFRESH-INTERVAL;VALUE=DURATION:PT1H
X-Robots-Tag:noindex
X-PUBLISHED-TTL:PT1H
BEGIN:VTIMEZONE
TZID:UTC
BEGIN:STANDARD
TZOFFSETFROM:+0000
TZOFFSETTO:+0000
TZNAME:UTC
DTSTART:20240101T000000
END:STANDARD
END:VTIMEZONE
BEGIN:VEVENT
DTSTART;TZID=UTC:20240314T210000
DTEND;TZID=UTC:20240314T230000
DTSTAMP:20260423T045133
CREATED:20240119T164348Z
LAST-MODIFIED:20240119T164348Z
UID:1779-1710450000-1710457200@cordobacapitalcofrade.com
SUMMARY:3º Ensayo Costaleros y mudá del paso María Stma. En su Soledad
DESCRIPTION:3º Ensayo Costaleros y mudá del paso de María Stma. En su Soledad\, tendrá lugar el 14 de marzo a las 21 horas\, en su Casa Hermandad.
URL:https://cordobacapitalcofrade.com/agenda/3o-ensayo-costaleros-y-muda-del-paso-maria-stma-en-su-soledad/
LOCATION:Casa Hermandad de la Soledad\, Calle Cronista Maraver\, 20\, Córdoba\, Córdoba\, 14007\, España
CATEGORIES:Ensayos Costaleros
END:VEVENT
BEGIN:VEVENT
DTSTART;TZID=UTC:20240314T210000
DTEND;TZID=UTC:20240315T000000
DTSTAMP:20260423T045133
CREATED:20231230T135410Z
LAST-MODIFIED:20231230T135410Z
UID:1068-1710450000-1710460800@cordobacapitalcofrade.com
SUMMARY:4º y último Ensayo de costaleros del Santísimo Cristo de la Providencia
DESCRIPTION:4º y último Ensayo de costaleros del Santísimo Cristo de la Providencia a las 21:00 horas desde el Local de ensayos ubicado en la Calle González López\, 1.
URL:https://cordobacapitalcofrade.com/agenda/4o-y-ultimo-ensayo-de-costaleros-del-santisimo-cristo-de-la-providencia/
LOCATION:Local de Ensayos Parroquia de la Trinidad\, C. González López\, 1\, Centro\, 14003 Córdoba\, Córdoba\, España
CATEGORIES:Ensayos Costaleros
ATTACH;FMTTYPE=image/jpeg:https://cordobacapitalcofrade.com/wp-content/uploads/2023/12/via-crucis-providencia-ssanta22-2.jpg
END:VEVENT
END:VCALENDAR