BEGIN:VCALENDAR
VERSION:2.0
PRODID:-//Agenda Cofrade 365 Días - ECPv6.3.7//NONSGML v1.0//EN
CALSCALE:GREGORIAN
METHOD:PUBLISH
X-ORIGINAL-URL:https://cordobacapitalcofrade.com
X-WR-CALDESC:Eventos para Agenda Cofrade 365 Días
REFRESH-INTERVAL;VALUE=DURATION:PT1H
X-Robots-Tag:noindex
X-PUBLISHED-TTL:PT1H
BEGIN:VTIMEZONE
TZID:UTC
BEGIN:STANDARD
TZOFFSETFROM:+0000
TZOFFSETTO:+0000
TZNAME:UTC
DTSTART:20240101T000000
END:STANDARD
END:VTIMEZONE
BEGIN:VEVENT
DTSTART;TZID=UTC:20240315T080000
DTEND;TZID=UTC:20240315T170000
DTSTAMP:20260423T151118
CREATED:20240116T122330Z
LAST-MODIFIED:20240116T123051Z
UID:1646-1710489600-1710522000@cordobacapitalcofrade.com
SUMMARY:3° Ensayo Costaleros Stmo. Cristo de Misericordia
DESCRIPTION:3° Ensayo Costaleros Stmo. Cristo de Misericordia tendrá lugar el 15 de marzo a las 21:30 horas\, en la Basílica Menor de San Pedro.
URL:https://cordobacapitalcofrade.com/agenda/3-ensayo-cuadrilla-stmo-cristo-de-misericordia/
LOCATION:Basilica Menor de San Pedro\, Plaza de San Pedro\, 1\, Córdoba\, Córdoba\, 14002\, España
CATEGORIES:Ensayos Costaleros
END:VEVENT
BEGIN:VEVENT
DTSTART;TZID=UTC:20240315T210000
DTEND;TZID=UTC:20240315T230000
DTSTAMP:20260423T151118
CREATED:20240116T131413Z
LAST-MODIFIED:20240116T131413Z
UID:1691-1710536400-1710543600@cordobacapitalcofrade.com
SUMMARY:Ensayo Costaleros Stmo. Cristo de la Piedad
DESCRIPTION:Ensayo Costaleros Stmo. Cristo de la Piedad tendrá lugar el 15 de marzo a las 21 horas\, en los Salones Parroquiales de la Parroquia San Antonio María Claret.
URL:https://cordobacapitalcofrade.com/agenda/ensayo-costaleros-stmo-cristo-de-la-piedad-4/
LOCATION:Parroquia de San Antonio María Claret\, C. Sierra Nevada\, 1\, Poniente Nte.\, 14005 Córdoba\, Córdoba\, España
CATEGORIES:Ensayos Costaleros
END:VEVENT
BEGIN:VEVENT
DTSTART;TZID=UTC:20240315T210000
DTEND;TZID=UTC:20240315T233000
DTSTAMP:20260423T151118
CREATED:20240116T120803Z
LAST-MODIFIED:20240116T123027Z
UID:1627-1710536400-1710545400@cordobacapitalcofrade.com
SUMMARY:4° Ensayo Costaleros Ntra. Sra. De la Paz y Esperanza
DESCRIPTION:4° Ensayo Costaleros Ntra. Sra. De la Paz y Esperanza tendrá lugar el 8 de marzo a las 21 horas\, en la nave de salida.
URL:https://cordobacapitalcofrade.com/agenda/4to-ensayo-cuadrilla-ntra-sra-de-la-paz-y-esperanza/
LOCATION:Cocherón\, Plaza de Capuchinos\, Córdoba\, Córdoba\, 14001\, España
CATEGORIES:Ensayos Costaleros
END:VEVENT
BEGIN:VEVENT
DTSTART;TZID=UTC:20240315T213000
DTEND;TZID=UTC:20240315T233000
DTSTAMP:20260423T151118
CREATED:20240116T124504Z
LAST-MODIFIED:20240116T124504Z
UID:1669-1710538200-1710545400@cordobacapitalcofrade.com
SUMMARY:3° Ensayo Costaleros Ntro. Padre Jesús de la Pasión
DESCRIPTION:3° Ensayo Costaleros Ntro. Padre Jesús de la Pasión tendrá lugar el 15 de marzo a las 21:30 horas\, en la Parroquia de Ntra. Sra. De la Paz (San Basilio).
URL:https://cordobacapitalcofrade.com/agenda/3-ensayo-costaleros-ntro-padre-jesus-de-la-pasion/
LOCATION:Parroquia de Nuestra Señora de la Paz\, Córdoba\, C/San Basilio\, Córdoba\, España
CATEGORIES:Ensayos Costaleros
END:VEVENT
BEGIN:VEVENT
DTSTART;TZID=UTC:20240315T213000
DTEND;TZID=UTC:20240316T013000
DTSTAMP:20260423T151118
CREATED:20240114T155731Z
LAST-MODIFIED:20240114T155731Z
UID:1508-1710538200-1710552600@cordobacapitalcofrade.com
SUMMARY:4º Ensayo de costaleros de Nuestro Padre Jesús Divino Salvador en su Prendimiento y Nuestra Señora de la Piedad 
DESCRIPTION:4º Ensayo de costaleros de Nuestro Padre Jesús Divino Salvador en su Prendimiento y Nuestra Señora de la Piedad a las 21:30 horas desde el local de la Hdad. en la Calle María Auxiliadora.
URL:https://cordobacapitalcofrade.com/agenda/4o-ensayo-de-costaleros-de-nuestro-padre-jesus-divino-salvador-en-su-prendimiento-y-nuestra-senora-de-la-piedad/
LOCATION:Santuario de María Auxiliadora\, C. María Auxiliadora\, 8\, Centro\, 14002 Córdoba\, Córdoba\, España
CATEGORIES:Ensayos Costaleros
ATTACH;FMTTYPE=image/jpeg:https://cordobacapitalcofrade.com/wp-content/uploads/2024/01/Prendimiento-Virgen-Piedad-Santuario-Auxiliadora_1743735683_171750740_667x375.jpg
END:VEVENT
END:VCALENDAR