BEGIN:VCALENDAR
VERSION:2.0
PRODID:-//Agenda Cofrade 365 Días - ECPv6.3.7//NONSGML v1.0//EN
CALSCALE:GREGORIAN
METHOD:PUBLISH
X-WR-CALNAME:Agenda Cofrade 365 Días
X-ORIGINAL-URL:https://cordobacapitalcofrade.com
X-WR-CALDESC:Eventos para Agenda Cofrade 365 Días
REFRESH-INTERVAL;VALUE=DURATION:PT1H
X-Robots-Tag:noindex
X-PUBLISHED-TTL:PT1H
BEGIN:VTIMEZONE
TZID:UTC
BEGIN:STANDARD
TZOFFSETFROM:+0000
TZOFFSETTO:+0000
TZNAME:UTC
DTSTART:20240101T000000
END:STANDARD
END:VTIMEZONE
BEGIN:VEVENT
DTSTART;TZID=UTC:20240315T213000
DTEND;TZID=UTC:20240316T013000
DTSTAMP:20260423T045152
CREATED:20240114T155731Z
LAST-MODIFIED:20240114T155731Z
UID:1508-1710538200-1710552600@cordobacapitalcofrade.com
SUMMARY:4º Ensayo de costaleros de Nuestro Padre Jesús Divino Salvador en su Prendimiento y Nuestra Señora de la Piedad 
DESCRIPTION:4º Ensayo de costaleros de Nuestro Padre Jesús Divino Salvador en su Prendimiento y Nuestra Señora de la Piedad a las 21:30 horas desde el local de la Hdad. en la Calle María Auxiliadora.
URL:https://cordobacapitalcofrade.com/agenda/4o-ensayo-de-costaleros-de-nuestro-padre-jesus-divino-salvador-en-su-prendimiento-y-nuestra-senora-de-la-piedad/
LOCATION:Santuario de María Auxiliadora\, C. María Auxiliadora\, 8\, Centro\, 14002 Córdoba\, Córdoba\, España
CATEGORIES:Ensayos Costaleros
ATTACH;FMTTYPE=image/jpeg:https://cordobacapitalcofrade.com/wp-content/uploads/2024/01/Prendimiento-Virgen-Piedad-Santuario-Auxiliadora_1743735683_171750740_667x375.jpg
END:VEVENT
BEGIN:VEVENT
DTSTART;TZID=UTC:20240316T173000
DTEND;TZID=UTC:20240316T203000
DTSTAMP:20260423T045152
CREATED:20231231T145132Z
LAST-MODIFIED:20231231T145132Z
UID:1160-1710610200-1710621000@cordobacapitalcofrade.com
SUMMARY:3er y último Ensayo de costaleros de María Santísima de la Concepción
DESCRIPTION:3er y último Ensayo de costaleros de María Santísima de la Concepción a las 17:30 horas desde la Parroquia de Santiago Apóstol.
URL:https://cordobacapitalcofrade.com/agenda/3er-y-ultimo-ensayo-de-costaleros-de-maria-santisima-de-la-concepcion/
LOCATION:Parroquia de Santiago Apóstol\, C. de Agustín Moreno\, 26\, 14002 Córdoba\, Córdoba\, España
CATEGORIES:Ensayos Costaleros
ATTACH;FMTTYPE=image/jpeg:https://cordobacapitalcofrade.com/wp-content/uploads/2023/12/Penas-de-Santiago-2023-0505-min-scaled.jpg
END:VEVENT
BEGIN:VEVENT
DTSTART;TZID=UTC:20240316T190000
DTEND;TZID=UTC:20240316T220000
DTSTAMP:20260423T045152
CREATED:20231230T142640Z
LAST-MODIFIED:20231230T142640Z
UID:1090-1710615600-1710626400@cordobacapitalcofrade.com
SUMMARY:3er Ensayo de costaleros del Santísimo Cristo de las Lágrimas
DESCRIPTION:3er Ensayo de costaleros del Santísimo Cristo de las Lágrimas a las 19:00 horas en el local de ensayos situado en la barriada de San Rafael de la Albaida.
URL:https://cordobacapitalcofrade.com/agenda/3er-ensayo-de-costaleros-del-santisimo-cristo-de-las-lagrimas/
LOCATION:Local de ensayo Lágrimas\, San Rafael de la Albaida\, Córdoba\, España
CATEGORIES:Ensayos Costaleros
ATTACH;FMTTYPE=image/jpeg:https://cordobacapitalcofrade.com/wp-content/uploads/2023/12/Lagrimas-2023-0047-min-scaled.jpg
END:VEVENT
END:VCALENDAR