BEGIN:VCALENDAR
VERSION:2.0
PRODID:-//Agenda Cofrade 365 Días - ECPv6.3.7//NONSGML v1.0//EN
CALSCALE:GREGORIAN
METHOD:PUBLISH
X-WR-CALNAME:Agenda Cofrade 365 Días
X-ORIGINAL-URL:https://cordobacapitalcofrade.com
X-WR-CALDESC:Eventos para Agenda Cofrade 365 Días
REFRESH-INTERVAL;VALUE=DURATION:PT1H
X-Robots-Tag:noindex
X-PUBLISHED-TTL:PT1H
BEGIN:VTIMEZONE
TZID:UTC
BEGIN:STANDARD
TZOFFSETFROM:+0000
TZOFFSETTO:+0000
TZNAME:UTC
DTSTART:20240101T000000
END:STANDARD
END:VTIMEZONE
BEGIN:VEVENT
DTSTART;TZID=UTC:20240319T213000
DTEND;TZID=UTC:20240319T233000
DTSTAMP:20260423T045154
CREATED:20231230T150805Z
LAST-MODIFIED:20231230T150814Z
UID:1109-1710883800-1710891000@cordobacapitalcofrade.com
SUMMARY:Mudá del paso de Nuestro Padre Jesús de la Victoria
DESCRIPTION:Mudá del paso de Nuestro Padre Jesús de la Victoria a las 21:30 horas desde el local de ensayos en el barrio de Fátima
URL:https://cordobacapitalcofrade.com/agenda/muda-del-paso-de-nuestro-padre-jesus-de-la-victoria/
LOCATION:Local de ensayos O\, Barrio de Fátima
CATEGORIES:Ensayos Costaleros
ATTACH;FMTTYPE=image/jpeg:https://cordobacapitalcofrade.com/wp-content/uploads/2023/12/Senor-Victoria-via-crucis-ano_1834026713_193493485_1200x675.jpg
END:VEVENT
BEGIN:VEVENT
DTSTART;TZID=UTC:20240319T213000
DTEND;TZID=UTC:20240319T233000
DTSTAMP:20260423T045154
CREATED:20231230T161524Z
LAST-MODIFIED:20231230T161524Z
UID:1119-1710883800-1710891000@cordobacapitalcofrade.com
SUMMARY:Mudá del paso de María Santísima de la O
DESCRIPTION:Mudá del paso de María Santísima de la O a las 21:30 horas desde el local de ensayos en el barrio de Fátima.
URL:https://cordobacapitalcofrade.com/agenda/muda-del-paso-de-maria-santisima-de-la-o/
LOCATION:Local de ensayos O\, Barrio de Fátima
CATEGORIES:Ensayos Costaleros
ATTACH;FMTTYPE=image/jpeg:https://cordobacapitalcofrade.com/wp-content/uploads/2023/12/Besamanos-O-0177-min-scaled.jpg
END:VEVENT
END:VCALENDAR