BEGIN:VCALENDAR
VERSION:2.0
PRODID:-//Agenda Cofrade 365 Días - ECPv6.3.7//NONSGML v1.0//EN
CALSCALE:GREGORIAN
METHOD:PUBLISH
X-ORIGINAL-URL:https://cordobacapitalcofrade.com
X-WR-CALDESC:Eventos para Agenda Cofrade 365 Días
REFRESH-INTERVAL;VALUE=DURATION:PT1H
X-Robots-Tag:noindex
X-PUBLISHED-TTL:PT1H
BEGIN:VTIMEZONE
TZID:UTC
BEGIN:STANDARD
TZOFFSETFROM:+0000
TZOFFSETTO:+0000
TZNAME:UTC
DTSTART:20240101T000000
END:STANDARD
END:VTIMEZONE
BEGIN:VEVENT
DTSTART;TZID=UTC:20240321T190000
DTEND;TZID=UTC:20240321T220000
DTSTAMP:20260423T192811
CREATED:20231230T142831Z
LAST-MODIFIED:20231230T142831Z
UID:1092-1711047600-1711058400@cordobacapitalcofrade.com
SUMMARY:4º Ensayo de costaleros y mudá del Santísimo Cristo de las Lágrimas
DESCRIPTION:4º Ensayo de costaleros y mudá del Santísimo Cristo de las Lágrimas a las 19:00 horas en el local de ensayos situado en la barriada de San Rafael de la Albaida.
URL:https://cordobacapitalcofrade.com/agenda/4o-ensayo-de-costaleros-y-muda-del-santisimo-cristo-de-las-lagrimas/
LOCATION:Local de ensayo Lágrimas\, San Rafael de la Albaida\, Córdoba\, España
CATEGORIES:Ensayos Costaleros
ATTACH;FMTTYPE=image/jpeg:https://cordobacapitalcofrade.com/wp-content/uploads/2023/12/Lagrimas-2023-0047-min-scaled.jpg
END:VEVENT
END:VCALENDAR