BEGIN:VCALENDAR
VERSION:2.0
PRODID:-//Agenda Cofrade 365 Días - ECPv6.3.7//NONSGML v1.0//EN
CALSCALE:GREGORIAN
METHOD:PUBLISH
X-ORIGINAL-URL:https://cordobacapitalcofrade.com
X-WR-CALDESC:Eventos para Agenda Cofrade 365 Días
REFRESH-INTERVAL;VALUE=DURATION:PT1H
X-Robots-Tag:noindex
X-PUBLISHED-TTL:PT1H
BEGIN:VTIMEZONE
TZID:UTC
BEGIN:STANDARD
TZOFFSETFROM:+0000
TZOFFSETTO:+0000
TZNAME:UTC
DTSTART:20240101T000000
END:STANDARD
END:VTIMEZONE
BEGIN:VEVENT
DTSTART;TZID=UTC:20240403T210000
DTEND;TZID=UTC:20240403T223000
DTSTAMP:20260420T175033
CREATED:20240129T164922Z
LAST-MODIFIED:20240129T164922Z
UID:2069-1712178000-1712183400@cordobacapitalcofrade.com
SUMMARY:Desarmá paso Ntro. Padre Jesús de los Afligidos
DESCRIPTION:Desarmá paso Ntro. Padre Jesús de los Afligidos\, tendrá lugar el 3 de abril a las 21 horas en el barrio de Cañero.
URL:https://cordobacapitalcofrade.com/agenda/desarma-paso-ntro-padre-jesus-de-los-afligidos/
LOCATION:Parroquia de San Vicente Ferrer (Cañero)\, C. Funcionario Lázaro Navajas\, 70\, 14014 Córdoba\, España\, Córdoba\, España
CATEGORIES:Ensayos Costaleros
END:VEVENT
END:VCALENDAR