BEGIN:VCALENDAR
VERSION:2.0
PRODID:-//Agenda Cofrade 365 Días - ECPv6.3.7//NONSGML v1.0//EN
CALSCALE:GREGORIAN
METHOD:PUBLISH
X-ORIGINAL-URL:https://cordobacapitalcofrade.com
X-WR-CALDESC:Eventos para Agenda Cofrade 365 Días
REFRESH-INTERVAL;VALUE=DURATION:PT1H
X-Robots-Tag:noindex
X-PUBLISHED-TTL:PT1H
BEGIN:VTIMEZONE
TZID:UTC
BEGIN:STANDARD
TZOFFSETFROM:+0000
TZOFFSETTO:+0000
TZNAME:UTC
DTSTART:20250101T000000
END:STANDARD
END:VTIMEZONE
BEGIN:VEVENT
DTSTART;TZID=UTC:20250313T210000
DTEND;TZID=UTC:20250313T235900
DTSTAMP:20260420T040244
CREATED:20250122T143339Z
LAST-MODIFIED:20250122T143339Z
UID:4996-1741899600-1741910340@cordobacapitalcofrade.com
SUMMARY:Ensayo de costaleros de Nuestro Padre Jesús en su Soberano Poder
DESCRIPTION:Ensayo de costaleros de Nuestro Padre Jesús en su Soberano Poder\, a las 21:00 horas desde la Casa de Hdad.
URL:https://cordobacapitalcofrade.com/agenda/ensayo-de-costaleros-de-nuestro-padre-jesus-en-su-soberano-poder-2/
LOCATION:Casa de Hermandad de la Quinta Angustia\, Pl. Gonzalo de Ayora\, 3\, Centro\, 14001 Córdoba\, Córdoba\, España
CATEGORIES:Ensayos Costaleros
ATTACH;FMTTYPE=image/jpeg:https://cordobacapitalcofrade.com/wp-content/uploads/2025/01/Via-Crucis-Soberano-Poder-0009-min-1-scaled.jpg
END:VEVENT
END:VCALENDAR