BEGIN:VCALENDAR
VERSION:2.0
PRODID:-//Agenda Cofrade 365 Días - ECPv6.3.7//NONSGML v1.0//EN
CALSCALE:GREGORIAN
METHOD:PUBLISH
X-WR-CALNAME:Agenda Cofrade 365 Días
X-ORIGINAL-URL:https://cordobacapitalcofrade.com
X-WR-CALDESC:Eventos para Agenda Cofrade 365 Días
REFRESH-INTERVAL;VALUE=DURATION:PT1H
X-Robots-Tag:noindex
X-PUBLISHED-TTL:PT1H
BEGIN:VTIMEZONE
TZID:UTC
BEGIN:STANDARD
TZOFFSETFROM:+0000
TZOFFSETTO:+0000
TZNAME:UTC
DTSTART:20250101T000000
END:STANDARD
END:VTIMEZONE
BEGIN:VEVENT
DTSTART;TZID=UTC:20250314T210000
DTEND;TZID=UTC:20250314T235900
DTSTAMP:20260422T164936
CREATED:20241031T142512Z
LAST-MODIFIED:20241031T142512Z
UID:3920-1741986000-1741996740@cordobacapitalcofrade.com
SUMMARY:3er Ensayo de costaleros de Nuestro Padre Jesús de la Humildad y Paciencia
DESCRIPTION:3er Ensayo de costaleros de Nuestro Padre Jesús de la Humildad y Paciencia\, a las 21:00 horas desde la Plaza de Capuchinos.
URL:https://cordobacapitalcofrade.com/agenda/3er-ensayo-de-costaleros-de-nuestro-padre-jesus-de-la-humildad-y-paciencia/
LOCATION:Plaza de Capuchinos\, Cordoba\, Cordoba\, Cordoba\, 14001\, España
CATEGORIES:Ensayos Costaleros
ATTACH;FMTTYPE=image/webp:https://cordobacapitalcofrade.com/wp-content/uploads/2024/10/cordoba_humildad_bandera1.webp
END:VEVENT
BEGIN:VEVENT
DTSTART;TZID=UTC:20250314T210000
DTEND;TZID=UTC:20250314T235900
DTSTAMP:20260422T164936
CREATED:20241130T201710Z
LAST-MODIFIED:20241130T201710Z
UID:4424-1741986000-1741996740@cordobacapitalcofrade.com
SUMMARY:2º Ensayo de costaleros de María Santísima de la Caridad
DESCRIPTION:2º Ensayo de costaleros de María Santísima de la Caridad\, a 21:00 horas desde la Casa de Hermandad.
URL:https://cordobacapitalcofrade.com/agenda/2o-ensayo-de-costaleros-de-maria-santisima-de-la-caridad-2/
LOCATION:Casa de Hermandad del Buen Suceso\, C. Manchado\, 8\, Centro\, 14002 Córdoba\, Córdoba\, España
CATEGORIES:Ensayos Costaleros
ATTACH;FMTTYPE=image/jpeg:https://cordobacapitalcofrade.com/wp-content/uploads/2024/11/Buen-Suceso-2023-0652-min-scaled.jpg
END:VEVENT
BEGIN:VEVENT
DTSTART;TZID=UTC:20250314T210000
DTEND;TZID=UTC:20250314T235900
DTSTAMP:20260422T164936
CREATED:20241207T123338Z
LAST-MODIFIED:20241207T123338Z
UID:4539-1741986000-1741996740@cordobacapitalcofrade.com
SUMMARY:3er Ensayo de costaleros de María Santísima de la Paz y Esperanza Coronada
DESCRIPTION:3er Ensayo de costaleros de María Santísima de la Paz y Esperanza Coronada\, a las 21:00 horas desde la nave de salida en la Plaza de Capuchinos.
URL:https://cordobacapitalcofrade.com/agenda/3er-ensayo-de-costaleros-de-maria-santisima-de-la-paz-y-esperanza-coronada/
LOCATION:Plaza de Capuchinos\, Cordoba\, Cordoba\, Cordoba\, 14001\, España
CATEGORIES:Ensayos Costaleros
ATTACH;FMTTYPE=image/jpeg:https://cordobacapitalcofrade.com/wp-content/uploads/2024/12/la-paz-15-1.jpg
END:VEVENT
BEGIN:VEVENT
DTSTART;TZID=UTC:20250314T210000
DTEND;TZID=UTC:20250314T235900
DTSTAMP:20260422T164936
CREATED:20250310T180316Z
LAST-MODIFIED:20250310T180316Z
UID:5536-1741986000-1741996740@cordobacapitalcofrade.com
SUMMARY:8º Ensayo de costaleros y costaleras del Santísimo Cristo de la Piedad
DESCRIPTION:8º Ensayo de costaleros y costaleras del Santísimo Cristo de la Piedad\, a las 21:00 horas desde la Parroquia de San Antonio María Claret.
URL:https://cordobacapitalcofrade.com/agenda/8o-ensayo-de-costaleros-y-costaleras-del-santisimo-cristo-de-la-piedad/
LOCATION:Parroquia de San Antonio María Claret\, C. Sierra Nevada\, 1\, Poniente Nte.\, 14005 Córdoba\, Córdoba\, España
CATEGORIES:Ensayos Costaleros
ATTACH;FMTTYPE=image/jpeg:https://cordobacapitalcofrade.com/wp-content/uploads/2025/01/jpg-9.jpg
END:VEVENT
BEGIN:VEVENT
DTSTART;TZID=UTC:20250314T213000
DTEND;TZID=UTC:20250314T235900
DTSTAMP:20260422T164936
CREATED:20241207T121427Z
LAST-MODIFIED:20241207T121427Z
UID:4515-1741987800-1741996740@cordobacapitalcofrade.com
SUMMARY:2º Ensayo de costaleros del Santísimo Cristo de la Misericordia
DESCRIPTION:2º Ensayo de costaleros del Santísimo Cristo de la Misericordia\, a las 21:30 horas en la Casa de Hermandad.
URL:https://cordobacapitalcofrade.com/agenda/2o-ensayo-de-costaleros-del-santisimo-cristo-de-la-misericordia/
LOCATION:Casa de Hermandad de la Misericordia\, Pl. de San Pedro\, 23\, Centro\, 14002 Córdoba\, Córdoba\, España
CATEGORIES:Ensayos Costaleros
ATTACH;FMTTYPE=image/webp:https://cordobacapitalcofrade.com/wp-content/uploads/2024/12/hermandad-misericordia-cordoba30.webp
END:VEVENT
END:VCALENDAR