BEGIN:VCALENDAR
VERSION:2.0
PRODID:-//Agenda Cofrade 365 Días - ECPv6.3.7//NONSGML v1.0//EN
CALSCALE:GREGORIAN
METHOD:PUBLISH
X-ORIGINAL-URL:https://cordobacapitalcofrade.com
X-WR-CALDESC:Eventos para Agenda Cofrade 365 Días
REFRESH-INTERVAL;VALUE=DURATION:PT1H
X-Robots-Tag:noindex
X-PUBLISHED-TTL:PT1H
BEGIN:VTIMEZONE
TZID:UTC
BEGIN:STANDARD
TZOFFSETFROM:+0000
TZOFFSETTO:+0000
TZNAME:UTC
DTSTART:20250101T000000
END:STANDARD
END:VTIMEZONE
BEGIN:VEVENT
DTSTART;TZID=UTC:20250323T100000
DTEND;TZID=UTC:20250323T130000
DTSTAMP:20260425T154420
CREATED:20241120T141317Z
LAST-MODIFIED:20241120T141317Z
UID:4161-1742724000-1742734800@cordobacapitalcofrade.com
SUMMARY:4ºEnsayo de costaleros de María Santísima de Regla
DESCRIPTION:4ºEnsayo de costaleros de María Santísima de Regla\, a las 10:00 horas desde la Parroquia de Nuestra Señora del Carmen.
URL:https://cordobacapitalcofrade.com/agenda/4oensayo-de-costaleros-de-maria-santisima-de-regla/
LOCATION:Parroquia de Nuestra Señora del Carmen\, C. Rd. de Andújar\,23\, Córdoba\, España
CATEGORIES:Ensayos Costaleros
ATTACH;FMTTYPE=image/jpeg:https://cordobacapitalcofrade.com/wp-content/uploads/2024/11/4a4366c3-77a5-4544-b8a6-8742e1fa99c4_16-9-aspect-ratio_default_0.jpg
END:VEVENT
BEGIN:VEVENT
DTSTART;TZID=UTC:20250323T100000
DTEND;TZID=UTC:20250323T133000
DTSTAMP:20260425T154420
CREATED:20241219T190758Z
LAST-MODIFIED:20241219T190953Z
UID:4690-1742724000-1742736600@cordobacapitalcofrade.com
SUMMARY:2º Ensayo de costaleros de María Santísima en su Soledad
DESCRIPTION:2º Ensayo de costaleros de María Santísima en su Soledad\, a las 10:00 horas desde la Casa de Hermandad en la C/ Cronista Maraver\, 20.
URL:https://cordobacapitalcofrade.com/agenda/2o-ensayo-de-costaleros-de-maria-santisima-en-su-soledad/
LOCATION:Casa Hermandad de la Soledad\, Calle Cronista Maraver\, 20\, Córdoba\, Córdoba\, 14007\, España
CATEGORIES:Ensayos Costaleros
ATTACH;FMTTYPE=image/jpeg:https://cordobacapitalcofrade.com/wp-content/uploads/2024/12/Soledad-2023-0042-min-scaled.jpg
END:VEVENT
BEGIN:VEVENT
DTSTART;TZID=UTC:20250323T103000
DTEND;TZID=UTC:20250323T133000
DTSTAMP:20260425T154420
CREATED:20241130T144625Z
LAST-MODIFIED:20241130T144625Z
UID:4367-1742725800-1742736600@cordobacapitalcofrade.com
SUMMARY:Ensayo Costaleros del Santísimo Cristo de la Oración y la Caridad
DESCRIPTION:Ensayo Costaleros del Santísimo Cristo de la Oración y la Caridad\, tendrá lugar el 23 de marzo a las 10:30 horas\, en el Local de la Hermandad.
URL:https://cordobacapitalcofrade.com/agenda/ensayo-costaleros-del-santisimo-cristo-de-la-oracion-y-la-caridad-3/
LOCATION:Nave Hermandad de la Conversión\, 15 C. J3 Pp Industrial Cr Palma\, Córdoba\, Córdoba\, 14005\, España
CATEGORIES:Ensayos Costaleros
ATTACH;FMTTYPE=image/jpeg:https://cordobacapitalcofrade.com/wp-content/uploads/2024/11/12717196_552346888256750_3983497989815433225_n.jpg
END:VEVENT
BEGIN:VEVENT
DTSTART;TZID=UTC:20250323T110000
DTEND;TZID=UTC:20250323T140000
DTSTAMP:20260425T154420
CREATED:20241130T194738Z
LAST-MODIFIED:20241130T194738Z
UID:4400-1742727600-1742738400@cordobacapitalcofrade.com
SUMMARY:3er Ensayo de costaleros de Nuestro Padre Jesús de la Bondad
DESCRIPTION:3er Ensayo de costaleros de Nuestro Padre Jesús de la Bondad\, a las 11:00 horas desde el local de ensayos.
URL:https://cordobacapitalcofrade.com/agenda/3er-ensayo-de-costaleros-de-nuestro-padre-jesus-de-la-bondad/
LOCATION:Local de ensayo Bondad\, Sureste\, 14010 Córdoba\, Córdoba\, España
CATEGORIES:Ensayos Costaleros
ATTACH;FMTTYPE=image/jpeg:https://cordobacapitalcofrade.com/wp-content/uploads/2024/11/65f5ddc1131bb.jpeg
END:VEVENT
BEGIN:VEVENT
DTSTART;TZID=UTC:20250323T110000
DTEND;TZID=UTC:20250323T140000
DTSTAMP:20260425T154420
CREATED:20241130T203844Z
LAST-MODIFIED:20241130T203844Z
UID:4446-1742727600-1742738400@cordobacapitalcofrade.com
SUMMARY:3er Ensayo de costaleros de Nuestra Señora del Mayor Dolor
DESCRIPTION:3er Ensayo de costaleros de Nuestra Señora del Mayor Dolor\, a las 11:00 horas desde la Casa de Hermandad.
URL:https://cordobacapitalcofrade.com/agenda/3er-ensayo-de-costaleros-de-nuestra-senora-del-mayor-dolor/
LOCATION:Casa de Hermandad del Calvario\, C. Escañuela\, 1\, Centro\, 14002 Córdoba\, Córdoba\, España
CATEGORIES:Ensayos Costaleros
ATTACH;FMTTYPE=image/jpeg:https://cordobacapitalcofrade.com/wp-content/uploads/2024/11/ACH70139-ORF_DxO_DeepPRIMEXD-min-scaled.jpg
END:VEVENT
END:VCALENDAR