BEGIN:VCALENDAR
VERSION:2.0
PRODID:-//Agenda Cofrade 365 Días - ECPv6.3.7//NONSGML v1.0//EN
CALSCALE:GREGORIAN
METHOD:PUBLISH
X-ORIGINAL-URL:https://cordobacapitalcofrade.com
X-WR-CALDESC:Eventos para Agenda Cofrade 365 Días
REFRESH-INTERVAL;VALUE=DURATION:PT1H
X-Robots-Tag:noindex
X-PUBLISHED-TTL:PT1H
BEGIN:VTIMEZONE
TZID:UTC
BEGIN:STANDARD
TZOFFSETFROM:+0000
TZOFFSETTO:+0000
TZNAME:UTC
DTSTART:20250101T000000
END:STANDARD
END:VTIMEZONE
BEGIN:VEVENT
DTSTART;TZID=UTC:20250326T210000
DTEND;TZID=UTC:20250326T235900
DTSTAMP:20260426T023103
CREATED:20241218T153343Z
LAST-MODIFIED:20241218T153343Z
UID:4661-1743022800-1743033540@cordobacapitalcofrade.com
SUMMARY:3er Ensayo de costaleros de Nuestra Señora de la Palma
DESCRIPTION:3er Ensayo de costaleros de Nuestra Señora de la Palma\, a las 21:00 horas desde la Real Parroquia de San Lorenzo Mártir.
URL:https://cordobacapitalcofrade.com/agenda/3er-ensayo-de-costaleros-de-nuestra-senora-de-la-palma/
LOCATION:Real Parroquia de San Lorenzo Mártir\, Pl. de San Lorenzo\, 5\, Córdoba\, España
CATEGORIES:Ensayos Costaleros
ATTACH;FMTTYPE=image/jpeg:https://cordobacapitalcofrade.com/wp-content/uploads/2024/12/Borriquita-2024-0151-scaled.jpg
END:VEVENT
BEGIN:VEVENT
DTSTART;TZID=UTC:20250326T213000
DTEND;TZID=UTC:20250326T235900
DTSTAMP:20260426T023103
CREATED:20241218T142257Z
LAST-MODIFIED:20241218T142257Z
UID:4650-1743024600-1743033540@cordobacapitalcofrade.com
SUMMARY:3er Ensayo de costaleros de Nuestro Padre Jesús de los Reyes
DESCRIPTION:3er Ensayo de costaleros de Nuestro Padre Jesús de los Reyes\, a las 21:30 horas desde la Real Parroquia de San Lorenzo Mártir.
URL:https://cordobacapitalcofrade.com/agenda/3er-ensayo-de-costaleros-de-nuestro-padre-jesus-de-los-reyes/
LOCATION:Real Parroquia de San Lorenzo Mártir\, Pl. de San Lorenzo\, 5\, Córdoba\, España
CATEGORIES:Ensayos Costaleros
ATTACH;FMTTYPE=image/jpeg:https://cordobacapitalcofrade.com/wp-content/uploads/2024/12/Borriquita-2024-0036-scaled.jpg
END:VEVENT
END:VCALENDAR