BEGIN:VCALENDAR
VERSION:2.0
PRODID:-//Agenda Cofrade 365 Días - ECPv6.3.7//NONSGML v1.0//EN
CALSCALE:GREGORIAN
METHOD:PUBLISH
X-ORIGINAL-URL:https://cordobacapitalcofrade.com
X-WR-CALDESC:Eventos para Agenda Cofrade 365 Días
REFRESH-INTERVAL;VALUE=DURATION:PT1H
X-Robots-Tag:noindex
X-PUBLISHED-TTL:PT1H
BEGIN:VTIMEZONE
TZID:UTC
BEGIN:STANDARD
TZOFFSETFROM:+0000
TZOFFSETTO:+0000
TZNAME:UTC
DTSTART:20250101T000000
END:STANDARD
END:VTIMEZONE
BEGIN:VEVENT
DTSTART;TZID=UTC:20250613T200000
DTEND;TZID=UTC:20250613T230000
DTSTAMP:20260426T023137
CREATED:20250524T130135Z
LAST-MODIFIED:20250610T124325Z
UID:6143-1749844800-1749855600@cordobacapitalcofrade.com
SUMMARY:1er Ensayo de costaleros de Santa Teresa de Jesús
DESCRIPTION:1er Ensayo de costaleros de Santa Teresa de Jesús\, a las 20:00 horas desde la Cuesta de San Cayetano.
URL:https://cordobacapitalcofrade.com/agenda/1er-ensayo-de-costaleros-de-santa-teresa-de-jesus/
LOCATION:Cuesta de San Cayetano\, C. Cta. de San Cayetano\, 2\, Centro\, 14001 Córdoba\, Córdoba\, Spain
CATEGORIES:Ensayos Costaleros
ATTACH;FMTTYPE=image/jpeg:https://cordobacapitalcofrade.com/wp-content/uploads/2025/05/Procesion-Carmen-San-Cayetano-2024-0027-min-scaled.jpg
END:VEVENT
BEGIN:VEVENT
DTSTART;TZID=UTC:20250613T210000
DTEND;TZID=UTC:20250613T235900
DTSTAMP:20260426T023137
CREATED:20250603T130915Z
LAST-MODIFIED:20250610T123656Z
UID:6189-1749848400-1749859140@cordobacapitalcofrade.com
SUMMARY:Igualá y ensayo de costaleros de Nuestro Padre Jesús de la Fe para el Corpus Christi 2025
DESCRIPTION:Igualá y ensayo de costaleros de Nuestro Padre Jesús de la Fe para el Corpus Christi 2025\, a las 21:00 horas en la Casa de Hdad. ubicada en el Pasaje Francisco González Panchón\, 3.
URL:https://cordobacapitalcofrade.com/agenda/iguala-y-ensayo-de-costaleros-de-nuestro-padre-jesus-de-la-fe-para-el-corpus-christi-2025/
LOCATION:Casa de Hermandad de la Sagrada Cena\, Francisco González Panchón\, 3\,\, Córdoba\, España
CATEGORIES:Ensayos Costaleros,Igualás de costaleros
ATTACH;FMTTYPE=image/jpeg:https://cordobacapitalcofrade.com/wp-content/uploads/2025/06/503124622_1089791106515331_7225193700576072925_n.jpg
END:VEVENT
END:VCALENDAR