BEGIN:VCALENDAR
VERSION:2.0
PRODID:-//Agenda Cofrade 365 Días - ECPv6.3.7//NONSGML v1.0//EN
CALSCALE:GREGORIAN
METHOD:PUBLISH
X-WR-CALNAME:Agenda Cofrade 365 Días
X-ORIGINAL-URL:https://cordobacapitalcofrade.com
X-WR-CALDESC:Eventos para Agenda Cofrade 365 Días
REFRESH-INTERVAL;VALUE=DURATION:PT1H
X-Robots-Tag:noindex
X-PUBLISHED-TTL:PT1H
BEGIN:VTIMEZONE
TZID:UTC
BEGIN:STANDARD
TZOFFSETFROM:+0000
TZOFFSETTO:+0000
TZNAME:UTC
DTSTART:20250101T000000
END:STANDARD
END:VTIMEZONE
BEGIN:VEVENT
DTSTART;TZID=UTC:20250615T100000
DTEND;TZID=UTC:20250615T133000
DTSTAMP:20260424T203809
CREATED:20250519T130334Z
LAST-MODIFIED:20250610T123544Z
UID:6116-1749981600-1749994200@cordobacapitalcofrade.com
SUMMARY:1er Ensayo de costaleros del Corpus Christi de la Hermandad de la Agonía
DESCRIPTION:1er Ensayo de costaleros del Corpus Christi\, a las 10:00 horas desde la Casa de Hdad.
URL:https://cordobacapitalcofrade.com/agenda/1er-ensayo-de-costaleros-del-corpus-christi-de-la-hermandad-de-la-agonia/
LOCATION:Casa de Hermandad de la Agonía\, C. Santas Flora y María\, 82\, Nte. Sierra\, 14012 Córdoba\, Córdoba\, España
CATEGORIES:Ensayos Costaleros
ATTACH;FMTTYPE=image/png:https://cordobacapitalcofrade.com/wp-content/uploads/2025/05/Corpus_Agonia-24.png
END:VEVENT
END:VCALENDAR