BEGIN:VCALENDAR
VERSION:2.0
PRODID:-//Agenda Cofrade 365 Días - ECPv6.3.7//NONSGML v1.0//EN
CALSCALE:GREGORIAN
METHOD:PUBLISH
X-ORIGINAL-URL:https://cordobacapitalcofrade.com
X-WR-CALDESC:Eventos para Agenda Cofrade 365 Días
REFRESH-INTERVAL;VALUE=DURATION:PT1H
X-Robots-Tag:noindex
X-PUBLISHED-TTL:PT1H
BEGIN:VTIMEZONE
TZID:UTC
BEGIN:STANDARD
TZOFFSETFROM:+0000
TZOFFSETTO:+0000
TZNAME:UTC
DTSTART:20250101T000000
END:STANDARD
END:VTIMEZONE
BEGIN:VEVENT
DTSTART;TZID=UTC:20250620T200000
DTEND;TZID=UTC:20250620T230000
DTSTAMP:20260423T014335
CREATED:20250524T130250Z
LAST-MODIFIED:20250610T124721Z
UID:6146-1750449600-1750460400@cordobacapitalcofrade.com
SUMMARY:2º Ensayo de costaleros de Santa Teresa de Jesús
DESCRIPTION:2º Ensayo de costaleros de Santa Teresa de Jesús\, a las 20:00 horas desde la Cuesta de San Cayetano.
URL:https://cordobacapitalcofrade.com/agenda/2o-ensayo-de-costaleros-de-santa-teresa-de-jesus/
LOCATION:Cuesta de San Cayetano\, C. Cta. de San Cayetano\, 2\, Centro\, 14001 Córdoba\, Córdoba\, Spain
CATEGORIES:Ensayos Costaleros
ATTACH;FMTTYPE=image/jpeg:https://cordobacapitalcofrade.com/wp-content/uploads/2025/05/Procesion-Carmen-San-Cayetano-2024-0027-min-scaled.jpg
END:VEVENT
BEGIN:VEVENT
DTSTART;TZID=UTC:20250620T210000
DTEND;TZID=UTC:20250620T235900
DTSTAMP:20260423T014335
CREATED:20250602T123359Z
LAST-MODIFIED:20250610T124753Z
UID:6184-1750453200-1750463940@cordobacapitalcofrade.com
SUMMARY:1er Ensayo de costaleros de Nuestra Señora del Carmen de Puerta Nueva
DESCRIPTION:1er Ensayo de costaleros de Nuestra Señora del Carmen\, a las 21:00 horas desde la Parroquia de Nuestra Señora del Carmen.
URL:https://cordobacapitalcofrade.com/agenda/1er-ensayo-de-costaleros-de-nuestra-senora-del-carmen-de-puerta-nueva/
LOCATION:Parroquia de Nuestra Señora del Carmen\, C. Rd. de Andújar\,23\, Córdoba\, España
CATEGORIES:Ensayos Costaleros
ATTACH;FMTTYPE=image/jpeg:https://cordobacapitalcofrade.com/wp-content/uploads/2025/06/puerta-nueva-carmen2.jpg
END:VEVENT
END:VCALENDAR