BEGIN:VCALENDAR
VERSION:2.0
PRODID:-//Agenda Cofrade 365 Días - ECPv6.3.7//NONSGML v1.0//EN
CALSCALE:GREGORIAN
METHOD:PUBLISH
X-WR-CALNAME:Agenda Cofrade 365 Días
X-ORIGINAL-URL:https://cordobacapitalcofrade.com
X-WR-CALDESC:Eventos para Agenda Cofrade 365 Días
REFRESH-INTERVAL;VALUE=DURATION:PT1H
X-Robots-Tag:noindex
X-PUBLISHED-TTL:PT1H
BEGIN:VTIMEZONE
TZID:UTC
BEGIN:STANDARD
TZOFFSETFROM:+0000
TZOFFSETTO:+0000
TZNAME:UTC
DTSTART:20250101T000000
END:STANDARD
END:VTIMEZONE
BEGIN:VEVENT
DTSTART;TZID=UTC:20250622T100000
DTEND;TZID=UTC:20250622T133000
DTSTAMP:20260422T183925
CREATED:20250519T130441Z
LAST-MODIFIED:20250610T122335Z
UID:6119-1750586400-1750599000@cordobacapitalcofrade.com
SUMMARY:2º Ensayo de costaleros del Corpus Christi de la Hermandad de la Agonía
DESCRIPTION:2º Ensayo de costaleros del Corpus Christi\, a las 10:00 horas desde la Casa de Hdad.
URL:https://cordobacapitalcofrade.com/agenda/2o-ensayo-de-costaleros-del-corpus-christi-de-la-hermandad-de-la-agonia/
LOCATION:Plaza de la Torre y del Cerro\, Plaza jose de la Torre y el Cerro\, 15\, 14012\, Córdoba\, Córdoba\, España
CATEGORIES:Ensayos Costaleros
ATTACH;FMTTYPE=image/png:https://cordobacapitalcofrade.com/wp-content/uploads/2025/05/Corpus_Agonia-24.png
END:VEVENT
END:VCALENDAR