BEGIN:VCALENDAR
VERSION:2.0
PRODID:-//Agenda Cofrade 365 Días - ECPv6.3.7//NONSGML v1.0//EN
CALSCALE:GREGORIAN
METHOD:PUBLISH
X-WR-CALNAME:Agenda Cofrade 365 Días
X-ORIGINAL-URL:https://cordobacapitalcofrade.com
X-WR-CALDESC:Eventos para Agenda Cofrade 365 Días
REFRESH-INTERVAL;VALUE=DURATION:PT1H
X-Robots-Tag:noindex
X-PUBLISHED-TTL:PT1H
BEGIN:VTIMEZONE
TZID:UTC
BEGIN:STANDARD
TZOFFSETFROM:+0000
TZOFFSETTO:+0000
TZNAME:UTC
DTSTART:20230101T000000
END:STANDARD
END:VTIMEZONE
BEGIN:VEVENT
DTSTART;TZID=UTC:20231201T210000
DTEND;TZID=UTC:20231201T220000
DTSTAMP:20260420T141105
CREATED:20231127T154825Z
LAST-MODIFIED:20231127T154825Z
UID:703-1701464400-1701468000@cordobacapitalcofrade.com
SUMMARY:Igualá de costaleros de Nuestra Señora de los Dolores Coronada
DESCRIPTION:Igualá de costaleros de Nuestra Señora de los Dolores Coronada a las 21:00 horas en el Santuario de Nuestra Señora de los Dolores.
URL:https://cordobacapitalcofrade.com/agenda/iguala-de-costaleros-de-nuestra-senora-de-los-dolores-coronada/
LOCATION:Santuario de Nuestra Señora de los Dolores\, Pl. de Capuchinos\, 6\, 14001 Córdoba\, Córdoba\, España
CATEGORIES:Igualás de costaleros
ATTACH;FMTTYPE=image/jpeg:https://cordobacapitalcofrade.com/wp-content/uploads/2023/11/WhatsApp-Image-2019-05-09-at-13.18.12.jpeg
END:VEVENT
BEGIN:VEVENT
DTSTART;TZID=UTC:20231206T160000
DTEND;TZID=UTC:20231206T180000
DTSTAMP:20260420T141105
CREATED:20231129T092706Z
LAST-MODIFIED:20231129T092706Z
UID:728-1701878400-1701885600@cordobacapitalcofrade.com
SUMMARY:Igualá Dulce Nombre de Jesús
DESCRIPTION:Igualá Dulce Nombre de Jesús tendrá lugar el 6 de diciembre a las 16:00 horas\, en la Casa Hermandad de la Estrella. \nRequisitos: tener entre 15 y 21 años de edad y acudir con calzado blanco de salida.
URL:https://cordobacapitalcofrade.com/agenda/iguala-dulce-nombre-de-jesus/
LOCATION:Casa Hermandad de la Estrella\, Calle Joaquín Sama Naharro\, 26\, Córdoba\, Córdoba\, 14006\, España
CATEGORIES:Igualás de costaleros
ATTACH;FMTTYPE=image/jpeg:https://cordobacapitalcofrade.com/wp-content/uploads/2023/11/1701249798199_IMG-20231129-WA0003.jpg
END:VEVENT
END:VCALENDAR