BEGIN:VCALENDAR
VERSION:2.0
PRODID:-//Agenda Cofrade 365 Días - ECPv6.3.7//NONSGML v1.0//EN
CALSCALE:GREGORIAN
METHOD:PUBLISH
X-WR-CALNAME:Agenda Cofrade 365 Días
X-ORIGINAL-URL:https://cordobacapitalcofrade.com
X-WR-CALDESC:Eventos para Agenda Cofrade 365 Días
REFRESH-INTERVAL;VALUE=DURATION:PT1H
X-Robots-Tag:noindex
X-PUBLISHED-TTL:PT1H
BEGIN:VTIMEZONE
TZID:UTC
BEGIN:STANDARD
TZOFFSETFROM:+0000
TZOFFSETTO:+0000
TZNAME:UTC
DTSTART:20240101T000000
END:STANDARD
END:VTIMEZONE
BEGIN:VEVENT
DTSTART;TZID=UTC:20240110T210000
DTEND;TZID=UTC:20240110T223000
DTSTAMP:20260420T052128
CREATED:20231230T144310Z
LAST-MODIFIED:20231230T144310Z
UID:1100-1704920400-1704925800@cordobacapitalcofrade.com
SUMMARY:Igualá de costaleros de Nuestro Padre Jesús de los Afligidos
DESCRIPTION:Igualá de costaleros de Nuestro Padre Jesús de los Afligidos a las 21:00 horas en la Parroquia de San Vicente Ferrer.
URL:https://cordobacapitalcofrade.com/agenda/iguala-de-costaleros-de-nuestro-padre-jesus-de-los-afligidos/
LOCATION:Parroquia de San Vicente Ferrer (Cañero)\, C. Funcionario Lázaro Navajas\, 70\, 14014 Córdoba\, España\, Córdoba\, España
CATEGORIES:Igualás de costaleros
ATTACH;FMTTYPE=image/jpeg:https://cordobacapitalcofrade.com/wp-content/uploads/2023/12/410968556_382180767652032_2921595069419765999_n.jpg
END:VEVENT
BEGIN:VEVENT
DTSTART;TZID=UTC:20240111T210000
DTEND;TZID=UTC:20240111T220000
DTSTAMP:20260420T052128
CREATED:20240108T145232Z
LAST-MODIFIED:20240108T145232Z
UID:1293-1705006800-1705010400@cordobacapitalcofrade.com
SUMMARY:Igualá de costaleros de Nuestro Padre Jesús Nazareno
DESCRIPTION:Igualá de costaleros de Nuestro Padre Jesús Nazareno a las 21:00 horas en el Patio del Colegio de Jesús Nazareno entrando por la C/ Rehoyo.
URL:https://cordobacapitalcofrade.com/agenda/iguala-de-costaleros-de-nuestro-padre-jesus-nazareno/
LOCATION:Patio Jesús Nazareno\, Pl. de San Agustín\, 8\, Centro\, 14001 Córdoba\, Córdoba\, España
CATEGORIES:Igualás de costaleros
ATTACH;FMTTYPE=image/jpeg:https://cordobacapitalcofrade.com/wp-content/uploads/2024/01/406730082_755771043254944_4177622886315312031_n.jpg
END:VEVENT
BEGIN:VEVENT
DTSTART;TZID=UTC:20240111T210000
DTEND;TZID=UTC:20240111T223000
DTSTAMP:20260420T052128
CREATED:20240108T145521Z
LAST-MODIFIED:20240108T145605Z
UID:1297-1705006800-1705012200@cordobacapitalcofrade.com
SUMMARY:Igualá de costaleros de Nuestro Padre Jesús Caído
DESCRIPTION:Igualá de costaleros de Nuestro Padre Jesús Caído a las 21:00 horas en la Cuesta de San Cayetano.
URL:https://cordobacapitalcofrade.com/agenda/iguala-de-costaleros-de-nuestro-padre-jesus-caido/
LOCATION:Convento de San José (San Cayetano)\, C. Cta. de San Cayetano\, 14001 Córdoba\, Córdoba\, España
CATEGORIES:Igualás de costaleros
ATTACH;FMTTYPE=image/jpeg:https://cordobacapitalcofrade.com/wp-content/uploads/2024/01/GDQtTn5WIAAeEZ9.jpg
END:VEVENT
BEGIN:VEVENT
DTSTART;TZID=UTC:20240112T210000
DTEND;TZID=UTC:20240112T220000
DTSTAMP:20260420T052128
CREATED:20240102T163714Z
LAST-MODIFIED:20240102T163850Z
UID:1216-1705093200-1705096800@cordobacapitalcofrade.com
SUMMARY:Igualá María Santísima de la Amargura
DESCRIPTION:Igualá de la cuadrilla de costaleros de María Santísima de la Amargura\, tendrá lugar el 12 de enero a las 21 horas en el hall del Colegio Trinitarios. Imprescindible calzado de salida hermandad
URL:https://cordobacapitalcofrade.com/agenda/iguala-maria-santisima-de-la-amargura/
LOCATION:Colegio Trinitarios\, Plaza Cristo de Gracia\, 5\, Córdoba\, Córdoba\, 14002\, España
CATEGORIES:Igualás de costaleros
ATTACH;FMTTYPE=image/jpeg:https://cordobacapitalcofrade.com/wp-content/uploads/2024/01/IMG_20240102_173226.jpg
END:VEVENT
BEGIN:VEVENT
DTSTART;TZID=UTC:20240112T210000
DTEND;TZID=UTC:20240112T223000
DTSTAMP:20260420T052128
CREATED:20240108T163530Z
LAST-MODIFIED:20240108T163530Z
UID:1304-1705093200-1705098600@cordobacapitalcofrade.com
SUMMARY:Igualá de costaleros de María Santísima de la Paz y Esperanza Coronada
DESCRIPTION:Igualá de costaleros de María Santísima de la Paz y Esperanza Coronada a las 21:00 horas en la nave de salida en la Plaza de Capuchinos.
URL:https://cordobacapitalcofrade.com/agenda/iguala-de-costaleros-de-maria-santisima-de-la-paz-y-esperanza-coronada/
LOCATION:Plaza de Capuchinos\, Cordoba\, Cordoba\, Cordoba\, 14001\, España
CATEGORIES:Igualás de costaleros
ATTACH;FMTTYPE=image/jpeg:https://cordobacapitalcofrade.com/wp-content/uploads/2024/01/416625313_705332605065295_768854466751436409_n.jpg
END:VEVENT
BEGIN:VEVENT
DTSTART;TZID=UTC:20240112T210000
DTEND;TZID=UTC:20240112T223000
DTSTAMP:20260420T052128
CREATED:20240108T165224Z
LAST-MODIFIED:20240108T165224Z
UID:1313-1705093200-1705098600@cordobacapitalcofrade.com
SUMMARY:Igualá de costaleros del Santísimo Cristo de la Piedad
DESCRIPTION:Igualá de costaleros del Santísimo Cristo de la Piedad a las 21:00 horas en los Salones Parroquiales de San Antonio María Claret.
URL:https://cordobacapitalcofrade.com/agenda/iguala-de-costaleros-del-santisimo-cristo-de-la-piedad/
LOCATION:Parroquia de San Antonio María Claret\, C. Sierra Nevada\, 1\, Poniente Nte.\, 14005 Córdoba\, Córdoba\, España
CATEGORIES:Igualás de costaleros
ATTACH;FMTTYPE=image/jpeg:https://cordobacapitalcofrade.com/wp-content/uploads/2024/01/413937501_17989551839587748_5808830661238523887_n.jpg
END:VEVENT
BEGIN:VEVENT
DTSTART;TZID=UTC:20240112T210000
DTEND;TZID=UTC:20240112T223000
DTSTAMP:20260420T052128
CREATED:20240108T165428Z
LAST-MODIFIED:20240108T165428Z
UID:1318-1705093200-1705098600@cordobacapitalcofrade.com
SUMMARY:Igualá de costaleros del Beato Padre Cristobal de Santa Catalina
DESCRIPTION:Igualá de costaleros del Beato Padre Cristobal de Santa Catalina  a las 21:00 horas en el Patio del Colegio de Jesús Nazareno entrando por la C/ Rehoyo.
URL:https://cordobacapitalcofrade.com/agenda/iguala-de-costaleros-del-beato-padre-cristobal-de-santa-catalina/
LOCATION:Patio Jesús Nazareno\, Pl. de San Agustín\, 8\, Centro\, 14001 Córdoba\, Córdoba\, España
CATEGORIES:Igualás de costaleros
ATTACH;FMTTYPE=image/jpeg:https://cordobacapitalcofrade.com/wp-content/uploads/2024/01/398595094_741622748003107_6931055617904639940_n.jpg
END:VEVENT
BEGIN:VEVENT
DTSTART;TZID=UTC:20240112T210000
DTEND;TZID=UTC:20240112T230000
DTSTAMP:20260420T052128
CREATED:20240108T165610Z
LAST-MODIFIED:20240108T165610Z
UID:1321-1705093200-1705100400@cordobacapitalcofrade.com
SUMMARY:Igualá de costaleros de Nuestro Padre Jesús de la Fe y María Santísima de la Esperanza del Valle
DESCRIPTION: Igualá de costaleros de Nuestro Padre Jesús de la Fe y María Santísima de la Esperanza del Valle a las 21:00 horas en los Salones Parroquiales del Beato Álvaro de Córdoba.
URL:https://cordobacapitalcofrade.com/agenda/iguala-de-costaleros-de-nuestro-padre-jesus-de-la-fe-y-maria-santisima-de-la-esperanza-del-valle/
LOCATION:Parroquia del Beato Álvaro de Córdoba\, Av. Guerrita\, 23\, 14005 Córdoba\, Córdoba\, España
CATEGORIES:Igualás de costaleros
ATTACH;FMTTYPE=image/jpeg:https://cordobacapitalcofrade.com/wp-content/uploads/2024/01/402657594_712303340930778_7833022030518611202_n.jpg
END:VEVENT
BEGIN:VEVENT
DTSTART;TZID=UTC:20240112T211500
DTEND;TZID=UTC:20240112T223000
DTSTAMP:20260420T052128
CREATED:20231230T133844Z
LAST-MODIFIED:20231230T133915Z
UID:1052-1705094100-1705098600@cordobacapitalcofrade.com
SUMMARY:Igualá de costaleros del Santísimo Cristo de la Providencia
DESCRIPTION:Igualá de costaleros del Santísimo Cristo de la Providencia a las 21:15 horas en los Salones Parroquiales de la Trinidad situados en la Calle Sánchez de Feria.
URL:https://cordobacapitalcofrade.com/agenda/iguala-de-costaleros-del-santisimo-cristo-de-la-providencia/
LOCATION:Salones Parroquiales de la Trinidad\, C. Sánchez de Feria\, 13\, Córdoba\, España
CATEGORIES:Igualás de costaleros
ATTACH;FMTTYPE=image/jpeg:https://cordobacapitalcofrade.com/wp-content/uploads/2023/12/400810227_636596202006790_1635125958127582213_n.jpg
END:VEVENT
BEGIN:VEVENT
DTSTART;TZID=UTC:20240112T213000
DTEND;TZID=UTC:20240112T230000
DTSTAMP:20260420T052128
CREATED:20240108T163941Z
LAST-MODIFIED:20240108T163941Z
UID:1307-1705095000-1705100400@cordobacapitalcofrade.com
SUMMARY:Igualá de costaleros del Santísimo Cristo de la Misericordia
DESCRIPTION:Igualá de costaleros del Santísimo Cristo de la Misericordia a las 21:30 horas en la Basílica de San Pedro.
URL:https://cordobacapitalcofrade.com/agenda/iguala-de-costaleros-del-santisimo-cristo-de-la-misericordia/
LOCATION:Basílica de San Pedro\, Pl. de San Pedro\, 1\, 14002 Córdoba\, Córdoba\, España
CATEGORIES:Igualás de costaleros
ATTACH;FMTTYPE=image/jpeg:https://cordobacapitalcofrade.com/wp-content/uploads/2024/01/405747588_726432046176573_2603622773958435810_n.jpg
END:VEVENT
BEGIN:VEVENT
DTSTART;TZID=UTC:20240112T213000
DTEND;TZID=UTC:20240112T230000
DTSTAMP:20260420T052128
CREATED:20240108T164748Z
LAST-MODIFIED:20240108T164748Z
UID:1310-1705095000-1705100400@cordobacapitalcofrade.com
SUMMARY:Igualá de costaleros de María Santísima del Amor
DESCRIPTION:Igualá de costaleros de María Santísima del Amor a las 21:30 horas en los Salones Parroquiales de Nuestra Señora de la Paz (San Basilio).
URL:https://cordobacapitalcofrade.com/agenda/iguala-de-costaleros-de-maria-santisima-del-amor/
LOCATION:Parroquia de Nuestra Señora de la Paz\, Córdoba\, C/San Basilio\, Córdoba\, España
CATEGORIES:Igualás de costaleros
ATTACH;FMTTYPE=image/jpeg:https://cordobacapitalcofrade.com/wp-content/uploads/2024/01/410667155_656689150005713_826834134613212276_n.jpg
END:VEVENT
BEGIN:VEVENT
DTSTART;TZID=UTC:20240112T220000
DTEND;TZID=UTC:20240112T233000
DTSTAMP:20260420T052128
CREATED:20240108T181440Z
LAST-MODIFIED:20240108T181440Z
UID:1366-1705096800-1705102200@cordobacapitalcofrade.com
SUMMARY:Igualá de costaleros de Nuestro Padre Jesús de las Penas
DESCRIPTION:Igualá de costaleros de Nuestro Padre Jesús de las Penas a las 22:00 horas en la Casa de Hdad. sita en la Calle Escañuela 10.
URL:https://cordobacapitalcofrade.com/agenda/iguala-de-costaleros-de-nuestro-padre-jesus-de-las-penas/
LOCATION:Casa de Hermandad de la Esperanza\, C. Escañuela\, 12\, Centro\, 14002 Córdoba\, Córdoba\, España
CATEGORIES:Igualás de costaleros
ATTACH;FMTTYPE=image/jpeg:https://cordobacapitalcofrade.com/wp-content/uploads/2024/01/416692590_811075861061203_5653519410593730185_n.jpg
END:VEVENT
BEGIN:VEVENT
DTSTART;TZID=UTC:20240113T120000
DTEND;TZID=UTC:20240113T133000
DTSTAMP:20260420T052128
CREATED:20240108T170854Z
LAST-MODIFIED:20240108T170854Z
UID:1327-1705147200-1705152600@cordobacapitalcofrade.com
SUMMARY:Igualá de costaleros de Nuestro Padre Jesús Nazareno de la Santa Faz
DESCRIPTION:Igualá de costaleros de Nuestro Padre Jesús Nazareno de la Santa Faz a las 12:00 horas en el Centro Parroquial Carmen Márquez Criado situado en la C/ Tejón y Marín\, 9
URL:https://cordobacapitalcofrade.com/agenda/iguala-de-costaleros-de-nuestro-padre-jesus-nazareno-de-la-santa-faz/
LOCATION:Salones Parroquiales de la Trinidad\, C. Sánchez de Feria\, 13\, Córdoba\, España
CATEGORIES:Igualás de costaleros
ATTACH;FMTTYPE=image/jpeg:https://cordobacapitalcofrade.com/wp-content/uploads/2024/01/407856371_743592381135669_7657821331979266846_n.jpg
END:VEVENT
BEGIN:VEVENT
DTSTART;TZID=UTC:20240113T160000
DTEND;TZID=UTC:20240113T173000
DTSTAMP:20260420T052128
CREATED:20240108T171947Z
LAST-MODIFIED:20240108T171947Z
UID:1336-1705161600-1705167000@cordobacapitalcofrade.com
SUMMARY:Igualá de costaleros de Nuestra Señora Reina de los Mártires
DESCRIPTION:Igualá de costaleros de Nuestra Señora Reina de los Mártires a las 16:00 horas en el Patio de la Real Colegiata de San Hipólito en el Bulevar del Gran Capitán\, 5.
URL:https://cordobacapitalcofrade.com/agenda/iguala-de-costaleros-de-nuestra-senora-reina-de-los-martires/
LOCATION:Patio Real Colegiata de San Hipólito\, Av. del Gran Capitán\, Centro\, 14008 Córdoba\, Córdoba\, España
CATEGORIES:Igualás de costaleros
ATTACH;FMTTYPE=image/jpeg:https://cordobacapitalcofrade.com/wp-content/uploads/2024/01/402552809_332663826179146_5738309738508880252_n.jpg
END:VEVENT
BEGIN:VEVENT
DTSTART;TZID=UTC:20240113T170000
DTEND;TZID=UTC:20240113T183000
DTSTAMP:20260420T052128
CREATED:20231230T131316Z
LAST-MODIFIED:20231230T131316Z
UID:1039-1705165200-1705170600@cordobacapitalcofrade.com
SUMMARY:Igualá de costaleros de Nuestro Padre Jesús de la Salud
DESCRIPTION:Igualá de costaleros de Nuestro Padre Jesús de la Salud a las 17:00 horas en la Casa de Hdad. sita en la C/ Ronda de Andújar 23.
URL:https://cordobacapitalcofrade.com/agenda/iguala-de-costaleros-de-nuestro-padre-jesus-de-la-salud/
LOCATION:Casa de Hermandad de la Salud de Puerta Nueva\, C/ Ronda de Andújar 23\, Córdoba Capital\, Córdoba\, España
CATEGORIES:Igualás de costaleros
ATTACH;FMTTYPE=image/jpeg:https://cordobacapitalcofrade.com/wp-content/uploads/2023/12/403602323_18257638807201674_4344311778748172753_n.jpg
END:VEVENT
BEGIN:VEVENT
DTSTART;TZID=UTC:20240113T170000
DTEND;TZID=UTC:20240113T183000
DTSTAMP:20260420T052128
CREATED:20240108T171126Z
LAST-MODIFIED:20240108T171126Z
UID:1330-1705165200-1705170600@cordobacapitalcofrade.com
SUMMARY:Igualá de costaleros de María Santísima de Rocío y Lágrimas
DESCRIPTION:Igualá de costaleros de María Santísima de Rocío y Lágrimas a las 17:00 horas en el Centro Parroquial Carmen Márquez Criado\, entrada por la C/ Sánchez de Feria\, 10.
URL:https://cordobacapitalcofrade.com/agenda/iguala-de-costaleros-de-maria-santisima-de-rocio-y-lagrimas/
LOCATION:Salones Parroquiales de la Trinidad\, C. Sánchez de Feria\, 13\, Córdoba\, España
CATEGORIES:Igualás de costaleros
ATTACH;FMTTYPE=image/jpeg:https://cordobacapitalcofrade.com/wp-content/uploads/2024/01/412313164_770611881776183_8525336199613559855_n.jpg
END:VEVENT
BEGIN:VEVENT
DTSTART;TZID=UTC:20240113T173000
DTEND;TZID=UTC:20240113T190000
DTSTAMP:20260420T052128
CREATED:20231230T151138Z
LAST-MODIFIED:20231230T151138Z
UID:1111-1705167000-1705172400@cordobacapitalcofrade.com
SUMMARY:Igualá de costaleros de María Santísima de la O
DESCRIPTION:Igualá de costaleros de María Santísima de la O a las 17:30 horas en la Parroquia de Nuestra Señora de la Aurora.
URL:https://cordobacapitalcofrade.com/agenda/iguala-de-costaleros-de-maria-santisima-de-la-o/
LOCATION:Parroquia de Nuestra Señora de la Aurora\, Plaza Mahatma Gandhi sn\, Córdoba\, Córdoba\, 14014\, España
CATEGORIES:Igualás de costaleros
ATTACH;FMTTYPE=image/jpeg:https://cordobacapitalcofrade.com/wp-content/uploads/2023/12/400182767_339073488707222_8794070734276090965_n.jpg
END:VEVENT
BEGIN:VEVENT
DTSTART;TZID=UTC:20240113T173000
DTEND;TZID=UTC:20240113T190000
DTSTAMP:20260420T052128
CREATED:20240108T171526Z
LAST-MODIFIED:20240108T171526Z
UID:1333-1705167000-1705172400@cordobacapitalcofrade.com
SUMMARY:Igualá de costaleros de Nuestra Señora del Mayor Dolor en su Soledad
DESCRIPTION:Igualá de costaleros de Nuestra Señora del Mayor Dolor en su Soledad a las 17:30 horas en la Casa de Hdad. sita en la Cuesta de San Cayetano.
URL:https://cordobacapitalcofrade.com/agenda/iguala-de-costaleros-de-nuestra-senora-del-mayor-dolor-en-su-soledad/
LOCATION:Iglesia Conventual de San José (San Cayetano\, C. Cta. de San Cayetano\,\, Córdoba\, España
CATEGORIES:Igualás de costaleros
ATTACH;FMTTYPE=image/jpeg:https://cordobacapitalcofrade.com/wp-content/uploads/2024/01/GDQtY7MXMAAAAkf.jpg
END:VEVENT
BEGIN:VEVENT
DTSTART;TZID=UTC:20240113T183000
DTEND;TZID=UTC:20240113T200000
DTSTAMP:20260420T052128
CREATED:20240103T160601Z
LAST-MODIFIED:20240103T160601Z
UID:1250-1705170600-1705176000@cordobacapitalcofrade.com
SUMMARY:Igualá de costaleros de María Santísima del Dulce Nombre
DESCRIPTION:Igualá de costaleros de María Santísima del Dulce Nombre a las 18:30 horas en el Paseo Cristo del Descendimiento.
URL:https://cordobacapitalcofrade.com/agenda/iguala-de-costaleros-de-maria-santisima-del-dulce-nombre/
LOCATION:Paseo Cristo del Descendimiento\, Paseo Cristo del Descendimiento\, Córdoba\, Córdoba\, 14009\, España
CATEGORIES:Igualás de costaleros
ATTACH;FMTTYPE=image/jpeg:https://cordobacapitalcofrade.com/wp-content/uploads/2024/01/407789517_726912319461388_4776738030740976327_n.jpg
END:VEVENT
BEGIN:VEVENT
DTSTART;TZID=UTC:20240113T190000
DTEND;TZID=UTC:20240113T203000
DTSTAMP:20260420T052129
CREATED:20231230T141723Z
LAST-MODIFIED:20231230T141723Z
UID:1079-1705172400-1705177800@cordobacapitalcofrade.com
SUMMARY:Igualá de costaleros del Santísimo Cristo de las Lágrimas
DESCRIPTION:Igualá de costaleros del Santísimo Cristo de las Lágrimas a las 19:00 horas en la Plaza de la Marina Española.
URL:https://cordobacapitalcofrade.com/agenda/iguala-de-costaleros-del-santisimo-cristo-de-las-lagrimas/
LOCATION:Parroquia de Nuestra Señora de la Asunción\, Plaza de la Marina Española\, s/n\, Noroeste\, 14011 Córdoba\, Córdoba\, España
CATEGORIES:Igualás de costaleros
ATTACH;FMTTYPE=image/jpeg:https://cordobacapitalcofrade.com/wp-content/uploads/2023/12/404889865_365734449312517_8844865460296229952_n.jpg
END:VEVENT
BEGIN:VEVENT
DTSTART;TZID=UTC:20240114T100000
DTEND;TZID=UTC:20240114T113000
DTSTAMP:20260420T052129
CREATED:20240108T174837Z
LAST-MODIFIED:20240108T174837Z
UID:1342-1705226400-1705231800@cordobacapitalcofrade.com
SUMMARY:Igualá de costaleros de Nuestro Padre Jesús del Silencio
DESCRIPTION:Igualá de costaleros de Nuestro Padre Jesús del Silencio a las 10:00 horas en la Casa de Hermandad.
URL:https://cordobacapitalcofrade.com/agenda/iguala-de-costaleros-de-nuestro-padre-jesus-del-silencio/
LOCATION:Casa de Hermandad del Amor\, Pje. Cristo del Amor\, 7\, Sur\, 14009 Córdoba\, Córdoba\, España
CATEGORIES:Igualás de costaleros
ATTACH;FMTTYPE=image/jpeg:https://cordobacapitalcofrade.com/wp-content/uploads/2024/01/402452279_357798740143015_8728061655184107301_n.jpg
END:VEVENT
BEGIN:VEVENT
DTSTART;TZID=UTC:20240114T110000
DTEND;TZID=UTC:20240114T123000
DTSTAMP:20260420T052129
CREATED:20240108T180724Z
LAST-MODIFIED:20240108T180724Z
UID:1358-1705230000-1705235400@cordobacapitalcofrade.com
SUMMARY:Igualá de costaleros del Santísimo Cristo de Gracia
DESCRIPTION:Igualá de costaleros del Santísimo Cristo de Gracia a las 11:00 horas en la Nave de la Hermandad situada en la \, en el Polígono Pedroche.
URL:https://cordobacapitalcofrade.com/agenda/iguala-de-costaleros-del-santisimo-cristo-de-gracia/
LOCATION:Local Cristo de Gracia\, Hdad. Cristo de Gracia\, C. los Metalúrgicos\, 85\, 14014 Córdoba\, Córdoba\, España
CATEGORIES:Igualás de costaleros
ATTACH;FMTTYPE=image/jpeg:https://cordobacapitalcofrade.com/wp-content/uploads/2024/01/Hermandad-del-Cristo-de-Gracia-Esparraguero-0902-min-scaled.jpg
END:VEVENT
BEGIN:VEVENT
DTSTART;TZID=UTC:20240114T110000
DTEND;TZID=UTC:20240114T123000
DTSTAMP:20260420T052129
CREATED:20240108T181018Z
LAST-MODIFIED:20240108T181018Z
UID:1362-1705230000-1705235400@cordobacapitalcofrade.com
SUMMARY:Igualá de costaleros de María Santísima en su Soledad
DESCRIPTION:Igualá de costaleros de María Santísima en su Soledad a las 11:00 horas en el Patio del Colegio de los Franciscos ubicado en la Avenida 28 de febrero (acceso por la rampa de la cochera).
URL:https://cordobacapitalcofrade.com/agenda/iguala-de-costaleros-de-maria-santisima-en-su-soledad/
LOCATION:Patio Colegio Franciscanos\, Av. del 28 de Febrero\, 12\, Levante\, 14007 Córdoba\, Córdoba\, España
CATEGORIES:Igualás de costaleros
ATTACH;FMTTYPE=image/jpeg:https://cordobacapitalcofrade.com/wp-content/uploads/2024/01/405001142_756286223203986_4952343855980925098_n.jpg
END:VEVENT
BEGIN:VEVENT
DTSTART;TZID=UTC:20240114T114500
DTEND;TZID=UTC:20240114T133000
DTSTAMP:20260420T052129
CREATED:20240103T162245Z
LAST-MODIFIED:20240103T162245Z
UID:1260-1705232700-1705239000@cordobacapitalcofrade.com
SUMMARY:Igualá de costaleros de María Santísima de la Esperanza
DESCRIPTION:Igualá de costaleros de María Santísima de la Esperanza a las 11:45 horas en la Casa de Hdad. sita en la Calle
URL:https://cordobacapitalcofrade.com/agenda/iguala-de-costaleros-de-maria-santisima-de-la-esperanza/
LOCATION:Casa de Hermandad de la Esperanza\, C. Escañuela\, 12\, Centro\, 14002 Córdoba\, Córdoba\, España
CATEGORIES:Igualás de costaleros
ATTACH;FMTTYPE=image/jpeg:https://cordobacapitalcofrade.com/wp-content/uploads/2024/01/20240102_122931.jpg
END:VEVENT
BEGIN:VEVENT
DTSTART;TZID=UTC:20240114T120000
DTEND;TZID=UTC:20240114T130000
DTSTAMP:20260420T052129
CREATED:20240102T163409Z
LAST-MODIFIED:20240102T163800Z
UID:1212-1705233600-1705237200@cordobacapitalcofrade.com
SUMMARY:Igualá Ntro. Padre Jesús Rescatado
DESCRIPTION:Iguala de la cuadrilla de costaleros de Nuestro Padre Jesús Nazareno Rescatado\, tendrá lugar el 14 de enero a las 12 horas en el hall del Colegio Trinitarios. Imprescindible calzado de salida negro.
URL:https://cordobacapitalcofrade.com/agenda/iguala-ntro-padre-jesus-rescatado/
LOCATION:Colegio Trinitarios\, Plaza Cristo de Gracia\, 5\, Córdoba\, Córdoba\, 14002\, España
CATEGORIES:Igualás de costaleros
ATTACH;FMTTYPE=image/jpeg:https://cordobacapitalcofrade.com/wp-content/uploads/2024/01/IMG_20240102_173204.jpg
END:VEVENT
BEGIN:VEVENT
DTSTART;TZID=UTC:20240114T120000
DTEND;TZID=UTC:20240114T133000
DTSTAMP:20260420T052129
CREATED:20240108T175215Z
LAST-MODIFIED:20240108T175215Z
UID:1346-1705233600-1705239000@cordobacapitalcofrade.com
SUMMARY:Igualá de costaleros del Santísimo Cristo de la Agonía
DESCRIPTION:Igualá de costaleros del Santísimo Cristo de la Agonía a las 12:00 horas en la Parroquia de Santa Victoria.
URL:https://cordobacapitalcofrade.com/agenda/iguala-de-costaleros-del-santisimo-cristo-de-la-agonia/
LOCATION:Parroquia de Santa Victoria\, C. Párroco Agustín Molina\, 20\, Nte. Sierra\, 14960 Córdoba\, Córdoba\, España
CATEGORIES:Igualás de costaleros
ATTACH;FMTTYPE=image/jpeg:https://cordobacapitalcofrade.com/wp-content/uploads/2024/01/400601662_644228151210384_7620206667346521685_n.jpg
END:VEVENT
BEGIN:VEVENT
DTSTART;TZID=UTC:20240114T120000
DTEND;TZID=UTC:20240114T133000
DTSTAMP:20260420T052129
CREATED:20240108T175954Z
LAST-MODIFIED:20240108T175954Z
UID:1355-1705233600-1705239000@cordobacapitalcofrade.com
SUMMARY:Igualá de costaleros de María Santísima Nazarena
DESCRIPTION:Igualá de costaleros de María Santísima Nazarena a las 12:00 horas en el Patio del Colegio de Jesús Nazareno entrando por la C/ Rehoyo.
URL:https://cordobacapitalcofrade.com/agenda/iguala-de-costaleros-de-maria-santisima-nazarena/
LOCATION:Patio Jesús Nazareno\, Pl. de San Agustín\, 8\, Centro\, 14001 Córdoba\, Córdoba\, España
CATEGORIES:Igualás de costaleros
ATTACH;FMTTYPE=image/jpeg:https://cordobacapitalcofrade.com/wp-content/uploads/2024/01/406734861_755771156588266_3649289798349264405_n.jpg
END:VEVENT
BEGIN:VEVENT
DTSTART;TZID=UTC:20240114T170000
DTEND;TZID=UTC:20240114T183000
DTSTAMP:20260420T052129
CREATED:20240108T175704Z
LAST-MODIFIED:20240108T175704Z
UID:1351-1705251600-1705257000@cordobacapitalcofrade.com
SUMMARY:Igualá de costaleros de Nuestra Señora del Mayor Dolor
DESCRIPTION:Igualá de costaleros de Nuestra Señora del Mayor Dolor a las 17:00 horas en la Casa de Hdad. sita en la C/ Prolongación Escañuela\, 1.
URL:https://cordobacapitalcofrade.com/agenda/iguala-de-costaleros-de-nuestra-senora-del-mayor-dolor/
LOCATION:Casa de Hermandad del Calvario\, C. Escañuela\, 1\, Centro\, 14002 Córdoba\, Córdoba\, España
CATEGORIES:Igualás de costaleros
ATTACH;FMTTYPE=image/jpeg:https://cordobacapitalcofrade.com/wp-content/uploads/2024/01/410625623_675758884673336_556023629317072695_n.jpg
END:VEVENT
BEGIN:VEVENT
DTSTART;TZID=UTC:20240115T210000
DTEND;TZID=UTC:20240115T223000
DTSTAMP:20260420T052129
CREATED:20240103T155059Z
LAST-MODIFIED:20240103T155059Z
UID:1237-1705352400-1705357800@cordobacapitalcofrade.com
SUMMARY:Igualá de costaleros de Nuestro Señor de los Reyes
DESCRIPTION:Igualá de costaleros de Nuestro Señor de los Reyes a las 21:00 horas en el Paseo Cristo del Descendimiento.
URL:https://cordobacapitalcofrade.com/agenda/iguala-de-costaleros-de-nuestro-senor-de-los-reyes/
LOCATION:Paseo Cristo del Descendimiento\, Paseo Cristo del Descendimiento\, Córdoba\, Córdoba\, 14009\, España
CATEGORIES:Igualás de costaleros
ATTACH;FMTTYPE=image/jpeg:https://cordobacapitalcofrade.com/wp-content/uploads/2024/01/407459184_726910439461576_300412281624139910_n.jpg
END:VEVENT
BEGIN:VEVENT
DTSTART;TZID=UTC:20240115T210000
DTEND;TZID=UTC:20240115T223000
DTSTAMP:20260420T052129
CREATED:20240106T142105Z
LAST-MODIFIED:20240106T142105Z
UID:1275-1705352400-1705357800@cordobacapitalcofrade.com
SUMMARY:Igualá de costaleros de María Santísima de la Candelaria
DESCRIPTION:Igualá de costaleros de María Santísima de la Candelaria a las 21:00 horas en la Parroquia de San Francisco y San Eulogio.
URL:https://cordobacapitalcofrade.com/agenda/iguala-de-costaleros-de-maria-santisima-de-la-candelaria/
LOCATION:Parroquia de San Francisco y San Eulogio\, C. Compás de San Francisco\, 0\, Córdoba\, España
CATEGORIES:Igualás de costaleros
ATTACH;FMTTYPE=image/jpeg:https://cordobacapitalcofrade.com/wp-content/uploads/2024/01/Candelaria.jpeg
END:VEVENT
END:VCALENDAR