BEGIN:VCALENDAR
VERSION:2.0
PRODID:-//Agenda Cofrade 365 Días - ECPv6.3.7//NONSGML v1.0//EN
CALSCALE:GREGORIAN
METHOD:PUBLISH
X-WR-CALNAME:Agenda Cofrade 365 Días
X-ORIGINAL-URL:https://cordobacapitalcofrade.com
X-WR-CALDESC:Eventos para Agenda Cofrade 365 Días
REFRESH-INTERVAL;VALUE=DURATION:PT1H
X-Robots-Tag:noindex
X-PUBLISHED-TTL:PT1H
BEGIN:VTIMEZONE
TZID:UTC
BEGIN:STANDARD
TZOFFSETFROM:+0000
TZOFFSETTO:+0000
TZNAME:UTC
DTSTART:20240101T000000
END:STANDARD
END:VTIMEZONE
BEGIN:VEVENT
DTSTART;TZID=UTC:20240204T123000
DTEND;TZID=UTC:20240204T143000
DTSTAMP:20260420T020449
CREATED:20240119T112356Z
LAST-MODIFIED:20240119T112356Z
UID:1697-1707049800-1707057000@cordobacapitalcofrade.com
SUMMARY:Igualá María Stma. De los Dolores (Alcolea)
DESCRIPTION:Igualdad de María Santísima de los Dolores de Alcolea\, tendrá lugar el 4 de febrero a las 12:30 horas\,en su Casa Hermandad. Obligatorio asistir con calzado negro de salida.
URL:https://cordobacapitalcofrade.com/agenda/iguala-maria-stma-de-los-dolores-alcolea/
LOCATION:Casa Hermandad de los Dolores Alcolea\, Calle Carmona\, 57\, Córdoba\, Alcolea\, 14610\, España
CATEGORIES:Igualás de costaleros
ATTACH;FMTTYPE=image/jpeg:https://cordobacapitalcofrade.com/wp-content/uploads/2024/01/IMG_20240119_121829.jpg
END:VEVENT
BEGIN:VEVENT
DTSTART;TZID=UTC:20240218T103000
DTEND;TZID=UTC:20240218T140000
DTSTAMP:20260420T020449
CREATED:20240114T142015Z
LAST-MODIFIED:20240114T142259Z
UID:1468-1708252200-1708264800@cordobacapitalcofrade.com
SUMMARY:Igualá y 1er ensayo de costaleros del Santísimo Cristo de la Universidad
DESCRIPTION:Igualá y 1er ensayo de costaleros del Santísimo Cristo de la Universidad a las 10:30 horas en la Casa de Hdad. sita en la C/ Montero\, 22.
URL:https://cordobacapitalcofrade.com/agenda/iguala-y-1er-ensayo-de-costaleros-del-santisimo-cristo-de-la-universidad/
LOCATION:Casa de Hermandad Universitaria\, C. Montero\, 22\, Centro\, 14001 Córdoba\, Córdoba\, España
CATEGORIES:Ensayos Costaleros,Igualás de costaleros
ATTACH;FMTTYPE=image/webp:https://cordobacapitalcofrade.com/wp-content/uploads/2024/01/ms48universitaria.webp
END:VEVENT
END:VCALENDAR