BEGIN:VCALENDAR
VERSION:2.0
PRODID:-//Agenda Cofrade 365 Días - ECPv6.3.7//NONSGML v1.0//EN
CALSCALE:GREGORIAN
METHOD:PUBLISH
X-WR-CALNAME:Agenda Cofrade 365 Días
X-ORIGINAL-URL:https://cordobacapitalcofrade.com
X-WR-CALDESC:Eventos para Agenda Cofrade 365 Días
REFRESH-INTERVAL;VALUE=DURATION:PT1H
X-Robots-Tag:noindex
X-PUBLISHED-TTL:PT1H
BEGIN:VTIMEZONE
TZID:UTC
BEGIN:STANDARD
TZOFFSETFROM:+0000
TZOFFSETTO:+0000
TZNAME:UTC
DTSTART:20240101T000000
END:STANDARD
END:VTIMEZONE
BEGIN:VEVENT
DTSTART;TZID=UTC:20240111T210000
DTEND;TZID=UTC:20240111T220000
DTSTAMP:20260420T130037
CREATED:20240108T145232Z
LAST-MODIFIED:20240108T145232Z
UID:1293-1705006800-1705010400@cordobacapitalcofrade.com
SUMMARY:Igualá de costaleros de Nuestro Padre Jesús Nazareno
DESCRIPTION:Igualá de costaleros de Nuestro Padre Jesús Nazareno a las 21:00 horas en el Patio del Colegio de Jesús Nazareno entrando por la C/ Rehoyo.
URL:https://cordobacapitalcofrade.com/agenda/iguala-de-costaleros-de-nuestro-padre-jesus-nazareno/
LOCATION:Patio Jesús Nazareno\, Pl. de San Agustín\, 8\, Centro\, 14001 Córdoba\, Córdoba\, España
CATEGORIES:Igualás de costaleros
ATTACH;FMTTYPE=image/jpeg:https://cordobacapitalcofrade.com/wp-content/uploads/2024/01/406730082_755771043254944_4177622886315312031_n.jpg
END:VEVENT
BEGIN:VEVENT
DTSTART;TZID=UTC:20240111T210000
DTEND;TZID=UTC:20240111T223000
DTSTAMP:20260420T130037
CREATED:20240108T145521Z
LAST-MODIFIED:20240108T145605Z
UID:1297-1705006800-1705012200@cordobacapitalcofrade.com
SUMMARY:Igualá de costaleros de Nuestro Padre Jesús Caído
DESCRIPTION:Igualá de costaleros de Nuestro Padre Jesús Caído a las 21:00 horas en la Cuesta de San Cayetano.
URL:https://cordobacapitalcofrade.com/agenda/iguala-de-costaleros-de-nuestro-padre-jesus-caido/
LOCATION:Convento de San José (San Cayetano)\, C. Cta. de San Cayetano\, 14001 Córdoba\, Córdoba\, España
CATEGORIES:Igualás de costaleros
ATTACH;FMTTYPE=image/jpeg:https://cordobacapitalcofrade.com/wp-content/uploads/2024/01/GDQtTn5WIAAeEZ9.jpg
END:VEVENT
END:VCALENDAR