BEGIN:VCALENDAR
VERSION:2.0
PRODID:-//Agenda Cofrade 365 Días - ECPv6.3.7//NONSGML v1.0//EN
CALSCALE:GREGORIAN
METHOD:PUBLISH
X-ORIGINAL-URL:https://cordobacapitalcofrade.com
X-WR-CALDESC:Eventos para Agenda Cofrade 365 Días
REFRESH-INTERVAL;VALUE=DURATION:PT1H
X-Robots-Tag:noindex
X-PUBLISHED-TTL:PT1H
BEGIN:VTIMEZONE
TZID:UTC
BEGIN:STANDARD
TZOFFSETFROM:+0000
TZOFFSETTO:+0000
TZNAME:UTC
DTSTART:20240101T000000
END:STANDARD
END:VTIMEZONE
BEGIN:VEVENT
DTSTART;TZID=UTC:20240113T120000
DTEND;TZID=UTC:20240113T133000
DTSTAMP:20260420T142948
CREATED:20240108T170854Z
LAST-MODIFIED:20240108T170854Z
UID:1327-1705147200-1705152600@cordobacapitalcofrade.com
SUMMARY:Igualá de costaleros de Nuestro Padre Jesús Nazareno de la Santa Faz
DESCRIPTION:Igualá de costaleros de Nuestro Padre Jesús Nazareno de la Santa Faz a las 12:00 horas en el Centro Parroquial Carmen Márquez Criado situado en la C/ Tejón y Marín\, 9
URL:https://cordobacapitalcofrade.com/agenda/iguala-de-costaleros-de-nuestro-padre-jesus-nazareno-de-la-santa-faz/
LOCATION:Salones Parroquiales de la Trinidad\, C. Sánchez de Feria\, 13\, Córdoba\, España
CATEGORIES:Igualás de costaleros
ATTACH;FMTTYPE=image/jpeg:https://cordobacapitalcofrade.com/wp-content/uploads/2024/01/407856371_743592381135669_7657821331979266846_n.jpg
END:VEVENT
BEGIN:VEVENT
DTSTART;TZID=UTC:20240113T160000
DTEND;TZID=UTC:20240113T173000
DTSTAMP:20260420T142948
CREATED:20240108T171947Z
LAST-MODIFIED:20240108T171947Z
UID:1336-1705161600-1705167000@cordobacapitalcofrade.com
SUMMARY:Igualá de costaleros de Nuestra Señora Reina de los Mártires
DESCRIPTION:Igualá de costaleros de Nuestra Señora Reina de los Mártires a las 16:00 horas en el Patio de la Real Colegiata de San Hipólito en el Bulevar del Gran Capitán\, 5.
URL:https://cordobacapitalcofrade.com/agenda/iguala-de-costaleros-de-nuestra-senora-reina-de-los-martires/
LOCATION:Patio Real Colegiata de San Hipólito\, Av. del Gran Capitán\, Centro\, 14008 Córdoba\, Córdoba\, España
CATEGORIES:Igualás de costaleros
ATTACH;FMTTYPE=image/jpeg:https://cordobacapitalcofrade.com/wp-content/uploads/2024/01/402552809_332663826179146_5738309738508880252_n.jpg
END:VEVENT
BEGIN:VEVENT
DTSTART;TZID=UTC:20240113T170000
DTEND;TZID=UTC:20240113T183000
DTSTAMP:20260420T142948
CREATED:20231230T131316Z
LAST-MODIFIED:20231230T131316Z
UID:1039-1705165200-1705170600@cordobacapitalcofrade.com
SUMMARY:Igualá de costaleros de Nuestro Padre Jesús de la Salud
DESCRIPTION:Igualá de costaleros de Nuestro Padre Jesús de la Salud a las 17:00 horas en la Casa de Hdad. sita en la C/ Ronda de Andújar 23.
URL:https://cordobacapitalcofrade.com/agenda/iguala-de-costaleros-de-nuestro-padre-jesus-de-la-salud/
LOCATION:Casa de Hermandad de la Salud de Puerta Nueva\, C/ Ronda de Andújar 23\, Córdoba Capital\, Córdoba\, España
CATEGORIES:Igualás de costaleros
ATTACH;FMTTYPE=image/jpeg:https://cordobacapitalcofrade.com/wp-content/uploads/2023/12/403602323_18257638807201674_4344311778748172753_n.jpg
END:VEVENT
BEGIN:VEVENT
DTSTART;TZID=UTC:20240113T170000
DTEND;TZID=UTC:20240113T183000
DTSTAMP:20260420T142948
CREATED:20240108T171126Z
LAST-MODIFIED:20240108T171126Z
UID:1330-1705165200-1705170600@cordobacapitalcofrade.com
SUMMARY:Igualá de costaleros de María Santísima de Rocío y Lágrimas
DESCRIPTION:Igualá de costaleros de María Santísima de Rocío y Lágrimas a las 17:00 horas en el Centro Parroquial Carmen Márquez Criado\, entrada por la C/ Sánchez de Feria\, 10.
URL:https://cordobacapitalcofrade.com/agenda/iguala-de-costaleros-de-maria-santisima-de-rocio-y-lagrimas/
LOCATION:Salones Parroquiales de la Trinidad\, C. Sánchez de Feria\, 13\, Córdoba\, España
CATEGORIES:Igualás de costaleros
ATTACH;FMTTYPE=image/jpeg:https://cordobacapitalcofrade.com/wp-content/uploads/2024/01/412313164_770611881776183_8525336199613559855_n.jpg
END:VEVENT
BEGIN:VEVENT
DTSTART;TZID=UTC:20240113T173000
DTEND;TZID=UTC:20240113T190000
DTSTAMP:20260420T142948
CREATED:20231230T151138Z
LAST-MODIFIED:20231230T151138Z
UID:1111-1705167000-1705172400@cordobacapitalcofrade.com
SUMMARY:Igualá de costaleros de María Santísima de la O
DESCRIPTION:Igualá de costaleros de María Santísima de la O a las 17:30 horas en la Parroquia de Nuestra Señora de la Aurora.
URL:https://cordobacapitalcofrade.com/agenda/iguala-de-costaleros-de-maria-santisima-de-la-o/
LOCATION:Parroquia de Nuestra Señora de la Aurora\, Plaza Mahatma Gandhi sn\, Córdoba\, Córdoba\, 14014\, España
CATEGORIES:Igualás de costaleros
ATTACH;FMTTYPE=image/jpeg:https://cordobacapitalcofrade.com/wp-content/uploads/2023/12/400182767_339073488707222_8794070734276090965_n.jpg
END:VEVENT
BEGIN:VEVENT
DTSTART;TZID=UTC:20240113T173000
DTEND;TZID=UTC:20240113T190000
DTSTAMP:20260420T142948
CREATED:20240108T171526Z
LAST-MODIFIED:20240108T171526Z
UID:1333-1705167000-1705172400@cordobacapitalcofrade.com
SUMMARY:Igualá de costaleros de Nuestra Señora del Mayor Dolor en su Soledad
DESCRIPTION:Igualá de costaleros de Nuestra Señora del Mayor Dolor en su Soledad a las 17:30 horas en la Casa de Hdad. sita en la Cuesta de San Cayetano.
URL:https://cordobacapitalcofrade.com/agenda/iguala-de-costaleros-de-nuestra-senora-del-mayor-dolor-en-su-soledad/
LOCATION:Iglesia Conventual de San José (San Cayetano\, C. Cta. de San Cayetano\,\, Córdoba\, España
CATEGORIES:Igualás de costaleros
ATTACH;FMTTYPE=image/jpeg:https://cordobacapitalcofrade.com/wp-content/uploads/2024/01/GDQtY7MXMAAAAkf.jpg
END:VEVENT
BEGIN:VEVENT
DTSTART;TZID=UTC:20240113T183000
DTEND;TZID=UTC:20240113T200000
DTSTAMP:20260420T142948
CREATED:20240103T160601Z
LAST-MODIFIED:20240103T160601Z
UID:1250-1705170600-1705176000@cordobacapitalcofrade.com
SUMMARY:Igualá de costaleros de María Santísima del Dulce Nombre
DESCRIPTION:Igualá de costaleros de María Santísima del Dulce Nombre a las 18:30 horas en el Paseo Cristo del Descendimiento.
URL:https://cordobacapitalcofrade.com/agenda/iguala-de-costaleros-de-maria-santisima-del-dulce-nombre/
LOCATION:Paseo Cristo del Descendimiento\, Paseo Cristo del Descendimiento\, Córdoba\, Córdoba\, 14009\, España
CATEGORIES:Igualás de costaleros
ATTACH;FMTTYPE=image/jpeg:https://cordobacapitalcofrade.com/wp-content/uploads/2024/01/407789517_726912319461388_4776738030740976327_n.jpg
END:VEVENT
BEGIN:VEVENT
DTSTART;TZID=UTC:20240113T190000
DTEND;TZID=UTC:20240113T203000
DTSTAMP:20260420T142948
CREATED:20231230T141723Z
LAST-MODIFIED:20231230T141723Z
UID:1079-1705172400-1705177800@cordobacapitalcofrade.com
SUMMARY:Igualá de costaleros del Santísimo Cristo de las Lágrimas
DESCRIPTION:Igualá de costaleros del Santísimo Cristo de las Lágrimas a las 19:00 horas en la Plaza de la Marina Española.
URL:https://cordobacapitalcofrade.com/agenda/iguala-de-costaleros-del-santisimo-cristo-de-las-lagrimas/
LOCATION:Parroquia de Nuestra Señora de la Asunción\, Plaza de la Marina Española\, s/n\, Noroeste\, 14011 Córdoba\, Córdoba\, España
CATEGORIES:Igualás de costaleros
ATTACH;FMTTYPE=image/jpeg:https://cordobacapitalcofrade.com/wp-content/uploads/2023/12/404889865_365734449312517_8844865460296229952_n.jpg
END:VEVENT
END:VCALENDAR