BEGIN:VCALENDAR
VERSION:2.0
PRODID:-//Agenda Cofrade 365 Días - ECPv6.3.7//NONSGML v1.0//EN
CALSCALE:GREGORIAN
METHOD:PUBLISH
X-WR-CALNAME:Agenda Cofrade 365 Días
X-ORIGINAL-URL:https://cordobacapitalcofrade.com
X-WR-CALDESC:Eventos para Agenda Cofrade 365 Días
REFRESH-INTERVAL;VALUE=DURATION:PT1H
X-Robots-Tag:noindex
X-PUBLISHED-TTL:PT1H
BEGIN:VTIMEZONE
TZID:UTC
BEGIN:STANDARD
TZOFFSETFROM:+0000
TZOFFSETTO:+0000
TZNAME:UTC
DTSTART:20240101T000000
END:STANDARD
END:VTIMEZONE
BEGIN:VEVENT
DTSTART;TZID=UTC:20240117T210000
DTEND;TZID=UTC:20240117T223000
DTSTAMP:20260420T113832
CREATED:20231230T163644Z
LAST-MODIFIED:20231230T163644Z
UID:1131-1705525200-1705530600@cordobacapitalcofrade.com
SUMMARY:Igualá de costaleros de Nuestra Señora de la Palma
DESCRIPTION:Igualá de costaleros de Nuestra Señora de la Palma a las 21:00 horas en la Real Parroquia de San Lorenzo Mártir.
URL:https://cordobacapitalcofrade.com/agenda/iguala-de-costaleros-de-nuestra-senora-de-la-palma/
LOCATION:Real Parroquia de San Lorenzo Mártir\, Pl. de San Lorenzo\, 5\, Córdoba\, España
CATEGORIES:Igualás de costaleros
ATTACH;FMTTYPE=image/jpeg:https://cordobacapitalcofrade.com/wp-content/uploads/2023/12/409169033_368409029036199_8922488261936141028_n.jpg
END:VEVENT
BEGIN:VEVENT
DTSTART;TZID=UTC:20240117T213000
DTEND;TZID=UTC:20240117T230000
DTSTAMP:20260420T113832
CREATED:20240115T153850Z
LAST-MODIFIED:20240115T153850Z
UID:1517-1705527000-1705532400@cordobacapitalcofrade.com
SUMMARY:Igualá de costaleros del Santísimo Cristo de Oración y Caridad
DESCRIPTION:Igualá de costaleros del Santísimo Cristo de Oración y Caridad a las 21:30 horas en la Parroquia de Nuestra Señora del Rosario.
URL:https://cordobacapitalcofrade.com/agenda/iguala-de-costaleros-del-santisimo-cristo-de-oracion-y-caridad/
LOCATION:Iglesia de Ntra. Sra. Del Rosario\, Plaza de Electromecánicas\, Córdoba\, Córdoba\, 14005\, España
CATEGORIES:Igualás de costaleros
ATTACH;FMTTYPE=image/jpeg:https://cordobacapitalcofrade.com/wp-content/uploads/2024/01/404045196_723739679779143_139917397659828448_n.jpg
END:VEVENT
END:VCALENDAR