BEGIN:VCALENDAR
VERSION:2.0
PRODID:-//Agenda Cofrade 365 Días - ECPv6.3.7//NONSGML v1.0//EN
CALSCALE:GREGORIAN
METHOD:PUBLISH
X-WR-CALNAME:Agenda Cofrade 365 Días
X-ORIGINAL-URL:https://cordobacapitalcofrade.com
X-WR-CALDESC:Eventos para Agenda Cofrade 365 Días
REFRESH-INTERVAL;VALUE=DURATION:PT1H
X-Robots-Tag:noindex
X-PUBLISHED-TTL:PT1H
BEGIN:VTIMEZONE
TZID:UTC
BEGIN:STANDARD
TZOFFSETFROM:+0000
TZOFFSETTO:+0000
TZNAME:UTC
DTSTART:20240101T000000
END:STANDARD
END:VTIMEZONE
BEGIN:VEVENT
DTSTART;TZID=UTC:20240118T210000
DTEND;TZID=UTC:20240118T223000
DTSTAMP:20260420T155204
CREATED:20240115T154120Z
LAST-MODIFIED:20240115T154120Z
UID:1520-1705611600-1705617000@cordobacapitalcofrade.com
SUMMARY:Igualá de costaleros de Nuestro Señor Jesucristo del Santo Sepulcro
DESCRIPTION:Igualá de costaleros de Nuestro Señor Jesucristo del Santo Sepulcro a las 21:00 horas en la Parroquia del Salvador y Santo Domingo de Silos (Compañía).
URL:https://cordobacapitalcofrade.com/agenda/iguala-de-costaleros-de-nuestro-senor-jesucristo-del-santo-sepulcro/
LOCATION:Parroquia Salvador y Santo Domingo de Silos (Compañía)\, Pl. de la Compañía\, 7\, Córdoba\, España
CATEGORIES:Igualás de costaleros
ATTACH;FMTTYPE=image/jpeg:https://cordobacapitalcofrade.com/wp-content/uploads/2024/01/410191179_338478705593677_424479569060272567_n.jpg
END:VEVENT
BEGIN:VEVENT
DTSTART;TZID=UTC:20240118T213000
DTEND;TZID=UTC:20240118T230000
DTSTAMP:20260420T155204
CREATED:20231230T162352Z
LAST-MODIFIED:20231230T162352Z
UID:1121-1705613400-1705618800@cordobacapitalcofrade.com
SUMMARY:Igualá de costaleros de Nuestro Padre Jesús de los Reyes
DESCRIPTION:Igualá de costaleros de Nuestro Padre Jesús de los Reyes a las 21:30 horas en la Real Parroquia de San Lorenzo Mártir.
URL:https://cordobacapitalcofrade.com/agenda/iguala-de-costaleros-de-nuestro-padre-jesus-de-los-reyes/
LOCATION:Real Parroquia de San Lorenzo Mártir\, Pl. de San Lorenzo\, 5\, Córdoba\, España
CATEGORIES:Igualás de costaleros
ATTACH;FMTTYPE=image/jpeg:https://cordobacapitalcofrade.com/wp-content/uploads/2023/12/409875880_368409022369533_2866648653649325986_n.jpg
END:VEVENT
END:VCALENDAR