BEGIN:VCALENDAR
VERSION:2.0
PRODID:-//Agenda Cofrade 365 Días - ECPv6.3.7//NONSGML v1.0//EN
CALSCALE:GREGORIAN
METHOD:PUBLISH
X-ORIGINAL-URL:https://cordobacapitalcofrade.com
X-WR-CALDESC:Eventos para Agenda Cofrade 365 Días
REFRESH-INTERVAL;VALUE=DURATION:PT1H
X-Robots-Tag:noindex
X-PUBLISHED-TTL:PT1H
BEGIN:VTIMEZONE
TZID:UTC
BEGIN:STANDARD
TZOFFSETFROM:+0000
TZOFFSETTO:+0000
TZNAME:UTC
DTSTART:20240101T000000
END:STANDARD
END:VTIMEZONE
BEGIN:VEVENT
DTSTART;TZID=UTC:20240121T090000
DTEND;TZID=UTC:20240121T103000
DTSTAMP:20260423T000942
CREATED:20231231T143539Z
LAST-MODIFIED:20231231T143539Z
UID:1141-1705827600-1705833000@cordobacapitalcofrade.com
SUMMARY:Igualá de costaleros del Santísimo Cristo de las Penas
DESCRIPTION:Igualá de costaleros del Santísimo Cristo de las Penas a las 09:00 horas en la Parroquia de Santiago Apóstol.
URL:https://cordobacapitalcofrade.com/agenda/iguala-de-costaleros-del-santisimo-cristo-de-las-penas/
LOCATION:Parroquia de Santiago Apóstol\, C. de Agustín Moreno\, 26\, 14002 Córdoba\, Córdoba\, España
CATEGORIES:Igualás de costaleros
ATTACH;FMTTYPE=image/jpeg:https://cordobacapitalcofrade.com/wp-content/uploads/2023/12/399715116_773539141484979_5431279930476235626_n.jpg
END:VEVENT
BEGIN:VEVENT
DTSTART;TZID=UTC:20240121T100000
DTEND;TZID=UTC:20240121T113000
DTSTAMP:20260423T000942
CREATED:20240115T161620Z
LAST-MODIFIED:20240115T161620Z
UID:1559-1705831200-1705836600@cordobacapitalcofrade.com
SUMMARY:Igualá de costaleros de Nuestra Señora del Rosario Coronada
DESCRIPTION:Igualá de costaleros de Nuestra Señora del Rosario Coronada a las 10:00 horas en la Real Iglesia de San Pablo.
URL:https://cordobacapitalcofrade.com/agenda/iguala-de-costaleros-de-nuestra-senora-del-rosario-coronada/
LOCATION:Real Iglesia de San Pablo\, C. Capitulares\, 18\, Córdoba\, España
CATEGORIES:Igualás de costaleros
ATTACH;FMTTYPE=image/jpeg:https://cordobacapitalcofrade.com/wp-content/uploads/2024/01/405867293_750215133813439_6831703833099303288_n.jpg
END:VEVENT
BEGIN:VEVENT
DTSTART;TZID=UTC:20240121T100000
DTEND;TZID=UTC:20240121T113000
DTSTAMP:20260423T000942
CREATED:20240115T161825Z
LAST-MODIFIED:20240115T161825Z
UID:1562-1705831200-1705836600@cordobacapitalcofrade.com
SUMMARY:Igualá de costaleros del Santísimo Cristo de la Clemencia
DESCRIPTION:Igualá de costaleros del Santísimo Cristo de la Clemencia a las 10:00 horas en el lugar de salida de la Cofradía en la Plaza de Capuchinos.
URL:https://cordobacapitalcofrade.com/agenda/iguala-de-costaleros-del-santisimo-cristo-de-la-clemencia/
LOCATION:Plaza de Capuchinos\, Cordoba\, Cordoba\, Cordoba\, 14001\, España
CATEGORIES:Igualás de costaleros
ATTACH;FMTTYPE=image/jpeg:https://cordobacapitalcofrade.com/wp-content/uploads/2024/01/402507793_738616441629283_4126077897641715938_n.jpg
END:VEVENT
BEGIN:VEVENT
DTSTART;TZID=UTC:20240121T110000
DTEND;TZID=UTC:20240121T123000
DTSTAMP:20260423T000942
CREATED:20231230T125017Z
LAST-MODIFIED:20231230T125959Z
UID:1026-1705834800-1705840200@cordobacapitalcofrade.com
SUMMARY:Igualá de costaleros de Nuestro Padre Jesús de la Bondad
DESCRIPTION:Igualá de costaleros de Nuestro Padre Jesús de la Bondad a las 11:00 horas en el Santuario de Nuestra Señora de la Fuensanta.
URL:https://cordobacapitalcofrade.com/agenda/iguala-de-costaleros-de-nuestro-padre-jesus-de-la-bondad/
LOCATION:Santuario de Nuestra Señora de la Fuensanta\, Pl. Santuario de la Fuensanta\, s/n\, Sureste\, 14010 Córdoba\, Córdoba\, España
CATEGORIES:Igualás de costaleros
ATTACH;FMTTYPE=image/jpeg:https://cordobacapitalcofrade.com/wp-content/uploads/2023/12/407476665_686867946919318_4092692623189868804_n.jpg
END:VEVENT
BEGIN:VEVENT
DTSTART;TZID=UTC:20240121T110000
DTEND;TZID=UTC:20240121T123000
DTSTAMP:20260423T000942
CREATED:20240115T160710Z
LAST-MODIFIED:20240115T160710Z
UID:1548-1705834800-1705840200@cordobacapitalcofrade.com
SUMMARY:Igualá de costaleros de Nuestro Padre Jesús del Perdón
DESCRIPTION:Igualá de costaleros de Nuestro Padre Jesús del Perdón a las 11:00 horas en el Centro Parroquial «Carmen Márquez Criado».
URL:https://cordobacapitalcofrade.com/agenda/iguala-de-costaleros-de-nuestro-padre-jesus-del-perdon/
LOCATION:Salones Parroquiales de la Trinidad\, C. Sánchez de Feria\, 13\, Córdoba\, España
CATEGORIES:Igualás de costaleros
ATTACH;FMTTYPE=image/jpeg:https://cordobacapitalcofrade.com/wp-content/uploads/2024/01/412035234_770611205109584_1383583220657046385_n.jpg
END:VEVENT
BEGIN:VEVENT
DTSTART;TZID=UTC:20240121T110000
DTEND;TZID=UTC:20240121T123000
DTSTAMP:20260423T000942
CREATED:20240115T161310Z
LAST-MODIFIED:20240115T161310Z
UID:1554-1705834800-1705840200@cordobacapitalcofrade.com
SUMMARY:Igualá de costaleros de Nuestra Señora de las Angustias Coronada
DESCRIPTION:Igualá de costaleros de Nuestra Señora de las Angustias Coronada a las 11:00 horas en la Iglesia Conventual de San Agustín.
URL:https://cordobacapitalcofrade.com/agenda/iguala-de-costaleros-de-nuestra-senora-de-las-angustias-coronada/
LOCATION:Iglesia Conventual de San Agustín\, Pl. de San Agustín\, s/n\, Centro\, 14001 Córdoba\, Córdoba\, España
CATEGORIES:Igualás de costaleros
ATTACH;FMTTYPE=image/jpeg:https://cordobacapitalcofrade.com/wp-content/uploads/2024/01/408929006_653184297028978_4384797973606408550_n.jpg
END:VEVENT
BEGIN:VEVENT
DTSTART;TZID=UTC:20240121T120000
DTEND;TZID=UTC:20240121T133000
DTSTAMP:20260423T000942
CREATED:20240114T140000Z
LAST-MODIFIED:20240114T140000Z
UID:1456-1705838400-1705843800@cordobacapitalcofrade.com
SUMMARY:Igualá de costaleros de Nuestra Señora de la Salud
DESCRIPTION:Igualá de costaleros de Nuestra Señora de la Salud a las 12:00 horas en la Parroquia de Santa Victoria.
URL:https://cordobacapitalcofrade.com/agenda/iguala-de-costaleros-de-nuestra-senora-de-la-salud/
LOCATION:Parroquia de Santa Victoria\, C. Párroco Agustín Molina\, 20\, Nte. Sierra\, 14960 Córdoba\, Córdoba\, España
CATEGORIES:Igualás de costaleros
ATTACH;FMTTYPE=image/jpeg:https://cordobacapitalcofrade.com/wp-content/uploads/2024/01/418727042_677856371180895_8788164124943623385_n.jpg
END:VEVENT
BEGIN:VEVENT
DTSTART;TZID=UTC:20240121T170000
DTEND;TZID=UTC:20240121T183000
DTSTAMP:20260423T000942
CREATED:20240115T161001Z
LAST-MODIFIED:20240115T161001Z
UID:1551-1705856400-1705861800@cordobacapitalcofrade.com
SUMMARY:Igualá de costaleros de Nuestro Padre Jesús del Calvario
DESCRIPTION:Igualá de costaleros de Nuestro Padre Jesús del Calvario a las 17:00 horas en la Casa de Hermandad sita en la C/ Prolongación Escañuela\, 1.
URL:https://cordobacapitalcofrade.com/agenda/iguala-de-costaleros-de-nuestro-padre-jesus-del-calvario/
LOCATION:Casa de Hermandad del Calvario\, C. Escañuela\, 1\, Centro\, 14002 Córdoba\, Córdoba\, España
CATEGORIES:Igualás de costaleros
ATTACH;FMTTYPE=image/jpeg:https://cordobacapitalcofrade.com/wp-content/uploads/2024/01/410734740_675758848006673_1103451480367249874_n.jpg
END:VEVENT
END:VCALENDAR