BEGIN:VCALENDAR
VERSION:2.0
PRODID:-//Agenda Cofrade 365 Días - ECPv6.3.7//NONSGML v1.0//EN
CALSCALE:GREGORIAN
METHOD:PUBLISH
X-ORIGINAL-URL:https://cordobacapitalcofrade.com
X-WR-CALDESC:Eventos para Agenda Cofrade 365 Días
REFRESH-INTERVAL;VALUE=DURATION:PT1H
X-Robots-Tag:noindex
X-PUBLISHED-TTL:PT1H
BEGIN:VTIMEZONE
TZID:UTC
BEGIN:STANDARD
TZOFFSETFROM:+0000
TZOFFSETTO:+0000
TZNAME:UTC
DTSTART:20240101T000000
END:STANDARD
END:VTIMEZONE
BEGIN:VEVENT
DTSTART;TZID=UTC:20240127T110000
DTEND;TZID=UTC:20240127T123000
DTSTAMP:20260423T023141
CREATED:20231230T140538Z
LAST-MODIFIED:20231230T140538Z
UID:1070-1706353200-1706358600@cordobacapitalcofrade.com
SUMMARY:Igualá de costaleros de Nuestro Padre Jesús Nazareno de la Compasión
DESCRIPTION:Igualá de costaleros de Nuestro Padre Jesús Nazareno de la Compasión a las 11:00 horas en la Parroquia de San Isidro Labrador.
URL:https://cordobacapitalcofrade.com/agenda/iguala-de-costaleros-de-nuestro-padre-jesus-nazareno-de-la-compasion/
LOCATION:Parroquia de San Isidro Labrador\, Avenida Principal\, 14193 Córdoba\, Córdoba\, España
CATEGORIES:Igualás de costaleros
ATTACH;FMTTYPE=image/jpeg:https://cordobacapitalcofrade.com/wp-content/uploads/2023/12/406785583_2025820967787617_407070299636843675_n.jpg
END:VEVENT
BEGIN:VEVENT
DTSTART;TZID=UTC:20240127T160000
DTEND;TZID=UTC:20240127T190000
DTSTAMP:20260423T023141
CREATED:20240109T184301Z
LAST-MODIFIED:20240109T184301Z
UID:1441-1706371200-1706382000@cordobacapitalcofrade.com
SUMMARY:Igualá de costaleros de Nuestro Padre Jesús de la Sentencia y María Santísima de Gracia y Amparo
DESCRIPTION:Igualá de costaleros de Nuestro Padre Jesús de la Sentencia y María Santísima de Gracia y Amparo a las 16:00 horas en la Plaza de San Nicolás.
URL:https://cordobacapitalcofrade.com/agenda/iguala-de-costaleros-de-nuestro-padre-jesus-de-la-sentencia-y-maria-santisima-de-gracia-y-amparo/
LOCATION:Parroquia de San Nicolás de la Villa\, Pl. de San Nicolás\, 14003 Córdoba\, Córdoba\, España
CATEGORIES:Igualás de costaleros
ATTACH;FMTTYPE=image/jpeg:https://cordobacapitalcofrade.com/wp-content/uploads/2024/01/405736765_749042760587010_8496771884102924793_n.jpg
END:VEVENT
BEGIN:VEVENT
DTSTART;TZID=UTC:20240127T203000
DTEND;TZID=UTC:20240127T220000
DTSTAMP:20260423T023141
CREATED:20240119T164704Z
LAST-MODIFIED:20240119T164704Z
UID:1781-1706387400-1706392800@cordobacapitalcofrade.com
SUMMARY:Igualá Stmo. Cristo de la Expiración
DESCRIPTION:Igualá Stmo. Cristo de la Expiración tendrá lugar el 27 de enero a las 20:30 horas\, en la iglesia de San Pablo .Obligatorio asistir con calzado de salida.
URL:https://cordobacapitalcofrade.com/agenda/iguala-stmo-cristo-de-la-expiracion/
LOCATION:Real Iglesia de San Pablo\, C. Capitulares\, 18\, Córdoba\, España
CATEGORIES:Igualás de costaleros
ATTACH;FMTTYPE=image/jpeg:https://cordobacapitalcofrade.com/wp-content/uploads/2024/01/1705681393640_1705681385892.jpg
END:VEVENT
END:VCALENDAR