BEGIN:VCALENDAR
VERSION:2.0
PRODID:-//Agenda Cofrade 365 Días - ECPv6.3.7//NONSGML v1.0//EN
CALSCALE:GREGORIAN
METHOD:PUBLISH
X-ORIGINAL-URL:https://cordobacapitalcofrade.com
X-WR-CALDESC:Eventos para Agenda Cofrade 365 Días
REFRESH-INTERVAL;VALUE=DURATION:PT1H
X-Robots-Tag:noindex
X-PUBLISHED-TTL:PT1H
BEGIN:VTIMEZONE
TZID:UTC
BEGIN:STANDARD
TZOFFSETFROM:+0000
TZOFFSETTO:+0000
TZNAME:UTC
DTSTART:20240101T000000
END:STANDARD
END:VTIMEZONE
BEGIN:VEVENT
DTSTART;TZID=UTC:20240128T110000
DTEND;TZID=UTC:20240128T123000
DTSTAMP:20260420T142851
CREATED:20240106T142741Z
LAST-MODIFIED:20240106T142741Z
UID:1281-1706439600-1706445000@cordobacapitalcofrade.com
SUMMARY:Igualá de costaleros de Nuestro Padre Jesús de la Oración en el Huerto
DESCRIPTION:Igualá de costaleros de Nuestro Padre Jesús de la Oración en el Huerto a las 11:00 horas en los Patios de San Francisco
URL:https://cordobacapitalcofrade.com/agenda/iguala-de-costaleros-de-nuestro-padre-jesus-de-la-oracion-en-el-huerto/
LOCATION:Parroquia de San Francisco y San Eulogio\, C. Compás de San Francisco\, 0\, Córdoba\, España
CATEGORIES:Igualás de costaleros
ATTACH;FMTTYPE=image/jpeg:https://cordobacapitalcofrade.com/wp-content/uploads/2024/01/Huerto.jpeg
END:VEVENT
BEGIN:VEVENT
DTSTART;TZID=UTC:20240128T113000
DTEND;TZID=UTC:20240128T130000
DTSTAMP:20260420T142851
CREATED:20240119T183651Z
LAST-MODIFIED:20240119T183651Z
UID:1841-1706441400-1706446800@cordobacapitalcofrade.com
SUMMARY:Igualá de costaleros del Santísimo Cristo de la Buena Muerte
DESCRIPTION:Igualá de costaleros del Santísimo Cristo de la Buena Muerte a las 11:30 horas en el Patio de la Real Colegiata de San Hipólito.
URL:https://cordobacapitalcofrade.com/agenda/iguala-de-costaleros-del-santisimo-cristo-de-la-buena-muerte/
LOCATION:Patio Real Colegiata de San Hipólito\, Av. del Gran Capitán\, Centro\, 14008 Córdoba\, Córdoba\, España
CATEGORIES:Igualás de costaleros
ATTACH;FMTTYPE=image/jpeg:https://cordobacapitalcofrade.com/wp-content/uploads/2024/01/402650443_330471043065091_8166710853873567038_n.jpg
END:VEVENT
END:VCALENDAR