BEGIN:VCALENDAR
VERSION:2.0
PRODID:-//Agenda Cofrade 365 Días - ECPv6.3.7//NONSGML v1.0//EN
CALSCALE:GREGORIAN
METHOD:PUBLISH
X-ORIGINAL-URL:https://cordobacapitalcofrade.com
X-WR-CALDESC:Eventos para Agenda Cofrade 365 Días
REFRESH-INTERVAL;VALUE=DURATION:PT1H
X-Robots-Tag:noindex
X-PUBLISHED-TTL:PT1H
BEGIN:VTIMEZONE
TZID:UTC
BEGIN:STANDARD
TZOFFSETFROM:+0000
TZOFFSETTO:+0000
TZNAME:UTC
DTSTART:20240101T000000
END:STANDARD
END:VTIMEZONE
BEGIN:VEVENT
DTSTART;TZID=UTC:20240425T200000
DTEND;TZID=UTC:20240425T210000
DTSTAMP:20260419T215655
CREATED:20240422T125720Z
LAST-MODIFIED:20240422T125720Z
UID:2943-1714075200-1714078800@cordobacapitalcofrade.com
SUMMARY:Igualá de costaleros del Corpus Christi de la Hermandad del Remedio de Ánimas
DESCRIPTION:Igualá de costaleros del Corpus Christi a las 20:00 horas en el Pórtico del Santuario de María Auxiliadora.
URL:https://cordobacapitalcofrade.com/agenda/iguala-de-costaleros-del-corpus-christi-de-la-hermandad-del-remedio-de-animas/
LOCATION:Santuario de María Auxiliadora\, C. María Auxiliadora\, 8\, Centro\, 14002 Córdoba\, Córdoba\, España
CATEGORIES:Igualás de costaleros
ATTACH;FMTTYPE=image/jpeg:https://cordobacapitalcofrade.com/wp-content/uploads/2024/04/438096791_826477896190425_5862841696285819496_n.jpg
END:VEVENT
END:VCALENDAR