BEGIN:VCALENDAR
VERSION:2.0
PRODID:-//Agenda Cofrade 365 Días - ECPv6.3.7//NONSGML v1.0//EN
CALSCALE:GREGORIAN
METHOD:PUBLISH
X-WR-CALNAME:Agenda Cofrade 365 Días
X-ORIGINAL-URL:https://cordobacapitalcofrade.com
X-WR-CALDESC:Eventos para Agenda Cofrade 365 Días
REFRESH-INTERVAL;VALUE=DURATION:PT1H
X-Robots-Tag:noindex
X-PUBLISHED-TTL:PT1H
BEGIN:VTIMEZONE
TZID:UTC
BEGIN:STANDARD
TZOFFSETFROM:+0000
TZOFFSETTO:+0000
TZNAME:UTC
DTSTART:20250101T000000
END:STANDARD
END:VTIMEZONE
BEGIN:VEVENT
DTSTART;TZID=UTC:20250314T210000
DTEND;TZID=UTC:20250314T230000
DTSTAMP:20260425T113617
CREATED:20241130T151715Z
LAST-MODIFIED:20241130T151715Z
UID:4389-1741986000-1741993200@cordobacapitalcofrade.com
SUMMARY:Vía Crucis del Santísimo Cristo de las Almas
DESCRIPTION:Vía Crucis del Santísimo Cristo de las Almas\, tendrá lugar el 14 de marzo a las 21 horas\, desde la Parroquia de la Consolación por las calles de la feligresía.
URL:https://cordobacapitalcofrade.com/agenda/via-crucis-del-santisimo-cristo-de-las-almas-2/
LOCATION:Parroquia de Nuestra Señora de la Consolación\, C. Historiador Dozy\, 20\, Córdoba\, España
CATEGORIES:Muestras,Navidad,Vía Crucis
ATTACH;FMTTYPE=image/jpeg:https://cordobacapitalcofrade.com/wp-content/uploads/2024/11/IMG_20241130_161521.jpg
END:VEVENT
END:VCALENDAR