BEGIN:VCALENDAR
VERSION:2.0
PRODID:-//Agenda Cofrade 365 Días - ECPv6.3.7//NONSGML v1.0//EN
CALSCALE:GREGORIAN
METHOD:PUBLISH
X-ORIGINAL-URL:https://cordobacapitalcofrade.com
X-WR-CALDESC:Eventos para Agenda Cofrade 365 Días
REFRESH-INTERVAL;VALUE=DURATION:PT1H
X-Robots-Tag:noindex
X-PUBLISHED-TTL:PT1H
BEGIN:VTIMEZONE
TZID:UTC
BEGIN:STANDARD
TZOFFSETFROM:+0000
TZOFFSETTO:+0000
TZNAME:UTC
DTSTART:20250101T000000
END:STANDARD
END:VTIMEZONE
BEGIN:VEVENT
DTSTART;TZID=UTC:20250314T200000
DTEND;TZID=UTC:20250314T213000
DTSTAMP:20260423T043508
CREATED:20250312T141119Z
LAST-MODIFIED:20250312T141119Z
UID:5564-1741982400-1741987800@cordobacapitalcofrade.com
SUMMARY:VIII Pregón de las Siete Palabras
DESCRIPTION:VIII Pregón de las Siete Palabras a cargo del Muy Ilustre Sr. D. Carlos Jesús Gallardo Panadero\, Canónigo de la Santa Iglesia Catedral y Rector del Seminario\, a las 20:00 horas en la Iglesia de la Merced.
URL:https://cordobacapitalcofrade.com/agenda/viii-pregon-de-las-siete-palabras-2/
LOCATION:Iglesia de la Merced\, Pl. de Colón\, 15\, Córdoba\, Córdoba\, 14001\, España
CATEGORIES:Pregón
ATTACH;FMTTYPE=image/jpeg:https://cordobacapitalcofrade.com/wp-content/uploads/2025/03/480552984_1080352820798496_396599755200734860_n.jpg
END:VEVENT
END:VCALENDAR