BEGIN:VCALENDAR
VERSION:2.0
PRODID:-//Agenda Cofrade 365 Días - ECPv6.3.7//NONSGML v1.0//EN
CALSCALE:GREGORIAN
METHOD:PUBLISH
X-ORIGINAL-URL:https://cordobacapitalcofrade.com
X-WR-CALDESC:Eventos para Agenda Cofrade 365 Días
REFRESH-INTERVAL;VALUE=DURATION:PT1H
X-Robots-Tag:noindex
X-PUBLISHED-TTL:PT1H
BEGIN:VTIMEZONE
TZID:UTC
BEGIN:STANDARD
TZOFFSETFROM:+0000
TZOFFSETTO:+0000
TZNAME:UTC
DTSTART:20240101T000000
END:STANDARD
END:VTIMEZONE
BEGIN:VEVENT
DTSTART;TZID=UTC:20241005T190000
DTEND;TZID=UTC:20241005T230000
DTSTAMP:20260420T154952
CREATED:20240924T171343Z
LAST-MODIFIED:20240930T141600Z
UID:3606-1728154800-1728169200@cordobacapitalcofrade.com
SUMMARY:Procesión de las Velas Hdad. De Fátima
DESCRIPTION:Procesión de las velas con la imagen de Ntra. Sra. De Fátima visitará al la Hermandad de la O. Tendrá lugar el 5 de octubre con la Sagrada Eucaristía de las 19 horas en la Parroquia de Fátima\, a las 21 horas comenzará la procesión. \nRecorrido ida: Salida del Templo\, Arcos de la Frontera\, Historiador Jaén Morente\, Arcos de la Frontera\, Avenida Virgen de Fátima\, Plaza Mahatma Gandhi\, Parroquia de Ntra. Sra. De la Aurora. Acompañado por el rezo del Santo Rosario. \nRecorrido vuelta: Parroquia de Ntra. Sra. De la Aurora\, Plaza Mahatma Gandhi\, Ntra. Sra. De la Merced\, Doctor Nevado del Rey\, Arcos de la Frontera\, Avenida Virgen de Fátima\, Arcos de la Frontera\, entrada al Templo. Acompañamiento musical en el recorrido de vuelta de la Banda de Cornetas y Tambores Coronación de Espinas.
URL:https://cordobacapitalcofrade.com/agenda/procesion-de-las-velas-hdad-de-fatima/
LOCATION:Parroquia Virgen de Fátima\, Calle Arcos de la Frontera\, 23\, Córdoba\, Córdoba\, España
CATEGORIES:Procesión
ATTACH;FMTTYPE=image/jpeg:https://cordobacapitalcofrade.com/wp-content/uploads/2024/09/WhatsApp-Image-2024-09-24-at-15.12.21.jpeg
END:VEVENT
BEGIN:VEVENT
DTSTART;TZID=UTC:20241005T203000
DTEND;TZID=UTC:20241005T223000
DTSTAMP:20260420T154952
CREATED:20240831T112602Z
LAST-MODIFIED:20240930T143805Z
UID:3308-1728160200-1728167400@cordobacapitalcofrade.com
SUMMARY:Procesión Virgen de Guadalupe (Franciscanos)
DESCRIPTION:Virgen de Guadalupe de la Parroquia y Colegio de Franciscanos\, saldrá en procesión el 5 de octubre\, en conmemoración del 800 aniversario de la impresión de las llagas de San Francisco. Con el siguiente recorrido: salida (20:30 horas)\, Avenida del 28 de febrero\, Avenida de Rabanales\, San Perfecto\, Sagunto\, Platero Pedro de Bares\, Avenida del 28 de febrero y Entrada. \nLos acompañamientos musicales serán tras San Francisco de Asís\, la Agrupación Musical «Sagrada Cena» de Córdoba y tras la Virgen de Guadalupe\, la Banda de Música «Nuestra Señora de la Estrella» de Córdoba.
URL:https://cordobacapitalcofrade.com/agenda/procesion-virgen-de-guadalupe-franciscanos/
LOCATION:Parroquia de Santa María de Guadalupe (Franciscanos)\, Av. del 28 de Febrero\, 3\, Levante\, 14007 Córdoba\, Córdoba\, España
CATEGORIES:Procesión
ATTACH;FMTTYPE=image/jpeg:https://cordobacapitalcofrade.com/wp-content/uploads/2024/08/148db454-2a20-4fc9-a243-5843e5932355_16-9-aspect-ratio_default_0_x525y775.jpg
END:VEVENT
BEGIN:VEVENT
DTSTART;TZID=UTC:20241005T210000
DTEND;TZID=UTC:20241005T233000
DTSTAMP:20260420T154952
CREATED:20240930T145810Z
LAST-MODIFIED:20241002T130046Z
UID:3659-1728162000-1728171000@cordobacapitalcofrade.com
SUMMARY:Procesión de Nuestra Señora del Rosario
DESCRIPTION:Procesión de Nuestra Señora del Rosario desde la Iglesia Conventual de San Agustín con este recorrido: Salida (21:00 horas)\, Plaza de San Agustín\, Rejas de Don Gome\, Santa Isabel\, Santa Marina\, Moriscos\, Costanillas\, Rivas y Palmas\, Montero\, Obispo López Criado\, San Agustín\, Plaza de San Agustín y Entrada. Será acompañada musicalmente por la Banda de Música «María Santísima de la Esperanza» de Córdoba.
URL:https://cordobacapitalcofrade.com/agenda/procesion-de-nuestra-senora-del-rosario/
LOCATION:Iglesia Conventual de San Agustín\, Pl. de San Agustín\, s/n\, Centro\, 14001 Córdoba\, Córdoba\, España
CATEGORIES:Procesión
ATTACH;FMTTYPE=image/jpeg:https://cordobacapitalcofrade.com/wp-content/uploads/2024/09/Procesion-Rosario-San-Agustin-0077-min-scaled.jpg
END:VEVENT
BEGIN:VEVENT
DTSTART;TZID=UTC:20241006T100000
DTEND;TZID=UTC:20241006T140000
DTSTAMP:20260420T154952
CREATED:20240911T145919Z
LAST-MODIFIED:20240911T145919Z
UID:3478-1728208800-1728223200@cordobacapitalcofrade.com
SUMMARY:Último día de Triduo y Procesión Ntra. Sra. Del Rosario
DESCRIPTION:Último día de Triduo y Procesión Ntra. Sra. Del Rosario\, tendrá lugar el 6 de octubre con el siguiente orden: \n\n10:00 horas: Solemne Eucaristía con la participación del Coro La Unión.\n11:15 horas: Procesión por las calles de la feligresía\, con el acompañamiento musical de la Banda de Música Stmo. Cristo del Amor.
URL:https://cordobacapitalcofrade.com/agenda/ultimo-dia-de-triduo-y-procesion-ntra-sra-del-rosario/
LOCATION:Iglesia de Ntra. Sra. Del Rosario\, Plaza de Electromecánicas\, Córdoba\, Córdoba\, 14005\, España
CATEGORIES:Cultos,Procesión
ATTACH;FMTTYPE=image/webp:https://cordobacapitalcofrade.com/wp-content/uploads/2024/09/rosario-electro-mecanicas-kMvC-1248x698@abc.webp
END:VEVENT
BEGIN:VEVENT
DTSTART;TZID=UTC:20241012T183000
DTEND;TZID=UTC:20241012T203000
DTSTAMP:20260420T154952
CREATED:20241007T130033Z
LAST-MODIFIED:20241007T131207Z
UID:3714-1728757800-1728765000@cordobacapitalcofrade.com
SUMMARY:Rosario Vespertino Extraordinario de Traslado de María Santísima del Dulce Nombre
DESCRIPTION:Rosario Vespertino Extraordinario de Traslado de María Santísima del Dulce Nombre con motivo del XL Aniversario de su bendición y la Imposición de la faja de General de Ejército\,  horas desde la Parroquia de San José y Espíritu Santo hasta la Santa Iglesia Catedral con este recorrido: Salida (18:00 horas)\, Paseo Cristo del Descendimiento\, Avenida de la Diputación\, Plaza de Santa Teresa\, Bajada del Puente\, Puente Romano\, Plaza del Triunfo\, Corregidor Luís de la Cerda\, Magistral González Francés\, Puerta de Santa Catalina\, Patio de los Naranjos y Entrada a la Santa Iglesia Catedral (19:30 horas). Acompañará musicalmente la Agrupación de Auroros de Benamejí (Córdoba).
URL:https://cordobacapitalcofrade.com/agenda/rosario-vespertino-extraordinario-de-traslado-de-maria-santisima-del-dulce-nombre/
LOCATION:Parroquia de San José y Espíritu Santo\, Pl. de Santa Teresa\, 1\, Córdoba\, España
CATEGORIES:Procesión,Rosario
ATTACH;FMTTYPE=image/webp:https://cordobacapitalcofrade.com/wp-content/uploads/2024/10/galeria-veracruz-cordoba7.webp
END:VEVENT
BEGIN:VEVENT
DTSTART;TZID=UTC:20241013T120000
DTEND;TZID=UTC:20241013T140000
DTSTAMP:20260420T154952
CREATED:20241009T165953Z
LAST-MODIFIED:20241009T165953Z
UID:3755-1728820800-1728828000@cordobacapitalcofrade.com
SUMMARY:Procesión infantil de Fátima
DESCRIPTION:Procesión infantil de Ntra. Sra. De Fátima\, tendrá lugar el 13 de octubre a las 12:00 horas.
URL:https://cordobacapitalcofrade.com/agenda/procesion-infantil-de-fatima/
LOCATION:Parroquia de Nuestra Señora de Fátima\, C. Arcos de la Frontera\, 23\, Levante\, 14014 Córdoba\, Córdoba\, España
CATEGORIES:Procesión
ATTACH;FMTTYPE=image/jpeg:https://cordobacapitalcofrade.com/wp-content/uploads/2024/10/WhatsApp-Image-2024-10-09-at-18.30.58.jpeg
END:VEVENT
BEGIN:VEVENT
DTSTART;TZID=UTC:20241013T193000
DTEND;TZID=UTC:20241013T223000
DTSTAMP:20260420T154952
CREATED:20241007T131449Z
LAST-MODIFIED:20241007T131449Z
UID:3720-1728847800-1728858600@cordobacapitalcofrade.com
SUMMARY:Procesión Extraordinaria de María Santísima del Dulce Nombre
DESCRIPTION:Procesión Extraordinaria de María Santísima del Dulce Nombre desde la Santa Iglesia Catedral hasta la Parroquia de San José y Espíritu Santo con este recorrido: Salida (19:30 horas)\, Patio de los Naranjos\, Puerta de Santa Catalina\, Magistral González Francés\, Corregidor Luís de la Cerda\, Plaza del Triunfo\, Puente Romano\, Bajada del Puente\, Plaza de Santa Teresa\, Infante Don Juan Manuel\, Batalla de los Piconeros\, Avenida de la Diputación Paseo Cristo del Descendimiento y Entrada (22:30 horas). Los acompañamientos musicales serán; en Cruz de Guía\, la Banda de Cornetas y Tambores «Nuestra Señora de la Fuensanta» de Córdoba y tras la Virgen\, la Banda de Música «Nuestra Señora de la Estrella» de Córdoba.
URL:https://cordobacapitalcofrade.com/agenda/procesion-extraordinaria-de-maria-santisima-del-dulce-nombre/
LOCATION:Santa Iglesia Catedral de Córdoba\, C. Cardenal Herrero\, 1\, Córdoba\, España
CATEGORIES:Procesión
ATTACH;FMTTYPE=image/jpeg:https://cordobacapitalcofrade.com/wp-content/uploads/2024/10/Vera-Cruz-2023-0853-min-scaled.jpg
END:VEVENT
BEGIN:VEVENT
DTSTART;TZID=UTC:20241020T120000
DTEND;TZID=UTC:20241020T143000
DTSTAMP:20260420T154952
CREATED:20241014T132916Z
LAST-MODIFIED:20241014T132916Z
UID:3766-1729425600-1729434600@cordobacapitalcofrade.com
SUMMARY:Procesión de la Divina Pastora de las Almas
DESCRIPTION:Procesión de la Divina Pastora de las Almas desde la Parroquia de San José y Espíritu Santo con este recorrido: Salida (12:00 horas)\, Paseo Cristo del Descendimiento\, Avenida de la Diputación\, Batalla de los Piconeros\, Infante don Juan Manuel\, Obispo Rojas Sandoval\, Fray Pedro de Córdoba\, Pio XII\, Beato Henares\, Doña Aldonza\, Tenerife\, Adalid\, Fray Pedro de Córdoba\, Infante don Juan Manuel\, Batalla de los Piconeros\, Avenida de la Diputación\, Paseo Cristo del Descendimiento y Entrada.
URL:https://cordobacapitalcofrade.com/agenda/procesion-de-la-divina-pastora-de-las-almas/
LOCATION:Parroquia de San José y Espíritu Santo\, Pl. de Santa Teresa\, 1\, Córdoba\, España
CATEGORIES:Procesión
ATTACH;FMTTYPE=image/webp:https://cordobacapitalcofrade.com/wp-content/uploads/2024/10/652bd209d011f.jpeg.webp
END:VEVENT
END:VCALENDAR