BEGIN:VCALENDAR
VERSION:2.0
PRODID:-//Agenda Cofrade 365 Días - ECPv6.3.7//NONSGML v1.0//EN
CALSCALE:GREGORIAN
METHOD:PUBLISH
X-WR-CALNAME:Agenda Cofrade 365 Días
X-ORIGINAL-URL:https://cordobacapitalcofrade.com
X-WR-CALDESC:Eventos para Agenda Cofrade 365 Días
REFRESH-INTERVAL;VALUE=DURATION:PT1H
X-Robots-Tag:noindex
X-PUBLISHED-TTL:PT1H
BEGIN:VTIMEZONE
TZID:UTC
BEGIN:STANDARD
TZOFFSETFROM:+0000
TZOFFSETTO:+0000
TZNAME:UTC
DTSTART:20240101T000000
END:STANDARD
END:VTIMEZONE
BEGIN:VEVENT
DTSTART;TZID=UTC:20241207T180000
DTEND;TZID=UTC:20241207T230000
DTSTAMP:20260420T052042
CREATED:20241130T145105Z
LAST-MODIFIED:20241130T145302Z
UID:4369-1733594400-1733612400@cordobacapitalcofrade.com
SUMMARY:Procesión y Vigilia Diocesana de la Inmaculada
DESCRIPTION:Vigilia Diocesana de la Inmaculada\, tendrá lugar el 7 de diciembre: \n\nA las 18 horas Procesión desde la Parroquia de la Compañía a la Santa Iglesia Catedral. Con el siguiente recorrido: Santa Victoria\, Juan Valera\, Ángel de Saavedra\, Blanco Belmonte\, Plaza Agrupación de Cofradías\, Conde y Luque\, Deanes\, Judería\, Torrijos\, Corregidor Luis de la Cerda\, Magistral González Francés\, Puerta de Santa Catalina\, Patio de los Naranjos y Entrada a la Santa Iglesia Catedral.\nA las 21 horas Vigilia de Oración en la Santa Iglesia Catedral\, presidida por el Obispo de la ciudad.Santa Victoria\, Juan Valera\, Ángel de Saavedra\, Blanco Belmonte\, Plaza Agrupación de Cofradías\, Conde y Luque\, Deanes\, Judería\, Torrijos\, Corregidor Luis de la Cerda\, Magistral González Francés\, Puerta de Santa Catalina\, Patio de los Naranjos y Entrada a la Santa Iglesia Catedral
URL:https://cordobacapitalcofrade.com/agenda/procesion-y-vigilia-diocesana-de-la-inmaculada/
LOCATION:Parroquia Salvador y Santo Domingo de Silos (Compañía)\, Pl. de la Compañía\, 7\, Córdoba\, España
CATEGORIES:Procesión
ATTACH;FMTTYPE=image/jpeg:https://cordobacapitalcofrade.com/wp-content/uploads/2024/11/WhatsApp-Image-2024-11-29-at-17.25.12.jpeg
END:VEVENT
BEGIN:VEVENT
DTSTART;TZID=UTC:20241214T170000
DTEND;TZID=UTC:20241214T200000
DTSTAMP:20260420T052042
CREATED:20241125T145032Z
LAST-MODIFIED:20241125T145032Z
UID:4237-1734195600-1734206400@cordobacapitalcofrade.com
SUMMARY:Procesión de Nuestra Señora de Belén
DESCRIPTION:Procesión de Nuestra Señora de Belén desde la Parroquia de Nuestra Señora de Belén con este recorrido: Salida (17:00 horas)\, Levante\, Escritor Carrillo Lasso\, Platero Pedro de Bares\, Avenida del Cairo\, Hermano Juan Fernández\, Islas Canarias\, Gibraltar\, Doctor Gómez Aguado\, Escritor Aguayo Godoy\, Plaza Nuestra Señora de Belén\, Escritor Gregorio Alfaro\, Escritor Juan Alfonso de Baena\, Hermano Juan Fernández\, Levante y Entrada.
URL:https://cordobacapitalcofrade.com/agenda/procesion-de-nuestra-senora-de-belen/
LOCATION:Parroquia de Nuestra Señora de Belén\, Levante\, 0\, 14007 Córdoba\, Córdoba\, España
CATEGORIES:Belenes y nacimientos,Procesión,Veneración
ATTACH;FMTTYPE=image/jpeg:https://cordobacapitalcofrade.com/wp-content/uploads/2024/11/fotos-procesion-belen1-1.jpg
END:VEVENT
BEGIN:VEVENT
DTSTART;TZID=UTC:20241230T170000
DTEND;TZID=UTC:20241230T191500
DTSTAMP:20260420T052042
CREATED:20241227T145451Z
LAST-MODIFIED:20241227T145451Z
UID:4725-1735578000-1735586100@cordobacapitalcofrade.com
SUMMARY:Salida Procesional del Divino Pastorcillo
DESCRIPTION:Salida Procesional del Divino Pastorcillo desde la nave de salida de la Iglesia Conventual del Santo Ángel (Capuchinos) con este recorrido: Salida (17:00 horas)\, Plaza de Capuchinos\, Conde de Torres Cabrera\, Domingo Muñoz\, Ramírez de Arellano\, Góngora\, San Álvaro\, Plaza de San Miguel\, San Zoilo\, Conde de Torres Cabrera\, Obispo Fitero\, Cardenal Toledo\, Ramírez de las Casas Deza\, Carbonell y Morand\, Plaza de Capuchinos y Entrada (19:15 horas). El acompañamiento musical correrá a cargo de la Agrupación Musical del El Carpio (Córdoba).
URL:https://cordobacapitalcofrade.com/agenda/salida-procesional-del-divino-pastorcillo-2/
LOCATION:Plaza de Capuchinos\, Cordoba\, Cordoba\, Cordoba\, 14001\, España
CATEGORIES:Procesión
ATTACH;FMTTYPE=image/jpeg:https://cordobacapitalcofrade.com/wp-content/uploads/2024/12/06e0e4ef-527f-45cc-b57f-703539c6c1a0_16-9-discover-aspect-ratio_default_0.jpg
END:VEVENT
END:VCALENDAR