BEGIN:VCALENDAR
VERSION:2.0
PRODID:-//Agenda Cofrade 365 Días - ECPv6.3.7//NONSGML v1.0//EN
CALSCALE:GREGORIAN
METHOD:PUBLISH
X-ORIGINAL-URL:https://cordobacapitalcofrade.com
X-WR-CALDESC:Eventos para Agenda Cofrade 365 Días
REFRESH-INTERVAL;VALUE=DURATION:PT1H
X-Robots-Tag:noindex
X-PUBLISHED-TTL:PT1H
BEGIN:VTIMEZONE
TZID:UTC
BEGIN:STANDARD
TZOFFSETFROM:+0000
TZOFFSETTO:+0000
TZNAME:UTC
DTSTART:20250101T000000
END:STANDARD
END:VTIMEZONE
BEGIN:VEVENT
DTSTART;TZID=UTC:20250111T170000
DTEND;TZID=UTC:20250111T203000
DTSTAMP:20260420T001019
CREATED:20250102T184817Z
LAST-MODIFIED:20250107T192647Z
UID:4823-1736614800-1736627400@cordobacapitalcofrade.com
SUMMARY:Procesión del Dulce Nombre de Jesús
DESCRIPTION:Procesión del Dulce Nombre de Jesús desde la Parroquia de San Fernando con este recorrido: Salida (17:00 horas)\, Joaquín Sama Naharro\, Colombia\, Marqués de Guadalcázar\, Goya\, Jardines Virgen de la Estrella\, Pintor Mariano Belmonte\, Joaquín Martínez Bockmarn\, Rafael de la Hoz Arderius\, Manuel Cuellar Ramos\, Doña Berenguela\, Antonio de la Torre y del Cerro\, Alcalde Pineda de las Infantas\, Joaquín Sama Naharro\, Beatríz Enríquez\, Buenos Aires\, Colombia\, Joaquín Sama Naharro y Entrada (20:30 horas). El acompañamiento musical correrá a cargo de la Agrupación Musical «Nuestro Padre Jesús de la Redención» de Córdoba.
URL:https://cordobacapitalcofrade.com/agenda/procesion-del-dulce-nombre-de-jesus/
LOCATION:Parroquia de San Fernando\, C. Goya\, 24\, 14006 Córdoba\, Córdoba\, España
CATEGORIES:Procesión
ATTACH;FMTTYPE=image/jpeg:https://cordobacapitalcofrade.com/wp-content/uploads/2025/01/Procesion-Nino-Jesus-Estrella-0019-min-scaled.jpg
END:VEVENT
BEGIN:VEVENT
DTSTART;TZID=UTC:20250118T113000
DTEND;TZID=UTC:20250118T213000
DTSTAMP:20260420T001019
CREATED:20250113T182559Z
LAST-MODIFIED:20250114T130516Z
UID:4915-1737199800-1737235800@cordobacapitalcofrade.com
SUMMARY:Salida Extraordinaria del Niño Jesús de la Compañía
DESCRIPTION:Salida Extraordinaria del Niño Jesús de la Compañía hasta la Santa Iglesia Catedral con motivo del Año Jubilar de la Esperanza 2025 siguiendo estos recorridos:  \nIDA: Salida (11:30 horas)\, Plaza de la Compañía\, Santa Victoria\, Juan Valera\, Ángel de Saavedra\, Blanco Belmonte\, Plaza Agrupación de Cofradías\, Conde y Luque\, Deanes\, Judería\, Cardenal Herrero\, Puerta de Santa Catalina\, Patio de los Naranjos y Entrada a la Santa Iglesia Catedral. \n– A las 13:00 horas. Solemne Eucaristía presidida por el Obispo de Córdoba D. Demetrio Fernández. \nVUELTA: Salida de la Santa Iglesia Catedral (19:00 horas)\, Patio de los Naranjos\, Puerta de Santa Catalina\, Cardenal Herreros\, Judería\, Deanes\, Buen Pastor\, Leiva Aguilar\, Valladares\, Plaza de Ramón y Cajal\, San Felipe\, San Nicolás\, Gondomar\, Plaza de las Tendillas\, Jesús y María\, Juan Varela\, Santa Victoria\, Plaza de la Compañía y Entrada. El acompañamiento musical correrá a cargo de la Agrupación Musical «Nuestro Padre Jesús de los Afligidos» de Puente Genil (Córdoba). 
URL:https://cordobacapitalcofrade.com/agenda/salida-extraordinaria-del-nino-jesus-de-la-compania/
LOCATION:Parroquia Salvador y Santo Domingo de Silos (Compañía)\, Pl. de la Compañía\, 7\, Córdoba\, España
CATEGORIES:Belenes y nacimientos,Procesión,Programa,Taller,Veneración
ATTACH;FMTTYPE=image/jpeg:https://cordobacapitalcofrade.com/wp-content/uploads/2025/01/Procesion-Nino-Jesus-Compania-0111-min-scaled.jpg
END:VEVENT
END:VCALENDAR