BEGIN:VCALENDAR
VERSION:2.0
PRODID:-//Agenda Cofrade 365 Días - ECPv6.3.7//NONSGML v1.0//EN
CALSCALE:GREGORIAN
METHOD:PUBLISH
X-WR-CALNAME:Agenda Cofrade 365 Días
X-ORIGINAL-URL:https://cordobacapitalcofrade.com
X-WR-CALDESC:Eventos para Agenda Cofrade 365 Días
REFRESH-INTERVAL;VALUE=DURATION:PT1H
X-Robots-Tag:noindex
X-PUBLISHED-TTL:PT1H
BEGIN:VTIMEZONE
TZID:UTC
BEGIN:STANDARD
TZOFFSETFROM:+0000
TZOFFSETTO:+0000
TZNAME:UTC
DTSTART:20240101T000000
END:STANDARD
END:VTIMEZONE
BEGIN:VEVENT
DTSTART;TZID=UTC:20240921T190000
DTEND;TZID=UTC:20240921T220000
DTSTAMP:20260424T230401
CREATED:20240901T171254Z
LAST-MODIFIED:20240901T171254Z
UID:3324-1726945200-1726956000@cordobacapitalcofrade.com
SUMMARY:Salida Procesional de la Divina Pastora
DESCRIPTION:Salida Procesional de la Divina Pastora\, tendrá lugar el 21 de septiembre a las 19 horas.
URL:https://cordobacapitalcofrade.com/agenda/salida-procesional-de-la-divina-pastora/
LOCATION:Iglesia conventual del Santo Ángel PP. Capuchinos\, Plaza de Capuchinos\, 5\, Córdoba\, Córdoba\, 14001\, España
CATEGORIES:Procesión
ATTACH;FMTTYPE=image/jpeg:https://cordobacapitalcofrade.com/wp-content/uploads/2024/09/IMG-20240901-WA0008.jpg
END:VEVENT
BEGIN:VEVENT
DTSTART;TZID=UTC:20240921T190000
DTEND;TZID=UTC:20240921T220000
DTSTAMP:20260424T230401
CREATED:20240903T163011Z
LAST-MODIFIED:20240903T163011Z
UID:3351-1726945200-1726956000@cordobacapitalcofrade.com
SUMMARY:Procesión de Nuestra Señora de Araceli
DESCRIPTION:Procesión de Nuestra Señora de Araceli desde la Parroquia de Nuestra Señora de Araceli siguiendo este recorrido: Salida (19:00 horas)\, Ángel Ganivet\, Ángel Avilés\, Arfe\, Avenida de los Mozárabes\, Paseo de la Victoria\, Ronda de los Tejares\, Alonso de Burgos\, Plaza del Escudo\, Plaza San Ignacio de Loyola\, Menéndez Pelayo\, José Zorrilla\, Concepción\, Conde de Gondomar\, Plaza de las Tendillas\, Jesús y María\, Juan Valera\, Santa Victoria\, Plaza de la Compañía y Entrada en la Parroquia del Salvador y Santo Domingo de Silos (Compañía). Los sones musicales serán los de la Agrupación Musical «La Humillación-Servitas» de Lucena (Córdoba).
URL:https://cordobacapitalcofrade.com/agenda/procesion-de-nuestra-senora-de-araceli/
LOCATION:Parroquia de Nuestra Señora de Araceli\, C. Ángel Ganivet\, 9\, Poniente Sur\, 14011 Córdoba\, Córdoba\, España
CATEGORIES:Procesión
ATTACH;FMTTYPE=image/jpeg:https://cordobacapitalcofrade.com/wp-content/uploads/2024/09/Procesion-Extraordinaria-Araceli-0231-min-scaled.jpg
END:VEVENT
BEGIN:VEVENT
DTSTART;TZID=UTC:20240921T193000
DTEND;TZID=UTC:20240921T213000
DTSTAMP:20260424T230401
CREATED:20240911T150543Z
LAST-MODIFIED:20240911T150543Z
UID:3483-1726947000-1726954200@cordobacapitalcofrade.com
SUMMARY:Salida procesional Santa Cruz
DESCRIPTION:Salida procesional Santa Cruz\, tendrá lugar el 21 de septiembre a las 19:30 horas\, con el siguiente recorrido: \nSalida\, San Basilio\, Puerta Sevilla\, Postrera\, Puerta Sevilla\, Enmedio\, Juan Pareja\, Postrera\, Martín de Roa\, San Basilio\, entrada.
URL:https://cordobacapitalcofrade.com/agenda/salida-procesional-santa-cruz/
LOCATION:Parroquia de Nuestra Señora de la Paz\, Córdoba\, C/San Basilio\, Córdoba\, España
CATEGORIES:Procesión
ATTACH;FMTTYPE=image/webp:https://cordobacapitalcofrade.com/wp-content/uploads/2024/09/procesion-santacruz-pasion-konG-1240x698@abc.webp
END:VEVENT
END:VCALENDAR