BEGIN:VCALENDAR
VERSION:2.0
PRODID:-//Agenda Cofrade 365 Días - ECPv6.3.7//NONSGML v1.0//EN
CALSCALE:GREGORIAN
METHOD:PUBLISH
X-ORIGINAL-URL:https://cordobacapitalcofrade.com
X-WR-CALDESC:Eventos para Agenda Cofrade 365 Días
REFRESH-INTERVAL;VALUE=DURATION:PT1H
X-Robots-Tag:noindex
X-PUBLISHED-TTL:PT1H
BEGIN:VTIMEZONE
TZID:UTC
BEGIN:STANDARD
TZOFFSETFROM:+0000
TZOFFSETTO:+0000
TZNAME:UTC
DTSTART:20240101T000000
END:STANDARD
END:VTIMEZONE
BEGIN:VEVENT
DTSTART;TZID=UTC:20240922T190000
DTEND;TZID=UTC:20240922T220000
DTSTAMP:20260424T203437
CREATED:20240916T151307Z
LAST-MODIFIED:20240916T151307Z
UID:3516-1727031600-1727042400@cordobacapitalcofrade.com
SUMMARY:Procesión de Nuestra Señora de los Dolores y del Rayo
DESCRIPTION:Procesión de Nuestra Señora de los Dolores y del Rayo desde la Parroquia de San José y Espíritu Santo con este recorrido: Salida (19:00 horas)\, Paseo Cristo del Descendimiento\, Avenida Diputación\, Virgen del Rayo\, Fray Pedro de Córdoba\, Adalid\, Tenerife\, Doña Aldonza\, Beato Henares\, Avenida de Cádiz\, Burgos\, Avenida Fray Albino\, Bajada del Puente\, Santo Cristo\, Virrey Moya\, Segunda de Miraflores\, Fernández de Córdoba\, Plaza de la Iglesia\, Avenida Diputación\, Paseo Cristo del Descendimiento y Entrada (22:00 horas). El acompañamiento musical será el de la Banda de Música del Saucejo (Sevilla).
URL:https://cordobacapitalcofrade.com/agenda/procesion-de-nuestra-senora-de-los-dolores-y-del-rayo/
LOCATION:Parroquia de San José y Espíritu Santo\, Pl. de Santa Teresa\, 1\, Córdoba\, España
CATEGORIES:Procesión
ATTACH;FMTTYPE=image/jpeg:https://cordobacapitalcofrade.com/wp-content/uploads/2024/09/1fbb0d9d-7160-4986-92cd-05daada12888_16-9-aspect-ratio_default_0.jpg
END:VEVENT
END:VCALENDAR