BEGIN:VCALENDAR
VERSION:2.0
PRODID:-//Agenda Cofrade 365 Días - ECPv6.3.7//NONSGML v1.0//EN
CALSCALE:GREGORIAN
METHOD:PUBLISH
X-ORIGINAL-URL:https://cordobacapitalcofrade.com
X-WR-CALDESC:Eventos para Agenda Cofrade 365 Días
REFRESH-INTERVAL;VALUE=DURATION:PT1H
X-Robots-Tag:noindex
X-PUBLISHED-TTL:PT1H
BEGIN:VTIMEZONE
TZID:UTC
BEGIN:STANDARD
TZOFFSETFROM:+0000
TZOFFSETTO:+0000
TZNAME:UTC
DTSTART:20240101T000000
END:STANDARD
END:VTIMEZONE
BEGIN:VEVENT
DTSTART;TZID=UTC:20240928T190000
DTEND;TZID=UTC:20240928T213000
DTSTAMP:20260423T194406
CREATED:20240913T112512Z
LAST-MODIFIED:20240913T112512Z
UID:3491-1727550000-1727559000@cordobacapitalcofrade.com
SUMMARY:Procesión de la Santa Cruz de la Hermandad del Cristo de Gracia
DESCRIPTION:Procesión de la Santa Cruz desde la Parroquia de Nuestra Señora de Gracia (Trinitarios) con este recorrido: Salida (19:00 horas)\, Plaza Cristo de Gracia\, María Auxiliadora\, Alvar Rodríguez\, Plaza San Juan de Letrán\, Montero\, Velasco\, Cristo\, Jesús del Calvario\, Plaza San Juan de Letrán\, Frailes\, Plaza Cristo de Gracia y Entrada. El acompañamiento musical correrá a cargo de la Agrupación Musical «Cristo de Gracia» de Córdoba.
URL:https://cordobacapitalcofrade.com/agenda/procesion-de-la-santa-cruz-de-la-hermandad-del-cristo-de-gracia/
LOCATION:Parroquia de Ntra. Sra. De Gracia y San Eulogio (P.P. Trinitarios)\, Plaza Cristo de Gracia\, 5\, Córdoba\, Córdoba\, 14002\, España
CATEGORIES:Procesión
ATTACH;FMTTYPE=image/jpeg:https://cordobacapitalcofrade.com/wp-content/uploads/2024/09/fe45e2eb-b18d-4753-863a-5f8a68dee212_16-9-aspect-ratio_default_0.jpg
END:VEVENT
BEGIN:VEVENT
DTSTART;TZID=UTC:20240928T210000
DTEND;TZID=UTC:20240928T230000
DTSTAMP:20260423T194406
CREATED:20240924T141052Z
LAST-MODIFIED:20240924T141052Z
UID:3597-1727557200-1727564400@cordobacapitalcofrade.com
SUMMARY:Procesión de Nuestra Señora de la Consolación
DESCRIPTION:Procesión de Nuestra Señora de la Consolación\, a las 21:00 horas desde la Parroquia de Nuestra Señora de la Consolación recorriendo las calles de la feligresía.
URL:https://cordobacapitalcofrade.com/agenda/procesion-de-nuestra-senora-de-la-consolacion/
LOCATION:Parroquia de Nuestra Señora de la Consolación\, C. Historiador Dozy\, 20\, Córdoba\, España
CATEGORIES:Procesión
ATTACH;FMTTYPE=image/jpeg:https://cordobacapitalcofrade.com/wp-content/uploads/2024/09/virgen-consolacion-procesionn-U10190148562kiE-1240x698@abc.jpeg
END:VEVENT
END:VCALENDAR