BEGIN:VCALENDAR
VERSION:2.0
PRODID:-//Agenda Cofrade 365 Días - ECPv6.3.7//NONSGML v1.0//EN
CALSCALE:GREGORIAN
METHOD:PUBLISH
X-ORIGINAL-URL:https://cordobacapitalcofrade.com
X-WR-CALDESC:Eventos para Agenda Cofrade 365 Días
REFRESH-INTERVAL;VALUE=DURATION:PT1H
X-Robots-Tag:noindex
X-PUBLISHED-TTL:PT1H
BEGIN:VTIMEZONE
TZID:UTC
BEGIN:STANDARD
TZOFFSETFROM:+0000
TZOFFSETTO:+0000
TZNAME:UTC
DTSTART:20240101T000000
END:STANDARD
END:VTIMEZONE
BEGIN:VEVENT
DTSTART;TZID=UTC:20240929T190000
DTEND;TZID=UTC:20240929T220000
DTSTAMP:20260423T170757
CREATED:20240820T154023Z
LAST-MODIFIED:20240924T170300Z
UID:3213-1727636400-1727647200@cordobacapitalcofrade.com
SUMMARY:Procesión de Ntra. Sra. Del Socorro Coronada
DESCRIPTION:Procesión de Ntra. Sra. Del Socorro Coronada\, tendrá lugar el día 29 de septiembre a las 19 horas. Entrada prevista a las 22 horas. Con el siguiente recorrido: Plaza del Socorro (19:00h)\, Plaza de la Almagra\, C/ Escultor Juan de Mesa\, Plaza De San Pedro\, C/ Don Rodrigo\, C/ Carlos Rubio\, Plaza de la Almagra\, C/ Gutiérrez de los Ríos\, C/ Cedaceros\, C/ Juramento\, C/ Pedro López\, C/ Rodríguez Marín (Espartería)\, Plaza de la Corredera y Plaza del Socorro (22:00h). \nAcompañamiento musical de la Banda de Música Ntra. Sra. De la Estrella.
URL:https://cordobacapitalcofrade.com/agenda/procesion-de-ntra-sra-del-socorro-coronada/
LOCATION:Ermita del Socorro\, Plaza del Socorro\, 1\, Córdoba\, Córdoba\, 14002\, España
CATEGORIES:Procesión
ATTACH;FMTTYPE=image/jpeg:https://cordobacapitalcofrade.com/wp-content/uploads/2024/08/procesion-socorro-2016-3.jpg
END:VEVENT
END:VCALENDAR